BEGIN:VCALENDAR
VERSION:2.0
PRODID:-//Autism Society Western New York - ECPv6.0.10//NONSGML v1.0//EN
CALSCALE:GREGORIAN
METHOD:PUBLISH
X-WR-CALNAME:Autism Society Western New York
X-ORIGINAL-URL:https://autismwny.org
X-WR-CALDESC:Events for Autism Society Western New York
REFRESH-INTERVAL;VALUE=DURATION:PT1H
X-Robots-Tag:noindex
X-PUBLISHED-TTL:PT1H
BEGIN:VTIMEZONE
TZID:America/New_York
BEGIN:DAYLIGHT
TZOFFSETFROM:-0500
TZOFFSETTO:-0400
TZNAME:EDT
DTSTART:20230312T070000
END:DAYLIGHT
BEGIN:STANDARD
TZOFFSETFROM:-0400
TZOFFSETTO:-0500
TZNAME:EST
DTSTART:20231105T060000
END:STANDARD
END:VTIMEZONE
BEGIN:VEVENT
DTSTART;TZID=America/New_York:20231011T090000
DTEND;TZID=America/New_York:20231011T170000
DTSTAMP:20260422T102152
CREATED:20230825T155006Z
LAST-MODIFIED:20230825T155006Z
UID:8200-1697014800-1697043600@autismwny.org
SUMMARY:Uncovering Neurodiversity in WNY - In person event at Cradle Beach
DESCRIPTION:Uncovering Neurodiversity in WNY\nWhat does it mean to be Neuro-affirming?  This strength based positive approach will alter your view on “challenging behaviors” and offer you helpful strategies to meet your client or loved ones needs.\n \nNeurodiversity Network of WNY has a number of learning objectives for this event including exploring and understanding neurodiversity and applying practical strategies for creating inclusive environments for neurodivergent children\, adults\, and their families. They will critically analyze existing systems and structures to identify areas of exclusion\, while proposing solutions for creating more equitable and inclusive spaces.\n \nAdditionally\, they aim to\n\n\nEngage in open and respectful discussions about the experiences of neurodivergent individuals and their families\,\nIdentify best practices for promoting the rights and inclusion of neurodivergent individuals\,\nDevelop a network of professionals and advocates committed to promoting equity and belonging\, and\nCreate action plans for incorporating and advocating for the use of neuro-affirming practices in our personal and professional lives.\n\nTickets are donation based\, please pay what you can to help support the Neurodiversity Network of WNY organization.\n \nInformation & Registration.\n \nDate:  Wednesday\, October 11\, 2023\nTime:  9:00 a.m. – 5:00 p.m. EDT \nLocation:  Cradle Beach\, 8038 Old Lakeshore Rd\, Angola\, NY 14006
URL:https://autismwny.org/event/uncovering-neurodiversity-in-wny-in-person-event-at-cradle-beach/
LOCATION:Cradle Beach\, 8038 Old Lakeshore Rd.\, Angola\, NY\, 14006\, United States
CATEGORIES:Other Events in WNY
ORGANIZER;CN="Neurodiversity%20Network%20of%20WNY":MAILTO:wnyneurodiversity@gmail.com
GEO:42.670123;-79.0596946
X-APPLE-STRUCTURED-LOCATION;VALUE=URI;X-ADDRESS=Cradle Beach 8038 Old Lakeshore Rd. Angola NY 14006 United States;X-APPLE-RADIUS=500;X-TITLE=8038 Old Lakeshore Rd.:geo:-79.0596946,42.670123
END:VEVENT
END:VCALENDAR