BEGIN:VCALENDAR
VERSION:2.0
PRODID:-//Autism Society Western New York - ECPv6.0.10//NONSGML v1.0//EN
CALSCALE:GREGORIAN
METHOD:PUBLISH
X-ORIGINAL-URL:https://autismwny.org
X-WR-CALDESC:Events for Autism Society Western New York
REFRESH-INTERVAL;VALUE=DURATION:PT1H
X-Robots-Tag:noindex
X-PUBLISHED-TTL:PT1H
BEGIN:VTIMEZONE
TZID:America/New_York
BEGIN:DAYLIGHT
TZOFFSETFROM:-0500
TZOFFSETTO:-0400
TZNAME:EDT
DTSTART:20230312T070000
END:DAYLIGHT
BEGIN:STANDARD
TZOFFSETFROM:-0400
TZOFFSETTO:-0500
TZNAME:EST
DTSTART:20231105T060000
END:STANDARD
END:VTIMEZONE
BEGIN:VEVENT
DTSTART;TZID=America/New_York:20230310T083000
DTEND;TZID=America/New_York:20230310T150000
DTSTAMP:20260422T091336
CREATED:20230301T000555Z
LAST-MODIFIED:20230301T000735Z
UID:7441-1678437000-1678460400@autismwny.org
SUMMARY:Evidence-Based Supports for Children\, Adolescents\, & Young Adults with Autism Spectrum Disorder -Free virtual conference
DESCRIPTION:Institute for Child Development presents the 6th Annual Binghamton Regional Center for ASD Spring Conference for Families\, Educators\, & Providers\nEvidence-Based Supports for Children\, Adolescents\, & Young Adults with Autism Spectrum Disorder \nFREE 2023 Virtual Conference Theme: Neurodivergent Coping and Social Success is on Friday\, March 10 from 8:30 a.m. – 3:00 p.m. \nKeynote I – Stuck in the Middle! Program Development and Supports for Students with ASD at the Middle School Level presented by Sanja Cale\, Ph. D.\, BCBA-D & Kristin Durante\, M. S. (1.5 CE/Contact Hours – NYSED CTLEs\, Social Work\, BACB) \nKeynote II – It’s Never too Late: Friendships\, Mental Health\, and Well-Being in ASD Across the Lifespan presented by Amy Van Hecke\, Ph. D. (1.5 CE/Contact Hours- NYSED CTLEs\, Social Work) \nWorkshop I – Occupational Therapy at Home: Helping Families Promote Skills in Everyday Activities presented by Deborah Eckhardt\, OTR/L (1.0 CE/Contact Hours- NYSED CTLEs\, Social Work) \nWorkshop II – Making Sense of a Sensory-Intense World: Practical Coping and Opportunities for Connection presented by Rachel N. S. Cavalari\, Ph. D.\, BCBA-D (1.0 CE/Contact Hours- NYSED CTLEs\, Social Work\, BACB) \nThe detailed conference brochure is available at BRCASD’s website:  https://brcasd.binghamton.edu \nREGISTER NOW
URL:https://autismwny.org/event/evidence-based-supports-for-children-adolescents-young-adults-with-autism-spectrum-disorder-free-virtual-conference/
CATEGORIES:Webinars
END:VEVENT
END:VCALENDAR