BEGIN:VCALENDAR
VERSION:2.0
PRODID:-//Autism Society Western New York - ECPv6.0.10//NONSGML v1.0//EN
CALSCALE:GREGORIAN
METHOD:PUBLISH
X-WR-CALNAME:Autism Society Western New York
X-ORIGINAL-URL:https://autismwny.org
X-WR-CALDESC:Events for Autism Society Western New York
REFRESH-INTERVAL;VALUE=DURATION:PT1H
X-Robots-Tag:noindex
X-PUBLISHED-TTL:PT1H
BEGIN:VTIMEZONE
TZID:America/New_York
BEGIN:DAYLIGHT
TZOFFSETFROM:-0500
TZOFFSETTO:-0400
TZNAME:EDT
DTSTART:20240310T070000
END:DAYLIGHT
BEGIN:STANDARD
TZOFFSETFROM:-0400
TZOFFSETTO:-0500
TZNAME:EST
DTSTART:20241103T060000
END:STANDARD
END:VTIMEZONE
BEGIN:VEVENT
DTSTART;TZID=America/New_York:20240614T173000
DTEND;TZID=America/New_York:20240614T193000
DTSTAMP:20260422T084948
CREATED:20240119T191352Z
LAST-MODIFIED:20240119T191352Z
UID:8841-1718386200-1718393400@autismwny.org
SUMMARY:Au-Some Evenings at Explore & More - The Ralph C Wilson Jr. Children's Museum
DESCRIPTION:Once a month\, Au-Some Evenings give children with autism and sensory processing needs\, their friends and family an opportunity to play and learn together in an understanding and supportive environment. In addition to a fun night of play with access to the museum space and exhibits\, we have special programming for families! The evening features themed Art Studio projects\, sensory exploration in our Tinkering Tank\, therapy animals from the SPCA and student volunteers from SUNY Buffalo State’s Exceptional Education program. Parent outreach materials including links for social stories\, child development resources and play tips are always available. We even provide small giveaways or snacks in the lobby\, at the end of the night to help with the transition of leaving the museum. We look forward to having you join us! \nTo register for the next Au-Some Evening please complete the form\, here!\n\n\n\n\nSpecial thanks to the Exceptional Education department from SUNY Buffalo State for providing volunteers who help support children and families develop language skills\, promote social interactions\, and facilitate learning through play. Au-Some Evenings was created in 2012 and presented in partnership with: Kathy Doody\, Professor in Exceptional Education\, and Jana Mertz\, The Arc Erie County. \n\n\n\n\nClick here to download our Au-Some Evening flyer!\n\n\nQuestions? Email accessibility@exploreandmore.org.\nSPACE IS LIMITED!
URL:https://autismwny.org/event/au-some-evenings-at-explore-more-the-ralph-c-wilson-jr-childrens-museum-2/2024-06-14/
LOCATION:Explore & More – The Ralph C Wilson Jr. Children’s Museum\, 130 Main Street\, Buffalo\, NY\, 14202\, United States
CATEGORIES:Other Events in WNY
GEO:42.7600441;-78.6122951
X-APPLE-STRUCTURED-LOCATION;VALUE=URI;X-ADDRESS=Explore & More – The Ralph C Wilson Jr. Children’s Museum 130 Main Street Buffalo NY 14202 United States;X-APPLE-RADIUS=500;X-TITLE=130 Main Street:geo:-78.6122951,42.7600441
END:VEVENT
BEGIN:VEVENT
DTSTART;TZID=America/New_York:20240510T173000
DTEND;TZID=America/New_York:20240510T193000
DTSTAMP:20260422T084948
CREATED:20240119T191352Z
LAST-MODIFIED:20240119T191352Z
UID:8840-1715362200-1715369400@autismwny.org
SUMMARY:Au-Some Evenings at Explore & More - The Ralph C Wilson Jr. Children's Museum
DESCRIPTION:Once a month\, Au-Some Evenings give children with autism and sensory processing needs\, their friends and family an opportunity to play and learn together in an understanding and supportive environment. In addition to a fun night of play with access to the museum space and exhibits\, we have special programming for families! The evening features themed Art Studio projects\, sensory exploration in our Tinkering Tank\, therapy animals from the SPCA and student volunteers from SUNY Buffalo State’s Exceptional Education program. Parent outreach materials including links for social stories\, child development resources and play tips are always available. We even provide small giveaways or snacks in the lobby\, at the end of the night to help with the transition of leaving the museum. We look forward to having you join us! \nTo register for the next Au-Some Evening please complete the form\, here!\n\n\n\n\nSpecial thanks to the Exceptional Education department from SUNY Buffalo State for providing volunteers who help support children and families develop language skills\, promote social interactions\, and facilitate learning through play. Au-Some Evenings was created in 2012 and presented in partnership with: Kathy Doody\, Professor in Exceptional Education\, and Jana Mertz\, The Arc Erie County. \n\n\n\n\nClick here to download our Au-Some Evening flyer!\n\n\nQuestions? Email accessibility@exploreandmore.org.\nSPACE IS LIMITED!
URL:https://autismwny.org/event/au-some-evenings-at-explore-more-the-ralph-c-wilson-jr-childrens-museum-2/2024-05-10/
LOCATION:Explore & More – The Ralph C Wilson Jr. Children’s Museum\, 130 Main Street\, Buffalo\, NY\, 14202\, United States
CATEGORIES:Other Events in WNY
GEO:42.7600441;-78.6122951
X-APPLE-STRUCTURED-LOCATION;VALUE=URI;X-ADDRESS=Explore & More – The Ralph C Wilson Jr. Children’s Museum 130 Main Street Buffalo NY 14202 United States;X-APPLE-RADIUS=500;X-TITLE=130 Main Street:geo:-78.6122951,42.7600441
END:VEVENT
BEGIN:VEVENT
DTSTART;TZID=America/New_York:20240209T173000
DTEND;TZID=America/New_York:20240209T193000
DTSTAMP:20260422T084948
CREATED:20240119T191352Z
LAST-MODIFIED:20240119T191352Z
UID:8830-1707499800-1707507000@autismwny.org
SUMMARY:Au-Some Evenings at Explore & More - The Ralph C Wilson Jr. Children's Museum
DESCRIPTION:Once a month\, Au-Some Evenings give children with autism and sensory processing needs\, their friends and family an opportunity to play and learn together in an understanding and supportive environment. In addition to a fun night of play with access to the museum space and exhibits\, we have special programming for families! The evening features themed Art Studio projects\, sensory exploration in our Tinkering Tank\, therapy animals from the SPCA and student volunteers from SUNY Buffalo State’s Exceptional Education program. Parent outreach materials including links for social stories\, child development resources and play tips are always available. We even provide small giveaways or snacks in the lobby\, at the end of the night to help with the transition of leaving the museum. We look forward to having you join us! \nTo register for the next Au-Some Evening please complete the form\, here!\n\n\n\n\nSpecial thanks to the Exceptional Education department from SUNY Buffalo State for providing volunteers who help support children and families develop language skills\, promote social interactions\, and facilitate learning through play. Au-Some Evenings was created in 2012 and presented in partnership with: Kathy Doody\, Professor in Exceptional Education\, and Jana Mertz\, The Arc Erie County. \n\n\n\n\nClick here to download our Au-Some Evening flyer!\n\n\nQuestions? Email accessibility@exploreandmore.org.\nSPACE IS LIMITED!
URL:https://autismwny.org/event/au-some-evenings-at-explore-more-the-ralph-c-wilson-jr-childrens-museum-2/2024-02-09/
LOCATION:Explore & More – The Ralph C Wilson Jr. Children’s Museum\, 130 Main Street\, Buffalo\, NY\, 14202\, United States
CATEGORIES:Other Events in WNY
GEO:42.7600441;-78.6122951
X-APPLE-STRUCTURED-LOCATION;VALUE=URI;X-ADDRESS=Explore & More – The Ralph C Wilson Jr. Children’s Museum 130 Main Street Buffalo NY 14202 United States;X-APPLE-RADIUS=500;X-TITLE=130 Main Street:geo:-78.6122951,42.7600441
END:VEVENT
END:VCALENDAR