BEGIN:VCALENDAR
VERSION:2.0
PRODID:-//Autism Society Western New York - ECPv6.0.10//NONSGML v1.0//EN
CALSCALE:GREGORIAN
METHOD:PUBLISH
X-ORIGINAL-URL:https://autismwny.org
X-WR-CALDESC:Events for Autism Society Western New York
REFRESH-INTERVAL;VALUE=DURATION:PT1H
X-Robots-Tag:noindex
X-PUBLISHED-TTL:PT1H
BEGIN:VTIMEZONE
TZID:America/New_York
BEGIN:DAYLIGHT
TZOFFSETFROM:-0500
TZOFFSETTO:-0400
TZNAME:EDT
DTSTART:20200308T070000
END:DAYLIGHT
BEGIN:STANDARD
TZOFFSETFROM:-0400
TZOFFSETTO:-0500
TZNAME:EST
DTSTART:20201101T060000
END:STANDARD
END:VTIMEZONE
BEGIN:VEVENT
DTSTART;TZID=America/New_York:20200430T130000
DTEND;TZID=America/New_York:20200430T140000
DTSTAMP:20260422T073008
CREATED:20200416T211734Z
LAST-MODIFIED:20200416T211734Z
UID:3713-1588251600-1588255200@autismwny.org
SUMMARY:Coronavirus Impact: Talking to Kids About Changing Schedules\, Altered Plans\, and Disruption - Webinar
DESCRIPTION:Ongoing schedule changes and uncertainty due to the spread of the Coronavirus can present special challenges. Tune in to hear ideas for providing compassionate support to individuals on the autism spectrum who are experiencing disruptions and anxiety related to the virus and its impact. \nAbout the speaker:\nAmanda Tami\, LPC\, BCBA\, holds a master’s degree in counseling psychology and has completed a recertification program in Applied Behavior Analysis (ABA). In addition to being a Board Certified Behavior Analyst\, Amanda is a Licensed Professional Counselor. She has experience working with both children and adults\, including those who have autism spectrum and other pervasive developmental disorders\, ADD/ADHD\, anxiety issues\, and trauma\, both as a BCBA and as a counselor. She has additional specialized training as a counselor in EMDR therapy and its applications to children.\nAmanda is pleased to be able to share her experience and knowledge in the Johnson Center’s Behavioral Services and Counseling program\, giving her the opportunity to pursue her passion for helping children and adolescents with special needs. Amanda comes from a unique position in her education and background to understand the challenges that clients and their families face – developmentally\, behaviorally\, emotionally\, and systematically – to see the patterns and teach the skills needed to improve quality and functioning in all aspects of life. \nRegister Now for Coronavirus Impact Webinar:  https://www.autism.org/coronavirus/
URL:https://autismwny.org/event/coronavirus-impact-talking-to-kids-about-changing-schedules-altered-plans-and-disruption-webinar/
CATEGORIES:Webinars
END:VEVENT
END:VCALENDAR