BEGIN:VCALENDAR
VERSION:2.0
PRODID:-//Autism Society Western New York - ECPv6.0.10//NONSGML v1.0//EN
CALSCALE:GREGORIAN
METHOD:PUBLISH
X-WR-CALNAME:Autism Society Western New York
X-ORIGINAL-URL:https://autismwny.org
X-WR-CALDESC:Events for Autism Society Western New York
REFRESH-INTERVAL;VALUE=DURATION:PT1H
X-Robots-Tag:noindex
X-PUBLISHED-TTL:PT1H
BEGIN:VTIMEZONE
TZID:UTC
BEGIN:STANDARD
TZOFFSETFROM:+0000
TZOFFSETTO:+0000
TZNAME:UTC
DTSTART:20190101T000000
END:STANDARD
END:VTIMEZONE
BEGIN:VEVENT
DTSTART;TZID=UTC:20190304T183000
DTEND;TZID=UTC:20190304T203000
DTSTAMP:20260422T133417
CREATED:20190108T083837Z
LAST-MODIFIED:20190108T083837Z
UID:2923-1551724200-1551731400@autismwny.org
SUMMARY:Niagara County Support Group
DESCRIPTION:First Monday of almost every month \nFacilitated meeting where parents and caregivers of all ages can meet \, share experiences\, ask questions and receive support \nReservations not necessary unless you need child care \nIf child care needed\, reserve at least one week in advance at www.parentnetworkwny.org or call 716-332-4170 or email info@parentnetworkwny.org \nEach child must be registered. \nIf you have transportation or other issues\, that would limit your attendance\, please contact us.
URL:https://autismwny.org/event/niagara-county-support-group/
LOCATION:Empower Children’s Academy\, 9812 Lockport Road\, Niagara Falls\, NY\, 14304
GEO:43.121847;-78.949671
X-APPLE-STRUCTURED-LOCATION;VALUE=URI;X-ADDRESS=Empower Children’s Academy 9812 Lockport Road Niagara Falls NY 14304;X-APPLE-RADIUS=500;X-TITLE=9812 Lockport Road:geo:-78.949671,43.121847
END:VEVENT
BEGIN:VEVENT
DTSTART;TZID=UTC:20190312T113000
DTEND;TZID=UTC:20190312T130000
DTSTAMP:20260422T133417
CREATED:20190309T112121Z
LAST-MODIFIED:20190309T175154Z
UID:2951-1552390200-1552395600@autismwny.org
SUMMARY:Daytime Support Group - Autism Society WNY and Fantastic Friends of WNY
DESCRIPTION:New Daytime Support Group for parents/caregivers of children and adults with disabilities including Autism hosted by Fantastic Friends of WNY and Autism Society WNY.    .  Come talk\, share\, pick up books and information and learn from  with other parents of children and adults with disabilities .  \nLearn more about Fantastic Friends of WNY programs which provide unique recreation opportunities for individuals of all ages with developmental disabilities. \n Pick up the following books and informational lists/flyers : \n\nAutism Spectrum Disorders: The Complete Guide to Understanding Autism  by Chantal Scicile Kira\nSesame Street booklet on the character Julia talking about autism\nSome Helpful Resources in WNY – 9 page list developed by 4 local moms \nFlyers on local events in the WNY area \n\nLight Refreshments will be served. \nFantastic Friends location in Depew – see address below \nRSVP   fantasticfriendswny@gmail.com \nPhone:   716-608-6234. \nHope to see you Tuesday ! \nKathy\, Debbie and Jeanne 
URL:https://autismwny.org/event/daytime-support-group-autism-society-wny-and-fantastic-friends-of-wny/
LOCATION:Fantastic Friends of WNY Center\, 1284 French Road\, Cheektowaga\, New York\, 14227\, United States
CATEGORIES:Get Togethers
GEO:42.8682176;-78.7047085
X-APPLE-STRUCTURED-LOCATION;VALUE=URI;X-ADDRESS=Fantastic Friends of WNY Center 1284 French Road Cheektowaga New York 14227 United States;X-APPLE-RADIUS=500;X-TITLE=1284 French Road:geo:-78.7047085,42.8682176
END:VEVENT
BEGIN:VEVENT
DTSTART;TZID=UTC:20190324T100000
DTEND;TZID=UTC:20190324T100000
DTSTAMP:20260422T133417
CREATED:20181118T090018Z
LAST-MODIFIED:20181118T090018Z
UID:2833-1553421600-1553421600@autismwny.org
SUMMARY:Theatre of Youth -Sensory Friendly Performance - The Jungle Book
DESCRIPTION:Live Theatre performance in a sensory friendly environment.  Children can sit where they are most comfortable and move around as they need\, all while enjoying the magic of live theatre. \nAll performances start promptly at 10 am .   $5 for tickets\, general seating.    Noise muffling headsets and a calming space are available \nTo purchase tickets\, please contact the TOY box office  &16-884-4400 ext. 304 or  boxoffice@theatreofyouth.org \nOR go to:  www.theatreofyouth.org  (access code 1N68) . \nWatch for Jungle Book March 24\, 2019 and Dragons Love Tacos May 19\, 2019 . \n 
URL:https://autismwny.org/event/theatre-of-youth-sensory-friendly-performance-the-jungle-book/
LOCATION:Theatre of Youth\, Buffalo\, New York
END:VEVENT
BEGIN:VEVENT
DTSTART;TZID=UTC:20190326T180000
DTEND;TZID=UTC:20190326T193000
DTSTAMP:20260422T133417
CREATED:20190312T155655Z
LAST-MODIFIED:20190312T160111Z
UID:2964-1553623200-1553628600@autismwny.org
SUMMARY:ASWNY and Fantastic Friends Evening Support Group  - Speaker on Special Needs Trusts\,ABLE accounts and more
DESCRIPTION:Evening Support Group \nTuesday March  26\, 2019 \n6:00pm to 7:30 pm \n \nPresentation by James Fox\, Certified Financial Planner\, Chartered Special Needs Consultant   Following topics and more: \n\n\nSpecial Needs Trusts \nNYS ABLE Accounts – Disabled can grow savings without taxes . Also lessens impact on  needs testing for Medicaid and SSI\nKeeping my loved one in their current home when I pass \n\n\n \n\nSponsored by Autism Society WNY and\nFantastic Friends of WNY \n\n\nLocation: Fantastic Friends of WNY Center \n1284 French Road \nDepew NY \n\nYou can RSVP by calling and leaving a message at 716-608-6234 or email fantasticfriendswny@gmail.com   Also\, check out our Facebook pages.  \n\n\nAutism Society Western New York and Fantastic Friends  have joined together to provide a new evening support group for parents/caregivers of individuals with developmental disabilities. \n  \n 
URL:https://autismwny.org/event/evening-support-group-speaker-on-special-needs-trustsable-accounts-and-more/
CATEGORIES:Autism WNY,Get Togethers
END:VEVENT
END:VCALENDAR