BEGIN:VCALENDAR
VERSION:2.0
PRODID:-//Autism Society Western New York - ECPv6.0.10//NONSGML v1.0//EN
CALSCALE:GREGORIAN
METHOD:PUBLISH
X-ORIGINAL-URL:https://autismwny.org
X-WR-CALDESC:Events for Autism Society Western New York
REFRESH-INTERVAL;VALUE=DURATION:PT1H
X-Robots-Tag:noindex
X-PUBLISHED-TTL:PT1H
BEGIN:VTIMEZONE
TZID:UTC
BEGIN:STANDARD
TZOFFSETFROM:+0000
TZOFFSETTO:+0000
TZNAME:UTC
DTSTART:20190101T000000
END:STANDARD
END:VTIMEZONE
BEGIN:VEVENT
DTSTART;TZID=UTC:20190204T183000
DTEND;TZID=UTC:20190204T200000
DTSTAMP:20260422T150051
CREATED:20190108T083659Z
LAST-MODIFIED:20190124T002104Z
UID:2921-1549305000-1549310400@autismwny.org
SUMMARY:Niagara County Autism Family Support
DESCRIPTION:First Monday of almost every month \nFacilitated meeting where parents and caregivers of all ages can meet \, share experiences\, ask questions and receive support \nReservations not necessary unless you need child care \nIf child care needed\, reserve at least one week in advance at www.parentnetworkwny.org or call 716-332-4170 or email info@parentnetworkwny.org \nEach child must be registered. \nIf you have transportation or other issues\, that would limit your attendance\, please contact us.
URL:https://autismwny.org/event/niagara-county-autism-family-support/
LOCATION:Empower Children’s Academy\, 9812 Lockport Road\, Niagara Falls\, NY\, 14304
CATEGORIES:Get Togethers
GEO:43.121847;-78.949671
X-APPLE-STRUCTURED-LOCATION;VALUE=URI;X-ADDRESS=Empower Children’s Academy 9812 Lockport Road Niagara Falls NY 14304;X-APPLE-RADIUS=500;X-TITLE=9812 Lockport Road:geo:-78.949671,43.121847
END:VEVENT
BEGIN:VEVENT
DTSTART;TZID=UTC:20190212T113000
DTEND;TZID=UTC:20190212T130000
DTSTAMP:20260422T150051
CREATED:20190309T114047Z
LAST-MODIFIED:20190312T154122Z
UID:2957-1549971000-1549976400@autismwny.org
SUMMARY:Daytime Support Group Meeting - Autism Society WNY and Fantastic Friends of WNY
DESCRIPTION:New Daytime Support Group for parents/caregivers of children and adults with disabilities including Autism.     Hosted by Fantastic Friends of WNY and the Autism Society of WNY .\nCome  meet and talk\, share and learn from other parents of children and adults with disabilities . \nLearn more about Fantastic Friends of WNY programs which provide unique recreation opportunities for individuals of all ages with developmental disabilities. \nThere will also be handouts on Autism Resources in the WNY area and info on upcoming events in the WNY area.    Please RSVP so we can plan ahead. \nRSVP   fantasticfriendswny@gmail.com \nPhone:   716-608-6234. \nHope to see you there on Tuesday !
URL:https://autismwny.org/event/daytime-support-group-meeting-autism-society-wny-and-fantastic-friends-of-wny/
LOCATION:Fantastic Friends of WNY Center\, 1284 French Road\, Cheektowaga\, New York\, 14227\, United States
CATEGORIES:Autism WNY,Get Togethers
GEO:42.8682176;-78.7047085
X-APPLE-STRUCTURED-LOCATION;VALUE=URI;X-ADDRESS=Fantastic Friends of WNY Center 1284 French Road Cheektowaga New York 14227 United States;X-APPLE-RADIUS=500;X-TITLE=1284 French Road:geo:-78.7047085,42.8682176
END:VEVENT
BEGIN:VEVENT
DTSTART;TZID=UTC:20190214T180000
DTEND;TZID=UTC:20190214T193000
DTSTAMP:20260422T150051
CREATED:20181215T233824Z
LAST-MODIFIED:20190124T003148Z
UID:2884-1550167200-1550172600@autismwny.org
SUMMARY:Family & Caregiver Group For Parents Of Teenagers With Autism Spectrum Disorders
DESCRIPTION:This is a support group for parents & caregivers of teenagers with Autism Spectrum Disorders.  All are welcome to attend\, but reservations are appreciated.  A group for Teens with Asperger’s will be available at the same time with prior registration.  Please contact 716-332-4175 or support@parentnetworkwny.org for more information.  This event will be moderated by Tonia Weichmann-Transition Coordinator\, Parent Network of WNY and Jana Mertz\, MBA-Program Coordinator\, Autism Center-Oishei Children’s Hospital.  NO COST \n 
URL:https://autismwny.org/event/family-caregiver-group-for-parents-of-teenagers-with-autism-spectrum-disorders-2/
LOCATION:Wegman’s Cafe\, Back Conference Room\, 601 Amherst Street\, Buffalo\, New York\, 14207
CATEGORIES:Get Togethers
GEO:42.938608;-78.8823167
X-APPLE-STRUCTURED-LOCATION;VALUE=URI;X-ADDRESS=Wegman’s Cafe Back Conference Room 601 Amherst Street Buffalo New York 14207;X-APPLE-RADIUS=500;X-TITLE=601 Amherst Street:geo:-78.8823167,42.938608
END:VEVENT
BEGIN:VEVENT
DTSTART;TZID=UTC:20190219T173000
DTEND;TZID=UTC:20190219T190000
DTSTAMP:20260422T150051
CREATED:20190127T015916Z
LAST-MODIFIED:20190127T015916Z
UID:2937-1550597400-1550602800@autismwny.org
SUMMARY:Family & Caregiver Group-DDAWNY for Parents of Children with Developmental Disabilities
DESCRIPTION:Provide a welcoming environment for parents\, family members and other caregivers of individuals with developmental disabilities to meet\, share experiences\, ask questions and receive support.  Child Care is Available.  In order to provide for your child’s individual needs reservations for childcare are required by the Friday prior to the meeting.  Registration forms are required for all new children and are available at www.parentnetworkwny.org or call (716) 332-4175.  Free To Attend-All Are Welcome But Reservations Are Appreciated.  Light dinner will be served.
URL:https://autismwny.org/event/family-caregiver-group-ddawny-for-parents-of-children-with-developmental-disabilities/
LOCATION:Aspire Building\, 7 Community Drive\, Cheektowaga\, NY\, 14225\, United States
GEO:42.931214;-78.7736665
X-APPLE-STRUCTURED-LOCATION;VALUE=URI;X-ADDRESS=Aspire Building 7 Community Drive Cheektowaga NY 14225 United States;X-APPLE-RADIUS=500;X-TITLE=7 Community Drive:geo:-78.7736665,42.931214
END:VEVENT
BEGIN:VEVENT
DTSTART;TZID=UTC:20190226T060000
DTEND;TZID=UTC:20190226T193000
DTSTAMP:20260422T150051
CREATED:20190312T152904Z
LAST-MODIFIED:20190312T153743Z
UID:2962-1551160800-1551209400@autismwny.org
SUMMARY:Evening Support Group Autism Society WNY and Fantastic Friends of WNY
DESCRIPTION:Fantastic Friends of WNY and the Autism Society Western New York have joined together to provide a new evening support group for parents/caregivers of individuals with developmental disabilities.   Come network with other parents and  learn more about what is available in the Western New York area. \nMeeting held at the Fantastic Friends of WNY Center on French Road in Depew \nRSVP   fantasticfriendswny@gmail.com \nPhone:   716-608-6234. \n 
URL:https://autismwny.org/event/evening-support-group-autism-society-wny-and-fantastic-friends-of-wny/
CATEGORIES:Autism WNY,Get Togethers
END:VEVENT
BEGIN:VEVENT
DTSTART;TZID=UTC:20190226T193000
DTEND;TZID=UTC:20190226T213000
DTSTAMP:20260422T150051
CREATED:20190108T085204Z
LAST-MODIFIED:20190108T085244Z
UID:2931-1551209400-1551216600@autismwny.org
SUMMARY:Students with Disabilities and Dealing with Suspension
DESCRIPTION:Learn: \nGeneral school discipline issues \nDisciplining students with disabilities \nManifestation Determination Review (MDR) \nEffective advocacy and communication \nReview of school code of conduct. \n. Reserve by email   info@parentnetwork.org or call 716-332-4170 \nLet us know if you need assistance with childcare or transportation when you register. \n 
URL:https://autismwny.org/event/students-with-disabilities-and-dealing-with-suspension/
LOCATION:C. Dee Wright Community Center\, 11 Church St\, Akron\, NY\, 14001\, United States
GEO:43.0210174;-78.4979469
X-APPLE-STRUCTURED-LOCATION;VALUE=URI;X-ADDRESS=C. Dee Wright Community Center 11 Church St Akron NY 14001 United States;X-APPLE-RADIUS=500;X-TITLE=11 Church St:geo:-78.4979469,43.0210174
END:VEVENT
END:VCALENDAR