BEGIN:VCALENDAR
VERSION:2.0
PRODID:-//Autism Society Western New York - ECPv6.0.10//NONSGML v1.0//EN
CALSCALE:GREGORIAN
METHOD:PUBLISH
X-ORIGINAL-URL:https://autismwny.org
X-WR-CALDESC:Events for Autism Society Western New York
REFRESH-INTERVAL;VALUE=DURATION:PT1H
X-Robots-Tag:noindex
X-PUBLISHED-TTL:PT1H
BEGIN:VTIMEZONE
TZID:UTC
BEGIN:STANDARD
TZOFFSETFROM:+0000
TZOFFSETTO:+0000
TZNAME:UTC
DTSTART:20180101T000000
END:STANDARD
END:VTIMEZONE
BEGIN:VEVENT
DTSTART;TZID=UTC:20181203T063000
DTEND;TZID=UTC:20181203T203000
DTSTAMP:20260422T180524
CREATED:20170206T081653Z
LAST-MODIFIED:20181118T012006Z
UID:838-1543818600-1543869000@autismwny.org
SUMMARY:Support Group - Niagara Autism Group
DESCRIPTION:Free to attend.  provides a welcoming environment for parents and other caregivers of children with autism spectrum disorders.   Moderated by Kim Newton -Licensed Social Worker and Patrick Harden\, DD Professional Parent Network.    RSVP to Parent Network of WNY to  attend.  info@parentnetworkwny.org or 716-332-4170.   Light refreshments will be served.   Childcare is available but you must reserve 1 week in advance.   Registration forms are required for all new children. Call number above. \n  \n 
URL:https://autismwny.org/event/838/
LOCATION:Empower Children’s Academy\, 9812 Lockport Road\, Niagara Falls\, NY\, 14304
GEO:43.121847;-78.949671
X-APPLE-STRUCTURED-LOCATION;VALUE=URI;X-ADDRESS=Empower Children’s Academy 9812 Lockport Road Niagara Falls NY 14304;X-APPLE-RADIUS=500;X-TITLE=9812 Lockport Road:geo:-78.949671,43.121847
END:VEVENT
BEGIN:VEVENT
DTSTART;TZID=UTC:20181213T180000
DTEND;TZID=UTC:20181213T193000
DTSTAMP:20260422T180524
CREATED:20181118T025124Z
LAST-MODIFIED:20181118T025124Z
UID:2759-1544724000-1544729400@autismwny.org
SUMMARY:Support Group - For Parents of Teenagers
DESCRIPTION:Welcoming environment for parents/caregivers of teenagers with ASD .  Meet\, share experiences and as questions and receive support.   All are welcome to attend but group is geared towards parents of teenagers who may be transitioning to higher education\, employment and/or independent living . \nModerated by:  Tonai Weichmann – Transition Coordinator Parent Network of WNY and Jana Mertz\, MBA Program Coordinator Autism Center – Oishei Children’s Hospital. \nA group for teens with Asperger’s will be available at the same time with prior registration. \nCall 716-332-4175 or support@parentnetworkwny.org for more information. \nFree to attend.  All are welcome but reservations are appreciated.
URL:https://autismwny.org/event/support-group-for-parents-of-teenagers/
LOCATION:Wegman’s Cafe\, Back Conference Room\, 601 Amherst Street\, Buffalo\, New York\, 14207
GEO:42.938608;-78.8823167
X-APPLE-STRUCTURED-LOCATION;VALUE=URI;X-ADDRESS=Wegman’s Cafe Back Conference Room 601 Amherst Street Buffalo New York 14207;X-APPLE-RADIUS=500;X-TITLE=601 Amherst Street:geo:-78.8823167,42.938608
END:VEVENT
BEGIN:VEVENT
DTSTART;TZID=UTC:20181216T100000
DTEND;TZID=UTC:20181216T100000
DTSTAMP:20260422T180524
CREATED:20181118T010855Z
LAST-MODIFIED:20181118T010855Z
UID:2742-1544954400-1544954400@autismwny.org
SUMMARY:Theatre of Youth - Sensory Friendly Performance - A Charlie Brown Christmas
DESCRIPTION:Live Theatre performance in a sensory friendly environment.  Children can sit where they are most comfortable and move around as they need\, all while enjoying the magic of live theatre. \nAll performances start promptly at 10 am .   $5 for tickets\, general seating.    Noise muffling headsets and a calming space are available \nTo purchase tickets\, please contact the TOY box office  &16-884-4400 ext. 304 or  boxoffice@theatreofyouth.org \nOR go to:  www.theatreofyouth.org  (access code 1N68) . \nWatch for Jungle Book March 24\, 2019 and Dragons Love Tacos May 19\, 2019 . \n 
URL:https://autismwny.org/event/theatre-of-youth-sensory-friendly-performance-a-charlie-brown-christmas/
LOCATION:Theatre of Youth\, Buffalo\, New York
END:VEVENT
BEGIN:VEVENT
DTSTART;TZID=UTC:20181219T183000
DTEND;TZID=UTC:20181219T203000
DTSTAMP:20260422T180524
CREATED:20181118T003429Z
LAST-MODIFIED:20181118T011418Z
UID:2738-1545244200-1545251400@autismwny.org
SUMMARY:Autism Support Group - Buffalo Autism Group
DESCRIPTION:Free to attend.   Provide a welcoming environment for parents and other caregivers of children with autism spectrum disorders to meet\, share experiences\, ask questions and receive support.  RSVP to attend.  Please call (716) 323-6435 or e-mail: jmertz@kaleidahealth.org. \nModerated by:  Kathy Ralabate Doody\, PhD-Parent of child with autism\, Instructor\, Exceptional Education at Buffalo State and Jana Mertz\, MBA-Program Coordinator\, The Children’s Guild Foundation\, Autism Spectrum Disorder Center and Oishei Children’s Hospital Of Buffalo. \nChild Care is Available.  Reservations required by Friday prior to meeting.  Reservation forms required for all new children and are available at www.parentnetworkwny.org or call (716) 332-4170. (child-care registration) . \nIf you are interested in attending but have transportation for other barriers that would limit your participation\, please let us know. \n 
URL:https://autismwny.org/event/autism-support-group/
LOCATION:Aspire Building\, 7 Community Drive\, Cheektowaga\, NY\, 14225\, United States
GEO:42.931214;-78.7736665
X-APPLE-STRUCTURED-LOCATION;VALUE=URI;X-ADDRESS=Aspire Building 7 Community Drive Cheektowaga NY 14225 United States;X-APPLE-RADIUS=500;X-TITLE=7 Community Drive:geo:-78.7736665,42.931214
END:VEVENT
END:VCALENDAR