BEGIN:VCALENDAR
VERSION:2.0
PRODID:-//Autism Society Western New York - ECPv6.0.10//NONSGML v1.0//EN
CALSCALE:GREGORIAN
METHOD:PUBLISH
X-WR-CALNAME:Autism Society Western New York
X-ORIGINAL-URL:https://autismwny.org
X-WR-CALDESC:Events for Autism Society Western New York
REFRESH-INTERVAL;VALUE=DURATION:PT1H
X-Robots-Tag:noindex
X-PUBLISHED-TTL:PT1H
BEGIN:VTIMEZONE
TZID:UTC
BEGIN:STANDARD
TZOFFSETFROM:+0000
TZOFFSETTO:+0000
TZNAME:UTC
DTSTART:20160101T000000
END:STANDARD
END:VTIMEZONE
BEGIN:VEVENT
DTSTART;TZID=UTC:20160119T170000
DTEND;TZID=UTC:20160119T190000
DTSTAMP:20260423T115009
CREATED:20151208T002205Z
LAST-MODIFIED:20160113T002815Z
UID:506-1453222800-1453230000@autismwny.org
SUMMARY:Individualized Education Program (IEP)
DESCRIPTION:Presented by Parent Network of WNY\, the Early Childhood Direction Center\, and New Directions Youth & Family Services \n\n\n\nEvery child receiving Special Education services has an Individualized Education Program (IEP). What is it and who writes it? What does individualized mean? In this workshop participants will learn about IEP components and receive tips and tools to become more involved in the planning process.\n\n\n\n\n\nChildcare offered – please reserve by January 11\, 2016. Please state age of child. No infants.\nTo register for this workshop\, call or go online today (716) 332-4170 or 1-866-277-4762 toll free www.parentnetworkwny.org
URL:https://autismwny.org/event/individualized-education-program-iep/
LOCATION:Wayne A. Secord Therapeutic Preschool\, 6395 Old Niagara Road\, Lockport\, NY\, 14094\, United States
CATEGORIES:Programs & Workshops
GEO:43.193762;-78.677398
X-APPLE-STRUCTURED-LOCATION;VALUE=URI;X-ADDRESS=Wayne A. Secord Therapeutic Preschool 6395 Old Niagara Road Lockport NY 14094 United States;X-APPLE-RADIUS=500;X-TITLE=6395 Old Niagara Road:geo:-78.677398,43.193762
END:VEVENT
BEGIN:VEVENT
DTSTART;TZID=UTC:20160113T130000
DTEND;TZID=UTC:20160113T140000
DTSTAMP:20260423T115009
CREATED:20151208T002719Z
LAST-MODIFIED:20160113T002834Z
UID:511-1452690000-1452693600@autismwny.org
SUMMARY:Caring for the Caregiver: Nutrition for the Brain & Body to Make it Happen: Sleep\, Food & Supplements
DESCRIPTION:Autism Research Institute Online Education \nThis talk covers the importance of self-care for adult caregivers\, and focuses on reasonable dietary and lifestyle choices and appropriate basic nutritional supplementation. We will talk briefly about all of the current dietary trends\, what to believe\, what is based in evidence and research\, and how to make choices for yourself and your family amid all the noise. This talk will review the key components to success with the above strategies by focusing on two major components that wear us down – poor sleep habits and poor nutrition. It will review sleep hygiene and natural sleep support options\, healthy dietary intake for all\, and nutritional supplements to consider for acute support when needed.
URL:https://autismwny.org/event/caring-for-the-caregiver-nutrition-for-the-brain-body-to-make-it-happen-sleep-food-supplements/
LOCATION:Webinar
CATEGORIES:Webinars
END:VEVENT
END:VCALENDAR