BEGIN:VCALENDAR
VERSION:2.0
PRODID:-//Autism Society Western New York - ECPv6.0.10//NONSGML v1.0//EN
CALSCALE:GREGORIAN
METHOD:PUBLISH
X-ORIGINAL-URL:https://autismwny.org
X-WR-CALDESC:Events for Autism Society Western New York
REFRESH-INTERVAL;VALUE=DURATION:PT1H
X-Robots-Tag:noindex
X-PUBLISHED-TTL:PT1H
BEGIN:VTIMEZONE
TZID:America/New_York
BEGIN:DAYLIGHT
TZOFFSETFROM:-0500
TZOFFSETTO:-0400
TZNAME:EDT
DTSTART:20220313T070000
END:DAYLIGHT
BEGIN:STANDARD
TZOFFSETFROM:-0400
TZOFFSETTO:-0500
TZNAME:EST
DTSTART:20221106T060000
END:STANDARD
END:VTIMEZONE
BEGIN:VEVENT
DTSTART;TZID=America/New_York:20221115T120000
DTEND;TZID=America/New_York:20221115T130000
DTSTAMP:20260422T043919
CREATED:20220711T214841Z
LAST-MODIFIED:20220711T214841Z
UID:6771-1668513600-1668517200@autismwny.org
SUMMARY:Chautauqua County Family & Caregiver Support Group via Zoom
DESCRIPTION:Receive Support – Connect with Others – Express Yourself\nFree Support for parents\, family members and caregivers of children with special needs \nREGISTER ONCE FOR MONTHLY EMAIL REMINDERS AND ZOOM MEETING LINKS!\nREGISTER:  https://parentnetworkwny.org/events/chautauqua-county-family-caregiver-support-group-11/ \nCall: 716-332-4170 | Email: info@parentnetworkwny.org
URL:https://autismwny.org/event/chautauqua-county-family-caregiver-support-group-via-zoom-14/
CATEGORIES:Support Groups
END:VEVENT
END:VCALENDAR