BEGIN:VCALENDAR
VERSION:2.0
PRODID:-//Autism Society Western New York - ECPv6.0.10//NONSGML v1.0//EN
CALSCALE:GREGORIAN
METHOD:PUBLISH
X-WR-CALNAME:Autism Society Western New York
X-ORIGINAL-URL:https://autismwny.org
X-WR-CALDESC:Events for Autism Society Western New York
REFRESH-INTERVAL;VALUE=DURATION:PT1H
X-Robots-Tag:noindex
X-PUBLISHED-TTL:PT1H
BEGIN:VTIMEZONE
TZID:America/New_York
BEGIN:DAYLIGHT
TZOFFSETFROM:-0500
TZOFFSETTO:-0400
TZNAME:EDT
DTSTART:20220313T070000
END:DAYLIGHT
BEGIN:STANDARD
TZOFFSETFROM:-0400
TZOFFSETTO:-0500
TZNAME:EST
DTSTART:20221106T060000
END:STANDARD
END:VTIMEZONE
BEGIN:VEVENT
DTSTART;TZID=America/New_York:20220929T183000
DTEND;TZID=America/New_York:20220929T200000
DTSTAMP:20260422T060208
CREATED:20220711T171159Z
LAST-MODIFIED:20220711T171159Z
UID:6757-1664476200-1664481600@autismwny.org
SUMMARY:Statewide- Special Education Parent Chat Group via Zoom
DESCRIPTION:As a parent of a child with a disability\, I know first-hand how hard it is to continue the good fight.  Sometimes we feel hopeless\, helpless\, and at a loss for words.  If you’re a parent\, grandparent\, caregiver of a child with special needs\, you may feel isolated\, alone and struggling with special education school related issues.  Come join us for an opportunity to share how your feelings\, engage in some great conversation and share resources with other parents in the community who are dealing with the same issues.  All from the comfort of your own home. \nIf you have questions\, please contact Tina Beauparlant- tbeauparlant@ptopnys.org Phone: (518) 381-4350. \nOnline Zoom- Registration Required:  https://us02web.zoom.us/meeting/register/tZcvduqtpzspHNELns7of5HyDn6ybP-4umZO
URL:https://autismwny.org/event/statewide-special-education-parent-chat-group-via-zoom-4/
CATEGORIES:Support Groups
END:VEVENT
END:VCALENDAR