BEGIN:VCALENDAR
VERSION:2.0
PRODID:-//Autism Society Western New York - ECPv6.0.10//NONSGML v1.0//EN
CALSCALE:GREGORIAN
METHOD:PUBLISH
X-ORIGINAL-URL:https://autismwny.org
X-WR-CALDESC:Events for Autism Society Western New York
REFRESH-INTERVAL;VALUE=DURATION:PT1H
X-Robots-Tag:noindex
X-PUBLISHED-TTL:PT1H
BEGIN:VTIMEZONE
TZID:America/New_York
BEGIN:DAYLIGHT
TZOFFSETFROM:-0500
TZOFFSETTO:-0400
TZNAME:EDT
DTSTART:20220313T070000
END:DAYLIGHT
BEGIN:STANDARD
TZOFFSETFROM:-0400
TZOFFSETTO:-0500
TZNAME:EST
DTSTART:20221106T060000
END:STANDARD
END:VTIMEZONE
BEGIN:VEVENT
DTSTART;TZID=America/New_York:20220609T190000
DTEND;TZID=America/New_York:20220609T200000
DTSTAMP:20260422T135906
CREATED:20220112T212914Z
LAST-MODIFIED:20220112T212914Z
UID:6138-1654801200-1654804800@autismwny.org
SUMMARY:(Spanish) Chat with Us! via Zoom
DESCRIPTION:¡Únase a nosotros para obtener respuestas a sus preguntas e inquietudes!\nRESPONDEREMOS SUS PREGUNTAS SOBRE…– Transiciones– Educación Especial y Discapacidades– Manejo de tiempo en el Hogar– Trabajo Escolar– Comportamiento– Tecnología Virtual– Recursos en Buffalo– ¡Y cualquier otro tema que quieras discutir!\nUnirse a la Zoom reuniónhttps://us06web.zoom.us/j/83163589898?pwd=Qmo4TCt2M1MwMjl6QUN1MkUwRjdXUT09Reunión ID: 831 6358 9898 Contraseña: 113048 \nSesiones Semanales de Charla Con Lizarelis Ali!\nemail: info@parentnetworkwny.org | call: 716.332.4170\nwww.parentnetworkwny.org/events
URL:https://autismwny.org/event/spanish-chat-with-us-via-zoom-6/
CATEGORIES:Support Groups
END:VEVENT
BEGIN:VEVENT
DTSTART;TZID=America/New_York:20220609T190000
DTEND;TZID=America/New_York:20220609T200000
DTSTAMP:20260422T135906
CREATED:20220427T203626Z
LAST-MODIFIED:20220427T203726Z
UID:6528-1654801200-1654804800@autismwny.org
SUMMARY:Residential Placement Online Discussion Group- Parents who have a child in a Residential placement
DESCRIPTION:Do you have a family member in a residential program and are struggling to make peace with this decision? Parent to Parent is excited to host a new Parent Discussion Group facilitated by Mariela Adams\, for families with children and adults of all ages that have children in residential school or a group home. \nVirtual Zoom- Registration Required:   https://us02web.zoom.us/meeting/register/tZItcOCgqjkiE93EvzhK2aXOn96j5KDcPGBy \nContact: Valerie Colavecchio – vcolavecchio@ptopnys.org
URL:https://autismwny.org/event/residential-placement-online-discussion-group-parents-who-have-a-child-in-a-residential-placement-4/
CATEGORIES:Support Groups
END:VEVENT
BEGIN:VEVENT
DTSTART;TZID=America/New_York:20220609T190000
DTEND;TZID=America/New_York:20220609T203000
DTSTAMP:20260422T135906
CREATED:20220523T160409Z
LAST-MODIFIED:20220523T160409Z
UID:6587-1654801200-1654806600@autismwny.org
SUMMARY:Parent to Parent of NYS Father Group On-Line Chat
DESCRIPTION:Virtual Meeting: Bi-weekly on Thursdays\, starting at 7 p.m. \nParent to Parent has established an informal Fathers Group to meet online via Zoom and discuss the role of dads in navigating their childrens’ special needs. \nVirtual Zoom- Registration required.  REGISTER \nQuestions\, contact Chris Brewster – cbrewster@ptopnys.org.
URL:https://autismwny.org/event/parent-to-parent-of-nys-father-group-on-line-chat-3/
CATEGORIES:Support Groups
END:VEVENT
END:VCALENDAR