BEGIN:VCALENDAR
VERSION:2.0
PRODID:-//Autism Society Western New York - ECPv6.0.10//NONSGML v1.0//EN
CALSCALE:GREGORIAN
METHOD:PUBLISH
X-WR-CALNAME:Autism Society Western New York
X-ORIGINAL-URL:https://autismwny.org
X-WR-CALDESC:Events for Autism Society Western New York
REFRESH-INTERVAL;VALUE=DURATION:PT1H
X-Robots-Tag:noindex
X-PUBLISHED-TTL:PT1H
BEGIN:VTIMEZONE
TZID:America/New_York
BEGIN:DAYLIGHT
TZOFFSETFROM:-0500
TZOFFSETTO:-0400
TZNAME:EDT
DTSTART:20210314T070000
END:DAYLIGHT
BEGIN:STANDARD
TZOFFSETFROM:-0400
TZOFFSETTO:-0500
TZNAME:EST
DTSTART:20211107T060000
END:STANDARD
END:VTIMEZONE
BEGIN:VEVENT
DTSTART;TZID=America/New_York:20211209T190000
DTEND;TZID=America/New_York:20211209T200000
DTSTAMP:20260423T001611
CREATED:20211108T194441Z
LAST-MODIFIED:20211108T194441Z
UID:5823-1639076400-1639080000@autismwny.org
SUMMARY:(Spanish) Chat with Us! via Zoom
DESCRIPTION:¡Únase a nosotros para obtener respuestas a sus preguntas e inquietudes! \nRESPONDEREMOS SUS PREGUNTAS SOBRE… \nTransiciones\nEducación Especial y Discapacidades\nManejo de tiempo en el Hogar\nTrabajo Escolar\nComportamiento\nTecnología Virtual\nRecursos en Buffalo\n¡Y cualquier otro tema que quieras discutir! \nUnirse a la Zoom reunión \nhttps://zoom.us/j/95683049386?pwd=OGNhVzF4Z2IzSHc0SF V3R1loRXRDdz09 \nReunión ID: 476 427 5463 Contraseña: 113048
URL:https://autismwny.org/event/spanish-chat-with-us-via-zoom/
CATEGORIES:Support Groups
END:VEVENT
END:VCALENDAR