BEGIN:VCALENDAR
VERSION:2.0
PRODID:-//Autism Society Western New York - ECPv6.0.10//NONSGML v1.0//EN
CALSCALE:GREGORIAN
METHOD:PUBLISH
X-ORIGINAL-URL:https://autismwny.org
X-WR-CALDESC:Events for Autism Society Western New York
REFRESH-INTERVAL;VALUE=DURATION:PT1H
X-Robots-Tag:noindex
X-PUBLISHED-TTL:PT1H
BEGIN:VTIMEZONE
TZID:America/New_York
BEGIN:DAYLIGHT
TZOFFSETFROM:-0500
TZOFFSETTO:-0400
TZNAME:EDT
DTSTART:20210314T070000
END:DAYLIGHT
BEGIN:STANDARD
TZOFFSETFROM:-0400
TZOFFSETTO:-0500
TZNAME:EST
DTSTART:20211107T060000
END:STANDARD
END:VTIMEZONE
BEGIN:VEVENT
DTSTART;TZID=America/New_York:20211117T183000
DTEND;TZID=America/New_York:20211117T193000
DTSTAMP:20260423T014336
CREATED:20210725T162048Z
LAST-MODIFIED:20210725T162048Z
UID:5443-1637173800-1637177400@autismwny.org
SUMMARY:Buffalo Group for Parents/Caregivers of Children with Autism Spectrum Disorders via Zoom
DESCRIPTION:Practicing social distancing but still need to talk?\nDo you want to\n~ feel less overwhelmed?\n~ feel a sense of belonging? \nGet the support you need from Kathy Doody\, Jana Mertz & other group members!\nJoin Zoom Meeting\nhttps://zoom.us/j/97311273663?pwd=ZDlSaWZZTnROU-UNaUTR6c3ErZ0RuQT09\nMeeting ID: 973 1127 3663\nPasscode: Ausome
URL:https://autismwny.org/event/buffalo-group-for-parents-caregivers-of-children-with-autism-spectrum-disorders-via-zoom-6/
CATEGORIES:Support Groups
END:VEVENT
BEGIN:VEVENT
DTSTART;TZID=America/New_York:20211117T190000
DTEND;TZID=America/New_York:20211117T203000
DTSTAMP:20260423T014336
CREATED:20211108T195556Z
LAST-MODIFIED:20211108T195556Z
UID:5829-1637175600-1637181000@autismwny.org
SUMMARY:Western NY Region: Caregiver Connections — Virtual Parent Groups through ZOOM
DESCRIPTION:At Parent to Parent of NYS we want you to know that during these uncertain and overwhelming times you are not alone. We are still here to offer support and information as we work from home. Our Caregiver Connections. This group is an informal meeting for parents who are navigating their child’s special needs. \nClick the link above to register in advance for this meeting. After registering\, you will receive a confirmation email containing information about joining the meeting. Contact Barb Hoffman with any questions. \nContact: Phone: Barb Hoffman – bhoffman@ptopnys.org \n11-_17-2021_Barb_Caregiver_Connection_flyer.docx \nZoom- Online Registration: https://us02web.zoom.us/meeting/register/tZIpdeihrDosG9LYa3MKFbUzR3VMBaqMqaQM
URL:https://autismwny.org/event/western-ny-region-caregiver-connections-virtual-parent-groups-through-zoom-6/
CATEGORIES:Support Groups
END:VEVENT
END:VCALENDAR