BEGIN:VCALENDAR
VERSION:2.0
PRODID:-//Autism Society Western New York - ECPv6.0.10//NONSGML v1.0//EN
CALSCALE:GREGORIAN
METHOD:PUBLISH
X-WR-CALNAME:Autism Society Western New York
X-ORIGINAL-URL:https://autismwny.org
X-WR-CALDESC:Events for Autism Society Western New York
REFRESH-INTERVAL;VALUE=DURATION:PT1H
X-Robots-Tag:noindex
X-PUBLISHED-TTL:PT1H
BEGIN:VTIMEZONE
TZID:America/New_York
BEGIN:DAYLIGHT
TZOFFSETFROM:-0500
TZOFFSETTO:-0400
TZNAME:EDT
DTSTART:20210314T070000
END:DAYLIGHT
BEGIN:STANDARD
TZOFFSETFROM:-0400
TZOFFSETTO:-0500
TZNAME:EST
DTSTART:20211107T060000
END:STANDARD
END:VTIMEZONE
BEGIN:VEVENT
DTSTART;TZID=America/New_York:20210909T110000
DTEND;TZID=America/New_York:20210909T123000
DTSTAMP:20260423T045451
CREATED:20210821T134051Z
LAST-MODIFIED:20210821T134051Z
UID:5560-1631185200-1631190600@autismwny.org
SUMMARY:Western NY Region: Caregiver Connections — Virtual Parent Groups through ZOOM
DESCRIPTION:At Parent to Parent of NYS we want you to know that during these uncertain and overwhelming times you are not alone. We are still here to offer support and information as we work from home. Our Caregiver Connections. This group is an informal meeting for parents who are navigating their child’s special needs. \nClick the link above to register in advance for this meeting. After registering\, you will receive a confirmation email containing information about joining the meeting. \n9-_9-2021_Barb_Caregiver_Connection_flyer.docx \nContact: Phone: Barb Hoffman – bhoffman@ptopnys.org \nREGISTER:  https://us02web.zoom.us/meeting/register/tZwtf-yurjktGtff2-QNCRmVoLU3YandfV4J
URL:https://autismwny.org/event/western-ny-region-caregiver-connections-virtual-parent-groups-through-zoom-5/
CATEGORIES:Support Groups
END:VEVENT
BEGIN:VEVENT
DTSTART;TZID=America/New_York:20210909T190000
DTEND;TZID=America/New_York:20210909T200000
DTSTAMP:20260423T045451
CREATED:20210821T134534Z
LAST-MODIFIED:20210821T134534Z
UID:5562-1631214000-1631217600@autismwny.org
SUMMARY:Residential Placement Online Discussion Group
DESCRIPTION:Do you have a family member in a residential program and are struggling to make peace with this decision? Parent to Parent is excited to host a new Parent Discussion Group facilitated by Mariela Adams\, for families with children and adults of all ages that have children in residential school or a group home. \nCome join us for an hour of support and conversation about this important topic. \nSee flyer for registration link \nSeptember-_Residential_Placement_Discussion_Group.docx \nREGISTER:  https://us02web.zoom.us/meeting/register/tZIvd-CspjktE9MrDO_9RBzg5OhXsTh-oIbM \nContact: Phone: Contact: Phone: Valerie Colavecchio – vcolavecchio@ptopnys.org
URL:https://autismwny.org/event/residential-placement-online-discussion-group/
CATEGORIES:Support Groups
END:VEVENT
BEGIN:VEVENT
DTSTART;TZID=America/New_York:20210909T190000
DTEND;TZID=America/New_York:20210909T203000
DTSTAMP:20260423T045451
CREATED:20210821T135013Z
LAST-MODIFIED:20210821T135013Z
UID:5564-1631214000-1631219400@autismwny.org
SUMMARY:Parent to Parent of NYS Father Group On-Line Chat
DESCRIPTION:Parent to Parent has established an informal Fathers Group to meet online via Zoom and discuss the role of dads in navigating their child’s special needs. \nVirtual Meeting: Thursday\, September 9\, 2021. \nDads_group_flyer_2021.docx \nContact: Phone: Chris Brewster-cbrewster@ptopnys.org \nREGISTER:  https://us02web.zoom.us/meeting/register/tZArf-Ggqj0vGtAeVLnnDTOE-nupexKmhHwq
URL:https://autismwny.org/event/parent-to-parent-of-nys-father-group-on-line-chat/
CATEGORIES:Support Groups
END:VEVENT
END:VCALENDAR