BEGIN:VCALENDAR
VERSION:2.0
PRODID:-//Autism Society Western New York - ECPv6.0.10//NONSGML v1.0//EN
CALSCALE:GREGORIAN
METHOD:PUBLISH
X-ORIGINAL-URL:https://autismwny.org
X-WR-CALDESC:Events for Autism Society Western New York
REFRESH-INTERVAL;VALUE=DURATION:PT1H
X-Robots-Tag:noindex
X-PUBLISHED-TTL:PT1H
BEGIN:VTIMEZONE
TZID:America/New_York
BEGIN:DAYLIGHT
TZOFFSETFROM:-0500
TZOFFSETTO:-0400
TZNAME:EDT
DTSTART:20210314T070000
END:DAYLIGHT
BEGIN:STANDARD
TZOFFSETFROM:-0400
TZOFFSETTO:-0500
TZNAME:EST
DTSTART:20211107T060000
END:STANDARD
END:VTIMEZONE
BEGIN:VEVENT
DTSTART;TZID=America/New_York:20210520T183000
DTEND;TZID=America/New_York:20210520T193000
DTSTAMP:20260423T121426
CREATED:20210213T211744Z
LAST-MODIFIED:20210213T211744Z
UID:5025-1621535400-1621539000@autismwny.org
SUMMARY:Chautauqua County Family & Caregiver Support Group - via Zoom
DESCRIPTION:Want to feel less overwhelmed?  Want to feel a sense of belonging?  This is the place for you. \nNo Judgements!  No Fee!  Every 1st & 3rd Thursday of the Month from 6:30-7:30PM. \nJoin Zoom meeting:  https://us02web.zoom.us/j/82679660440?pwd=VlJsWE9OVjI0ODIwK1E0c2dCNDBMdz09\nMeeting ID: 826 7966 0440\nPassword: 028188\nOne tap mobile\n+19292056099\,\, 82679660440#\,\,1#\,028188# US (New York) \nIf you have any questions contact us at (716) 332-4170 or info@parentnetworkwny.org or join the group on Facebook for future dates\, helpful hints and links:  CHQ Support Group for Parents/Caregivers of Children with Special Needs
URL:https://autismwny.org/event/chautauqua-county-family-caregiver-support-group-via-zoom/
CATEGORIES:Support Groups
END:VEVENT
BEGIN:VEVENT
DTSTART;TZID=America/New_York:20210520T190000
DTEND;TZID=America/New_York:20210520T200000
DTSTAMP:20260423T121426
CREATED:20210503T221742Z
LAST-MODIFIED:20210503T221742Z
UID:5297-1621537200-1621540800@autismwny.org
SUMMARY:Buffalo Parent & Caregiver Chat Session via Zoom
DESCRIPTION:BUFFALO FAMILIES! \nWe are here to answer your questions and concerns\non a wide range of topics including \n\nTransitions\nMeltdowns\nTime Management\nTechnology Needs\nGuidance to Resources in Buffalo\n\nAny other topics\, general questions or concerns! \nJoin us via Zoom!  \nhttps://zoom.us/j/98967722694 \nMeeting ID: 989 6772 2694
URL:https://autismwny.org/event/buffalo-parent-caregiver-chat-session-via-zoom/
CATEGORIES:Support Groups
END:VEVENT
END:VCALENDAR