BEGIN:VCALENDAR
VERSION:2.0
PRODID:-//Autism Society Western New York - ECPv6.0.10//NONSGML v1.0//EN
CALSCALE:GREGORIAN
METHOD:PUBLISH
X-WR-CALNAME:Autism Society Western New York
X-ORIGINAL-URL:https://autismwny.org
X-WR-CALDESC:Events for Autism Society Western New York
REFRESH-INTERVAL;VALUE=DURATION:PT1H
X-Robots-Tag:noindex
X-PUBLISHED-TTL:PT1H
BEGIN:VTIMEZONE
TZID:America/New_York
BEGIN:DAYLIGHT
TZOFFSETFROM:-0500
TZOFFSETTO:-0400
TZNAME:EDT
DTSTART:20210314T070000
END:DAYLIGHT
BEGIN:STANDARD
TZOFFSETFROM:-0400
TZOFFSETTO:-0500
TZNAME:EST
DTSTART:20211107T060000
END:STANDARD
END:VTIMEZONE
BEGIN:VEVENT
DTSTART;TZID=America/New_York:20210506T190000
DTEND;TZID=America/New_York:20210506T200000
DTSTAMP:20260423T121119
CREATED:20210427T021817Z
LAST-MODIFIED:20210427T021817Z
UID:5256-1620327600-1620331200@autismwny.org
SUMMARY:Buffalo Parent and Caregiver Chat Session
DESCRIPTION:BUFFALO FAMILIES! \nWe are here to answer your questions and concerns on a wide range of topics including \n\nTransitions\nMeltdowns\nTime Management\nTechnology Needs\nGuidance to Resources in Buffalo\n\nAny other topics\, general questions or concerns! \nJoin Zoom Meeting\nhttps://zoom.us/j/98967722694 \nMeeting ID: 989 6772 2694 
URL:https://autismwny.org/event/buffalo-parent-and-caregiver-chat-session/
CATEGORIES:Support Groups
END:VEVENT
END:VCALENDAR