BEGIN:VCALENDAR
VERSION:2.0
PRODID:-//Autism Society Western New York - ECPv6.0.10//NONSGML v1.0//EN
CALSCALE:GREGORIAN
METHOD:PUBLISH
X-WR-CALNAME:Autism Society Western New York
X-ORIGINAL-URL:https://autismwny.org
X-WR-CALDESC:Events for Autism Society Western New York
REFRESH-INTERVAL;VALUE=DURATION:PT1H
X-Robots-Tag:noindex
X-PUBLISHED-TTL:PT1H
BEGIN:VTIMEZONE
TZID:America/New_York
BEGIN:DAYLIGHT
TZOFFSETFROM:-0500
TZOFFSETTO:-0400
TZNAME:EDT
DTSTART:20210314T070000
END:DAYLIGHT
BEGIN:STANDARD
TZOFFSETFROM:-0400
TZOFFSETTO:-0500
TZNAME:EST
DTSTART:20211107T060000
END:STANDARD
END:VTIMEZONE
BEGIN:VEVENT
DTSTART;TZID=America/New_York:20210315T190000
DTEND;TZID=America/New_York:20210315T203000
DTSTAMP:20260423T151125
CREATED:20210118T195410Z
LAST-MODIFIED:20210118T195410Z
UID:4897-1615834800-1615840200@autismwny.org
SUMMARY:Northtowns Family/Caregiver Support Group via Zoom
DESCRIPTION:Are you a parent of a child with disabilities or suspect they have a disability?  Do you want to\n~feel less overwhelmed?\n~feel a sense of belonging?\nGet the support you need from Parent Network of WNY\, Empower and other group members!\nJoin Zoom Meeting:  https://zoom.us/j/99541728957?pwd=a1Q4djhNRnhKaktJblhZbC84RC8rQT09\nMeeting ID: 995 4172 8957 Passcode: 075356 \nNO JUDGEMENTS – NO FEES – ALL ARE WELCOME\nemail: info@parentnetworkwny.org | call: 716-332-4170\nonline: www.parentnetworkwny.org/events
URL:https://autismwny.org/event/northtowns-family-caregiver-support-group-via-zoom-3/
CATEGORIES:Support Groups
ORGANIZER;CN="Empower":MAILTO:info@empower-wny.org
END:VEVENT
END:VCALENDAR