BEGIN:VCALENDAR
VERSION:2.0
PRODID:-//Autism Society Western New York - ECPv6.0.10//NONSGML v1.0//EN
CALSCALE:GREGORIAN
METHOD:PUBLISH
X-WR-CALNAME:Autism Society Western New York
X-ORIGINAL-URL:https://autismwny.org
X-WR-CALDESC:Events for Autism Society Western New York
REFRESH-INTERVAL;VALUE=DURATION:PT1H
X-Robots-Tag:noindex
X-PUBLISHED-TTL:PT1H
BEGIN:VTIMEZONE
TZID:America/New_York
BEGIN:DAYLIGHT
TZOFFSETFROM:-0500
TZOFFSETTO:-0400
TZNAME:EDT
DTSTART:20210314T070000
END:DAYLIGHT
BEGIN:STANDARD
TZOFFSETFROM:-0400
TZOFFSETTO:-0500
TZNAME:EST
DTSTART:20211107T060000
END:STANDARD
END:VTIMEZONE
BEGIN:VEVENT
DTSTART;TZID=America/New_York:20210119T173000
DTEND;TZID=America/New_York:20210119T190000
DTSTAMP:20260423T175210
CREATED:20201215T063412Z
LAST-MODIFIED:20201215T063517Z
UID:4754-1611077400-1611082800@autismwny.org
SUMMARY:FAMILY & CAREGIVER GROUP for Parents of Children with Developmental Disabilities
DESCRIPTION:PURPOSE:  Provide a welcoming environment for parents\, family members and other caregivers of individuals with developmental disabilities to meet\, share experiences\, ask questions and receive support. \nDATE\nTuesday\, January 19\, 2021\nTuesday\, February 16\, 2021\nTuesday\, March 16\, 2021\nTIME:  5:30 –7:00 PM \n“NEW ZOOM LINK”\nWe are moving to ZOOM every month on the Third Tuesday.\nJoin Zoom Meeting:  https://zoom.us/j/95461308157?pwd=bXNHRG9vS1ZRUG1BL3QzM05XdWJKdz09\nMeeting ID: 954 6130 8157\nPasscode: 905542\nDial by your location\n+1 646 558 8656 US (New York) \nIf you have any questions contact us at (716) 332-4170 or info@parentnetworkwny.org.
URL:https://autismwny.org/event/family-caregiver-group-for-parents-of-children-with-developmental-disabilities-23/
CATEGORIES:Support Groups
END:VEVENT
END:VCALENDAR