BEGIN:VCALENDAR
VERSION:2.0
PRODID:-//Autism Society Western New York - ECPv6.0.10//NONSGML v1.0//EN
CALSCALE:GREGORIAN
METHOD:PUBLISH
X-WR-CALNAME:Autism Society Western New York
X-ORIGINAL-URL:https://autismwny.org
X-WR-CALDESC:Events for Autism Society Western New York
REFRESH-INTERVAL;VALUE=DURATION:PT1H
X-Robots-Tag:noindex
X-PUBLISHED-TTL:PT1H
BEGIN:VTIMEZONE
TZID:America/New_York
BEGIN:DAYLIGHT
TZOFFSETFROM:-0500
TZOFFSETTO:-0400
TZNAME:EDT
DTSTART:20200308T070000
END:DAYLIGHT
BEGIN:STANDARD
TZOFFSETFROM:-0400
TZOFFSETTO:-0500
TZNAME:EST
DTSTART:20201101T060000
END:STANDARD
END:VTIMEZONE
BEGIN:VEVENT
DTSTART;TZID=America/New_York:20201221T190000
DTEND;TZID=America/New_York:20201221T203000
DTSTAMP:20260423T190342
CREATED:20201028T215953Z
LAST-MODIFIED:20201028T220022Z
UID:4631-1608577200-1608582600@autismwny.org
SUMMARY:Family & Caregiver - Niagara Autism Group
DESCRIPTION:Purpose:  Provide a welcoming environment for parents and other caregivers of children with autism spectrum disorders to meet\, share experiences\, ask questions and receive support.\nPracticing Social Distancing but still need to talk?\nWe will be meeting via Zoom meeting.\nJoin Zoom Meeting:  https://zoom.us/j/99541728957?pwd= a1Q4djhNRnhKaktJblhZbC84RC8rQT09\nMeeting ID: 995 4172 8957\nPasscode: 075356\nDial by your location:\n+1 646 558 8656 US (New York)
URL:https://autismwny.org/event/family-caregiver-niagara-autism-group-19/
CATEGORIES:Support Groups
ORGANIZER;CN="Empower":MAILTO:info@empower-wny.org
END:VEVENT
END:VCALENDAR