BEGIN:VCALENDAR
VERSION:2.0
PRODID:-//Autism Society Western New York - ECPv6.0.10//NONSGML v1.0//EN
CALSCALE:GREGORIAN
METHOD:PUBLISH
X-ORIGINAL-URL:https://autismwny.org
X-WR-CALDESC:Events for Autism Society Western New York
REFRESH-INTERVAL;VALUE=DURATION:PT1H
X-Robots-Tag:noindex
X-PUBLISHED-TTL:PT1H
BEGIN:VTIMEZONE
TZID:America/New_York
BEGIN:DAYLIGHT
TZOFFSETFROM:-0500
TZOFFSETTO:-0400
TZNAME:EDT
DTSTART:20200308T070000
END:DAYLIGHT
BEGIN:STANDARD
TZOFFSETFROM:-0400
TZOFFSETTO:-0500
TZNAME:EST
DTSTART:20201101T060000
END:STANDARD
END:VTIMEZONE
BEGIN:VEVENT
DTSTART;TZID=America/New_York:20201216T183000
DTEND;TZID=America/New_York:20201216T193000
DTSTAMP:20260423T192039
CREATED:20201215T052009Z
LAST-MODIFIED:20201215T052009Z
UID:4724-1608143400-1608147000@autismwny.org
SUMMARY:FAMILY & CAREGIVER - ERIE PARENTS OF CHILDREN WITH AUTISM GROUP
DESCRIPTION:PURPOSE:  Provide a welcoming environment for parents and other caregivers of children with autism spectrum disorders to meet\, share experiences\, ask questions and receive support.  Practicing social distancing but still need to talk?\nKathy Doody and Jana Mertz are inviting you to a scheduled Zoom meeting. December 16\, 2020 & January 13\, 2021 from 6:30 – 7:30 pm\nJoin Zoom Meeting:  https://zoom.us/j/97311273663?pwd=ZDlSaWZZTnROUUNaUTR6c3ErZ0RuQT09\nMeeting ID: 973 1127 3663\nPasscode: Ausome \nFREE TO ATTEND – ALL ARE WELCOME\nwww.parentnetworkwny.org or (716) 332-4170 or info@parentnetworkwny.org
URL:https://autismwny.org/event/family-caregiver-erie-parents-of-children-with-autism-group-4/
CATEGORIES:Support Groups
END:VEVENT
BEGIN:VEVENT
DTSTART;TZID=America/New_York:20201216T183000
DTEND;TZID=America/New_York:20201216T200000
DTSTAMP:20260423T192039
CREATED:20200123T191342Z
LAST-MODIFIED:20200123T192929Z
UID:3271-1608143400-1608148800@autismwny.org
SUMMARY:Parent Group for Parents of Children with Autism Spectrum Disorders
DESCRIPTION:Provides a welcoming environment for parents and other caregivers of children with autism spectrum disorders to meet\, share experiences\, ask questions and receive support. \n\n\n\n\n*Light refreshments will be served. \nMODERATED BY: \nKathy Ralabate Doody\, PhD – Parent of child with autism\, Instructor\, Exceptional Education at Buffalo State \nJana Mertz\, MBA – Program Coordinator\, The Children’s Guild Foundation Autism Center Oishei Children’s Hospital of Buffalo \n\n\n\nRSVP TO ATTEND.  Please call (716) 323-6435 or e-mail: jmertz@kaleidahealth.org.  Please sign up online so we will have enough materials available:https://tinyurl.com/2020ausomeparents \nFREE TO ATTEND – ALL ARE WELCOME BUT\, RESERVATIONS ARE APPRECIATED \nIf you are interested in attending but have transportation or other barriers that would limit your participation\, please let us know.
URL:https://autismwny.org/event/parent-group-for-parents-of-children-with-autism-spectrum-disorders-10/
LOCATION:Aspire Building\, 7 Community Drive\, Cheektowaga\, NY\, 14225\, United States
CATEGORIES:Support Groups
GEO:42.931214;-78.7736665
X-APPLE-STRUCTURED-LOCATION;VALUE=URI;X-ADDRESS=Aspire Building 7 Community Drive Cheektowaga NY 14225 United States;X-APPLE-RADIUS=500;X-TITLE=7 Community Drive:geo:-78.7736665,42.931214
END:VEVENT
BEGIN:VEVENT
DTSTART;TZID=America/New_York:20201216T190000
DTEND;TZID=America/New_York:20201216T200000
DTSTAMP:20260423T192039
CREATED:20201114T235153Z
LAST-MODIFIED:20201114T235153Z
UID:4669-1608145200-1608148800@autismwny.org
SUMMARY:Charla con Nosotros!
DESCRIPTION:¡Únase a nosotros para obtener respuestas a sus preguntas e inquietudes! \nResponderemos sus preguntas sobre… \nCharla con Nosotros! ¡Únase a nosotros para obtener respuestas a sus preguntas e inquietudes!\n• Transiciones \n• Educación Especial y Discapacidades \n• Manejo de tiempo en el Hogar \n• Trabajo Escolar \n• Comportamiento \n• Tecnología \n• Recursos en Buffalo \n• ¡Y cualquier otro tema que quieras discutir! \nSesiones Semanales de Charla Con Lizarelis Ali! \nACERCA DE LA ANFITRIONA: Lizarelis Ali es especialista en apoyo familiar en Parent Network of WNY.  Ella ha estado trabajando con las familias en la ciudad de Buffalo por más de 20 años.  Su esperiencia es en apoyar y guiar a las familias en las comunidades que tienen hijos con autismo\, ADHD y problemas de aprendizaje. \nUnirse a la Zoom reunión\nhttps://zoom.us/j/95683049386?pwd=OGNhVzF4Z2IzSHc0SFV3R1loRXRDdz09 \nReunión: ID: 956 8304 9386\nContraseña: 811333 \nMarque por su ubicación\n+1 646 558 8656 US (New York)
URL:https://autismwny.org/event/charla-con-nosotros-10/
CATEGORIES:Support Groups
END:VEVENT
END:VCALENDAR