BEGIN:VCALENDAR
VERSION:2.0
PRODID:-//Autism Society Western New York - ECPv6.0.10//NONSGML v1.0//EN
CALSCALE:GREGORIAN
METHOD:PUBLISH
X-ORIGINAL-URL:https://autismwny.org
X-WR-CALDESC:Events for Autism Society Western New York
REFRESH-INTERVAL;VALUE=DURATION:PT1H
X-Robots-Tag:noindex
X-PUBLISHED-TTL:PT1H
BEGIN:VTIMEZONE
TZID:America/New_York
BEGIN:DAYLIGHT
TZOFFSETFROM:-0500
TZOFFSETTO:-0400
TZNAME:EDT
DTSTART:20200308T070000
END:DAYLIGHT
BEGIN:STANDARD
TZOFFSETFROM:-0400
TZOFFSETTO:-0500
TZNAME:EST
DTSTART:20201101T060000
END:STANDARD
END:VTIMEZONE
BEGIN:VEVENT
DTSTART;TZID=America/New_York:20201205T100000
DTEND;TZID=America/New_York:20201205T120000
DTSTAMP:20260423T192039
CREATED:20200127T155351Z
LAST-MODIFIED:20200127T155351Z
UID:3320-1607162400-1607169600@autismwny.org
SUMMARY:Family & Caregiver Group for Parents of Children with Developmental Disabilities
DESCRIPTION:Provides a welcoming environment for parents\, family members and other caregivers of individuals with developmental disabilities to meet\, share experiences\, ask questions and receive support. \n\n\n\n\n\nRSVP TO ATTEND \nwww.parentnetworkwny.org or (716) 332-4170 or info@parentnetworkwny.org \n\n\nIf you are interested in attending but have transportation or other barriers that would limit your participation\, please let us know. \n\n\n\n\n\n\nChild Care is available. In order to provide for your child’s individual needs reservations for childcare are required by the Monday prior to the meeting. Registration forms are required for all new children and are available at www.parentnetworkwny.org or call (716) 332-4175.
URL:https://autismwny.org/event/family-caregiver-group-for-parents-of-children-with-developmental-disabilities-10/
LOCATION:Prevention Works Office\, 501 W. 3rd Street (Suites 3&4)\, Jamestown\, NY\, 14701\, United States
CATEGORIES:Support Groups
GEO:42.0951;-79.2474497
X-APPLE-STRUCTURED-LOCATION;VALUE=URI;X-ADDRESS=Prevention Works Office 501 W. 3rd Street (Suites 3&4) Jamestown NY 14701 United States;X-APPLE-RADIUS=500;X-TITLE=501 W. 3rd Street (Suites 3&4):geo:-79.2474497,42.0951
END:VEVENT
END:VCALENDAR