BEGIN:VCALENDAR
VERSION:2.0
PRODID:-//Autism Society Western New York - ECPv6.0.10//NONSGML v1.0//EN
CALSCALE:GREGORIAN
METHOD:PUBLISH
X-ORIGINAL-URL:https://autismwny.org
X-WR-CALDESC:Events for Autism Society Western New York
REFRESH-INTERVAL;VALUE=DURATION:PT1H
X-Robots-Tag:noindex
X-PUBLISHED-TTL:PT1H
BEGIN:VTIMEZONE
TZID:America/New_York
BEGIN:DAYLIGHT
TZOFFSETFROM:-0500
TZOFFSETTO:-0400
TZNAME:EDT
DTSTART:20200308T070000
END:DAYLIGHT
BEGIN:STANDARD
TZOFFSETFROM:-0400
TZOFFSETTO:-0500
TZNAME:EST
DTSTART:20201101T060000
END:STANDARD
END:VTIMEZONE
BEGIN:VEVENT
DTSTART;TZID=America/New_York:20201203T190000
DTEND;TZID=America/New_York:20201203T200000
DTSTAMP:20260423T192039
CREATED:20201016T230520Z
LAST-MODIFIED:20201016T230520Z
UID:4580-1607022000-1607025600@autismwny.org
SUMMARY:Buffalo Parent & Caregiver Chat Sessions
DESCRIPTION:Join us at our weekly chat sessions to discuss your questions & concerns.  Buffalo Families! We are here to answer your questions and concerns on a wide range of topics including\n• Transitions \n• Meltdowns \n• Time Management \n• Technology Needs \n• Guidance to Resources in Buffalo \n• And Any Other Topics\, General Questions or Concerns! \nABOUT THE HOSTS \nKim Hernandez is a Family Support Specialist at Parent Network of WNY.  She has been working with the families in the city of Buffalo for over 17 years.  Her expertise is supporting families from disadvantaged communities who have children with a variety of disabilities. \nLizarelis Ali is a Family Support Specialist at Parent Network of WNY.  She has been working with the families in the city of Buffalo for over 20 years.  Her expertise is supporting families from disadvantaged communities who have children with autism\, ADHD and learning disabilities. \nJoin Zoom meeting:  https://zoom.us/j/91379417144?pwd=a1BTU3FLMUUyNUFzWHV3WW5KUElZQT09\nMeeting ID: 913 7941 7144\nPasscode: 894050\n+1 646 558 8656 US (New York)
URL:https://autismwny.org/event/buffalo-parent-caregiver-chat-sessions-16/
CATEGORIES:Support Groups
END:VEVENT
END:VCALENDAR