BEGIN:VCALENDAR
VERSION:2.0
PRODID:-//Autism Society Western New York - ECPv6.0.10//NONSGML v1.0//EN
CALSCALE:GREGORIAN
METHOD:PUBLISH
X-ORIGINAL-URL:https://autismwny.org
X-WR-CALDESC:Events for Autism Society Western New York
REFRESH-INTERVAL;VALUE=DURATION:PT1H
X-Robots-Tag:noindex
X-PUBLISHED-TTL:PT1H
BEGIN:VTIMEZONE
TZID:America/New_York
BEGIN:DAYLIGHT
TZOFFSETFROM:-0500
TZOFFSETTO:-0400
TZNAME:EDT
DTSTART:20200308T070000
END:DAYLIGHT
BEGIN:STANDARD
TZOFFSETFROM:-0400
TZOFFSETTO:-0500
TZNAME:EST
DTSTART:20201101T060000
END:STANDARD
END:VTIMEZONE
BEGIN:VEVENT
DTSTART;TZID=America/New_York:20201014T183000
DTEND;TZID=America/New_York:20201014T200000
DTSTAMP:20260423T221606
CREATED:20200922T212310Z
LAST-MODIFIED:20200922T212310Z
UID:4485-1602700200-1602705600@autismwny.org
SUMMARY:FAMILY & CAREGIVER ERIE PARENTS OF CHILDREN WITH AUTISM GROUP
DESCRIPTION:PURPOSE:  Provide a welcoming environment for parents and other caregivers of children with autism spectrum disorders to meet\, share experiences\, ask questions and receive support.\nPracticing social distancing but still need to talk?  Kathy Doody and Jana Mertz are inviting you to a scheduled Zoom meeting. \nJoin Zoom Meeting https://www.zoom.us/j/97311273663#success Au-Some Parents October and November 2020\nMeeting ID: 973 1127 3663\nPassword: OctNov \nFree to attend.  All are welcome.
URL:https://autismwny.org/event/family-caregiver-erie-parents-of-children-with-autism-group-2/
CATEGORIES:Support Groups
END:VEVENT
BEGIN:VEVENT
DTSTART;TZID=America/New_York:20201014T190000
DTEND;TZID=America/New_York:20201014T200000
DTSTAMP:20260423T221606
CREATED:20200727T165525Z
LAST-MODIFIED:20200922T002953Z
UID:4176-1602702000-1602705600@autismwny.org
SUMMARY:Charla con Nosotros!
DESCRIPTION:¡Únase a nosotros para obtener respuestas a sus preguntas e inquietudes! \nResponderemos sus preguntas sobre… \nCharla con Nosotros! ¡Únase a nosotros para obtener respuestas a sus preguntas e inquietudes!\n• Transiciones \n• Educación Especial y Discapacidades \n• Manejo de tiempo en el Hogar \n• Trabajo Escolar \n• Comportamiento \n• Tecnología \n• Recursos en Buffalo \n• ¡Y cualquier otro tema que quieras discutir! \nSesiones Semanales de Charla Con Lizarelis Ali! \nACERCA DE LA ANFITRIONA: Lizarelis Ali es especialista en apoyo familiar en Parent Network of WNY.  Ella ha estado trabajando con las familias en la ciudad de Buffalo por más de 20 años.  Su esperiencia es en apoyar y guiar a las familias en las comunidades que tienen hijos con autismo\, ADHD y problemas de aprendizaje. \nUnirse a la Zoom reunión https://zoom.us/j/95683049386?pwd=OGNhVzF4Z2IzSHc0SFV3R1loRXRDdz09\nReunión ID:  956 8304 9386\nContraseña:  811333\nMarque por su ubicación\n+1 646 558 8656 US (New York)
URL:https://autismwny.org/event/charla-con-nosotros-4/
CATEGORIES:Support Groups
END:VEVENT
END:VCALENDAR