BEGIN:VCALENDAR
VERSION:2.0
PRODID:-//Autism Society Western New York - ECPv6.0.10//NONSGML v1.0//EN
CALSCALE:GREGORIAN
METHOD:PUBLISH
X-WR-CALNAME:Autism Society Western New York
X-ORIGINAL-URL:https://autismwny.org
X-WR-CALDESC:Events for Autism Society Western New York
REFRESH-INTERVAL;VALUE=DURATION:PT1H
X-Robots-Tag:noindex
X-PUBLISHED-TTL:PT1H
BEGIN:VTIMEZONE
TZID:America/New_York
BEGIN:DAYLIGHT
TZOFFSETFROM:-0500
TZOFFSETTO:-0400
TZNAME:EDT
DTSTART:20200308T070000
END:DAYLIGHT
BEGIN:STANDARD
TZOFFSETFROM:-0400
TZOFFSETTO:-0500
TZNAME:EST
DTSTART:20201101T060000
END:STANDARD
END:VTIMEZONE
BEGIN:VEVENT
DTSTART;TZID=America/New_York:20200806T183000
DTEND;TZID=America/New_York:20200806T193000
DTSTAMP:20260424T010312
CREATED:20200727T172636Z
LAST-MODIFIED:20200727T172636Z
UID:4192-1596738600-1596742200@autismwny.org
SUMMARY:Chautauqua County Family & Caregiver Support Group
DESCRIPTION:PURPOSE:  Provide a welcoming environment for parents\, family members and other caregivers of individuals\nwith developmental disabilities to meet\, share experiences\, ask questions and receive support. \nJoin Zoom Meeting:  https://us02web.zoom.us/j/82679660440?pwd=VlJsWE9OVjI0ODIwK1E0c2dCNDBMdz09\nMeeting ID:  826 7966 0440\nPassword:  028188\nOne tap mobile\n+19292056099\,\,82679660440#\,\,1#\,0281\n88# US (New York) \nIf you have any questions contact us at (716) 332-4170 or info@parentnetworkwny.org or join the group on Facebook for future dates\, helpful hints and links CHQ Support Group for Parents/Caregivers of Children with Special Needs.
URL:https://autismwny.org/event/chautauqua-county-family-caregiver-support-group-4/
CATEGORIES:Support Groups
END:VEVENT
END:VCALENDAR