BEGIN:VCALENDAR
VERSION:2.0
PRODID:-//Autism Society Western New York - ECPv6.0.10//NONSGML v1.0//EN
CALSCALE:GREGORIAN
METHOD:PUBLISH
X-WR-CALNAME:Autism Society Western New York
X-ORIGINAL-URL:https://autismwny.org
X-WR-CALDESC:Events for Autism Society Western New York
REFRESH-INTERVAL;VALUE=DURATION:PT1H
X-Robots-Tag:noindex
X-PUBLISHED-TTL:PT1H
BEGIN:VTIMEZONE
TZID:America/New_York
BEGIN:DAYLIGHT
TZOFFSETFROM:-0500
TZOFFSETTO:-0400
TZNAME:EDT
DTSTART:20200308T070000
END:DAYLIGHT
BEGIN:STANDARD
TZOFFSETFROM:-0400
TZOFFSETTO:-0500
TZNAME:EST
DTSTART:20201101T060000
END:STANDARD
END:VTIMEZONE
BEGIN:VEVENT
DTSTART;TZID=America/New_York:20200803T190000
DTEND;TZID=America/New_York:20200803T200000
DTSTAMP:20260424T010311
CREATED:20200114T183551Z
LAST-MODIFIED:20200719T152337Z
UID:3213-1596481200-1596484800@autismwny.org
SUMMARY:Family & Caregiver - Niagara Autism Group
DESCRIPTION:Provides a welcoming environment for parents and other caregivers of children with autism spectrum disorders to meet\, share experiences\, ask questions and receive support. \nPracticing Social Distancing but still need to talk?  We will be meeting via Zoom meeting on August 3 & August 17 from 7:00- 8:00 pm\nJoin Zoom Meeting:  https://us02web.zoom.us/j/86330143381?pwd=Z2c3aVNCVnVvSUJHUHA0RkJBVEwvQT09\nMeeting ID: 863 3014 3381\nPassword: 127625\n+1 646 558 8656 US (New York)
URL:https://autismwny.org/event/family-caregiver-niagara-autism-group-5/
LOCATION:Empower Children’s Academy\, 9812 Lockport Road\, Niagara Falls\, NY\, 14304
CATEGORIES:Support Groups
ORGANIZER;CN="Empower":MAILTO:info@empower-wny.org
GEO:43.121847;-78.949671
X-APPLE-STRUCTURED-LOCATION;VALUE=URI;X-ADDRESS=Empower Children’s Academy 9812 Lockport Road Niagara Falls NY 14304;X-APPLE-RADIUS=500;X-TITLE=9812 Lockport Road:geo:-78.949671,43.121847
END:VEVENT
END:VCALENDAR