BEGIN:VCALENDAR
VERSION:2.0
PRODID:-//Autism Society Western New York - ECPv6.0.10//NONSGML v1.0//EN
CALSCALE:GREGORIAN
METHOD:PUBLISH
X-ORIGINAL-URL:https://autismwny.org
X-WR-CALDESC:Events for Autism Society Western New York
REFRESH-INTERVAL;VALUE=DURATION:PT1H
X-Robots-Tag:noindex
X-PUBLISHED-TTL:PT1H
BEGIN:VTIMEZONE
TZID:America/New_York
BEGIN:DAYLIGHT
TZOFFSETFROM:-0500
TZOFFSETTO:-0400
TZNAME:EDT
DTSTART:20200308T070000
END:DAYLIGHT
BEGIN:STANDARD
TZOFFSETFROM:-0400
TZOFFSETTO:-0500
TZNAME:EST
DTSTART:20201101T060000
END:STANDARD
END:VTIMEZONE
BEGIN:VEVENT
DTSTART;TZID=America/New_York:20200716T190000
DTEND;TZID=America/New_York:20200716T203000
DTSTAMP:20260424T023619
CREATED:20200501T010455Z
LAST-MODIFIED:20200618T214428Z
UID:3851-1594926000-1594931400@autismwny.org
SUMMARY:BUFFALO PARENT & CAREGIVER LIVE CHAT SESSION
DESCRIPTION:Join us at our weekly chat sessions to discuss your questions & concerns. \nBuffalo Families!  We are here to answer your questions and concerns on a wide range of topics including\n• Transitions \n• Meltdowns \n• Time Management \n• Technology Needs \n• Guidance to Resources in Buffalo \n• And Any Other Topics\, General Questions or Concerns! \nABOUT THE HOSTS \nKim Hernandez is a Family Support Specialist at Parent Network of WNY.  She has been working with the families in the city of Buffalo for over 17 years.  Her expertise is supporting families from disadvantaged communities who have children with a variety of disabilities. \nLizarelis Ali is a Family Support Specialist at Parent Network of WNY.  She has been working with the families in the city of Buffalo for over 20 years.  Her expertise is supporting families from disadvantaged communities who have children with autism\, ADHD and learning disabilities. \nJoin from your computer\, tablet or smartphone: https://global.gotomeeting.com/ join/174359397 \nNew to GoToMeeting? Get the app now and be ready when your first meeting starts: https://global.gotomeeting.com/ install/174359397 \nYou can also dial in using your phone. United States: +1 (872) 240-3212 \nAccess Code: 174-359-39
URL:https://autismwny.org/event/buffalo-parent-caregiver-live-chat-session/
CATEGORIES:Support Groups
END:VEVENT
END:VCALENDAR