BEGIN:VCALENDAR
VERSION:2.0
PRODID:-//Autism Society Western New York - ECPv6.0.10//NONSGML v1.0//EN
CALSCALE:GREGORIAN
METHOD:PUBLISH
X-ORIGINAL-URL:https://autismwny.org
X-WR-CALDESC:Events for Autism Society Western New York
REFRESH-INTERVAL;VALUE=DURATION:PT1H
X-Robots-Tag:noindex
X-PUBLISHED-TTL:PT1H
BEGIN:VTIMEZONE
TZID:America/New_York
BEGIN:DAYLIGHT
TZOFFSETFROM:-0500
TZOFFSETTO:-0400
TZNAME:EDT
DTSTART:20200308T070000
END:DAYLIGHT
BEGIN:STANDARD
TZOFFSETFROM:-0400
TZOFFSETTO:-0500
TZNAME:EST
DTSTART:20201101T060000
END:STANDARD
END:VTIMEZONE
BEGIN:VEVENT
DTSTART;TZID=America/New_York:20200611T180000
DTEND;TZID=America/New_York:20200611T193000
DTSTAMP:20260424T040943
CREATED:20200107T191417Z
LAST-MODIFIED:20200127T152627Z
UID:3195-1591898400-1591903800@autismwny.org
SUMMARY:Family & Caregiver Group for Parents with Teenagers with Autism Spectrum Disorders
DESCRIPTION:Provides a welcoming environment for parents and other caregivers of teenagers with autism spectrum disorders to meet\, share experiences\, ask questions and receive support. All are welcome to attend but group is geared towards parents of teenagers who may be transitioning to higher education\, employment and/or independent living. \nA group for Teens with Asperger’s will be available at the same time with prior registration. \nA light dinner will be served. \nModerated by: \n\n\n\n\nTonia Weichmann – Transition Coordinator\, Parent Network of WNY\nJana Mertz\, MBA – Program Coordinator\,\nThe Children’s Guild Foundation Autism Center Oishei Children’s Hospital \n\n\n\n\nPlease contact 716-332-4170 or email info@parentnetworkwny.org for more information \nRSVP TO ATTEND \nFREE TO ATTEND – ALL ARE WELCOME\nBUT RESERVATIONS ARE APPRECIATED \nIf you are interested in attending but have transportation or other barriers that would limit your participation\, please let us know.
URL:https://autismwny.org/event/family-caregiver-group-for-parents-with-teenagers-with-autism-spectrum-disorders-5/
LOCATION:Dash’s Market\, 1770 Hertel Ave.\, Buffalo\, NY\, 14216\, United States
CATEGORIES:Support Groups
GEO:42.9478804;-78.8427555
X-APPLE-STRUCTURED-LOCATION;VALUE=URI;X-ADDRESS=Dash’s Market 1770 Hertel Ave. Buffalo NY 14216 United States;X-APPLE-RADIUS=500;X-TITLE=1770 Hertel Ave.:geo:-78.8427555,42.9478804
END:VEVENT
END:VCALENDAR