BEGIN:VCALENDAR
VERSION:2.0
PRODID:-//Autism Society Western New York - ECPv6.0.10//NONSGML v1.0//EN
CALSCALE:GREGORIAN
METHOD:PUBLISH
X-WR-CALNAME:Autism Society Western New York
X-ORIGINAL-URL:https://autismwny.org
X-WR-CALDESC:Events for Autism Society Western New York
REFRESH-INTERVAL;VALUE=DURATION:PT1H
X-Robots-Tag:noindex
X-PUBLISHED-TTL:PT1H
BEGIN:VTIMEZONE
TZID:America/New_York
BEGIN:DAYLIGHT
TZOFFSETFROM:-0500
TZOFFSETTO:-0400
TZNAME:EDT
DTSTART:20200308T070000
END:DAYLIGHT
BEGIN:STANDARD
TZOFFSETFROM:-0400
TZOFFSETTO:-0500
TZNAME:EST
DTSTART:20201101T060000
END:STANDARD
END:VTIMEZONE
BEGIN:VEVENT
DTSTART;TZID=America/New_York:20200605T130000
DTEND;TZID=America/New_York:20200605T143000
DTSTAMP:20260424T040654
CREATED:20200512T195750Z
LAST-MODIFIED:20200512T195750Z
UID:3895-1591362000-1591367400@autismwny.org
SUMMARY:FAMILY & CAREGIVER GROUP  for Parents of Children with Developmental Disabilities
DESCRIPTION:PURPOSE:  Provide a welcoming environment for parents\, family members and other caregivers of individuals with developmental disabilities to meet\, share experiences\, ask questions and receive support. \nWILL BE USING GO-TO MEETING:\nPlease join my meeting from your computer\, tablet or smartphone.   https://global.gotomeeting.com/ join/805112789\nYou can also dial in using your phone. United States: +1 (312) 757-3121\nAccess Code: 805-112-789 \nNew to GoToMeeting? Get the app now and be ready when your first meeting starts: https://global.gotomeeting.com/install/805112789\nFunding for this program is provided by a Family Support Services grant from the Office of People with Developmental Disabilities. If you have any questions contact: (716) 332-4170 or info@parentnetworkwny.org
URL:https://autismwny.org/event/family-caregiver-group-for-parents-of-children-with-developmental-disabilities-13/
CATEGORIES:Support Groups
END:VEVENT
BEGIN:VEVENT
DTSTART;TZID=America/New_York:20200605T130000
DTEND;TZID=America/New_York:20200605T143000
DTSTAMP:20260424T040654
CREATED:20200530T233311Z
LAST-MODIFIED:20200530T233311Z
UID:3972-1591362000-1591367400@autismwny.org
SUMMARY:FAMILY & CAREGIVER GROUP for Parents of Children with Developmental Disabilities
DESCRIPTION:PURPOSE:  Provide a welcoming environment for parents\, family members and other caregivers of individuals\nwith developmental disabilities to meet\, share experiences\, ask questions and receive support. \nWILL BE USING GO-TO MEETING:  Please join my meeting from your computer\, tablet or smartphone:  https://global.gotomeeting.com/ join/805112789 \nNew to GoToMeeting?  Get the app now and be ready when your first meeting starts:  https://global.gotomeeting.com/install/805191278\nYou can also dial in using your phone.\nUnited States: +1 (312) 757-3121\nAccess Code: 805-112-789
URL:https://autismwny.org/event/family-caregiver-group-for-parents-of-children-with-developmental-disabilities-14/
CATEGORIES:Support Groups
END:VEVENT
END:VCALENDAR