BEGIN:VCALENDAR
VERSION:2.0
PRODID:-//Autism Society Western New York - ECPv6.0.10//NONSGML v1.0//EN
CALSCALE:GREGORIAN
METHOD:PUBLISH
X-WR-CALNAME:Autism Society Western New York
X-ORIGINAL-URL:https://autismwny.org
X-WR-CALDESC:Events for Autism Society Western New York
REFRESH-INTERVAL;VALUE=DURATION:PT1H
X-Robots-Tag:noindex
X-PUBLISHED-TTL:PT1H
BEGIN:VTIMEZONE
TZID:America/New_York
BEGIN:DAYLIGHT
TZOFFSETFROM:-0500
TZOFFSETTO:-0400
TZNAME:EDT
DTSTART:20200308T070000
END:DAYLIGHT
BEGIN:STANDARD
TZOFFSETFROM:-0400
TZOFFSETTO:-0500
TZNAME:EST
DTSTART:20201101T060000
END:STANDARD
END:VTIMEZONE
BEGIN:VEVENT
DTSTART;TZID=America/New_York:20200601T183000
DTEND;TZID=America/New_York:20200601T203000
DTSTAMP:20260424T040655
CREATED:20200114T180810Z
LAST-MODIFIED:20200127T152733Z
UID:3211-1591036200-1591043400@autismwny.org
SUMMARY:Family & Caregiver - Niagara Autism Group
DESCRIPTION:Provides a welcoming environment for parents and other caregivers of children with autism spectrum disorders to meet\, share experiences\, ask questions and receive support. \nRSVP TO ATTEND\nwww.parentnetworkwny.org or\n(716) 332-4175 or support@parentnetworkwny.org \nFREE TO ATTEND – ALL ARE WELCOME BUT RESERVATIONS ARE APPRECIATED\nIf you are interested in attending but have transportation or other barriers that would limit your participation\, please let us know. \nPlease check local TV stations for cancellation information \n*Light refreshments will be served. \nChild Care is Available. In order to provide for your child’s individual needs reservations for childcare are required a minimum of 1 week in advance. Registration forms are required for all new children and are available at www.parentnetworkwny.org or call (716) 332-4175.
URL:https://autismwny.org/event/family-caregiver-niagara-autism-group-4/
LOCATION:Empower Children’s Academy\, 9812 Lockport Road\, Niagara Falls\, NY\, 14304
CATEGORIES:Support Groups
GEO:43.121847;-78.949671
X-APPLE-STRUCTURED-LOCATION;VALUE=URI;X-ADDRESS=Empower Children’s Academy 9812 Lockport Road Niagara Falls NY 14304;X-APPLE-RADIUS=500;X-TITLE=9812 Lockport Road:geo:-78.949671,43.121847
END:VEVENT
END:VCALENDAR