BEGIN:VCALENDAR
VERSION:2.0
PRODID:-//Autism Society Western New York - ECPv6.0.10//NONSGML v1.0//EN
CALSCALE:GREGORIAN
METHOD:PUBLISH
X-ORIGINAL-URL:https://autismwny.org
X-WR-CALDESC:Events for Autism Society Western New York
REFRESH-INTERVAL;VALUE=DURATION:PT1H
X-Robots-Tag:noindex
X-PUBLISHED-TTL:PT1H
BEGIN:VTIMEZONE
TZID:America/New_York
BEGIN:DAYLIGHT
TZOFFSETFROM:-0500
TZOFFSETTO:-0400
TZNAME:EDT
DTSTART:20200308T070000
END:DAYLIGHT
BEGIN:STANDARD
TZOFFSETFROM:-0400
TZOFFSETTO:-0500
TZNAME:EST
DTSTART:20201101T060000
END:STANDARD
END:VTIMEZONE
BEGIN:VEVENT
DTSTART;TZID=America/New_York:20200520T190000
DTEND;TZID=America/New_York:20200520T203000
DTSTAMP:20260424T054546
CREATED:20200512T205619Z
LAST-MODIFIED:20200512T205619Z
UID:3908-1590001200-1590006600@autismwny.org
SUMMARY:Charla con Nosotros! ¡Únase a nosotros para obtener respuestas a sus preguntas e inquietudes!
DESCRIPTION:Responderemos sus preguntas sobre…\n• Transiciones \n• Educación Especial y Discapacidades \n• Manejo de tiempo en el Hogar \n• Trabajo Escolar \n• Comportamiento \n• Tecnología \n• Recursos en Buffalo \n• ¡Y cualquier otro tema que quieras discutir! \nSesiones Semanales de Charla Con Lizarelis Ali! \nLizarelis Ali es especialista en apoyo familiar en Parent Network of WNY.  Ella ha estado trabajando con las familias en la ciudad de Buffalo por más de 20 años.  Su esperiencia es en apoyar y guiar a las familias en las comunidades que tienen hijos con autismo\, ADHD y problemas de aprendizaje. \nÚnase a mi reunión desde su computadora\, tableta o teléfono inteligente:  https://global.gotomeeting.com/ join/673979189\nTambién puede marcar usando su teléfono. United States: +1 (646) 749-3112 Access Code: 673-979-189 \n¿Nuevo a Go To Meeting? Descargue la aplicación y esté listo cuando comience su reunión.  https://global.gotomeeting.com/ install/673979189
URL:https://autismwny.org/event/charla-con-nosotros-unase-a-nosotros-para-obtener-respuestas-a-sus-preguntas-e-inquietudes/
CATEGORIES:Support Groups
END:VEVENT
END:VCALENDAR