BEGIN:VCALENDAR
VERSION:2.0
PRODID:-//Autism Society Western New York - ECPv6.0.10//NONSGML v1.0//EN
CALSCALE:GREGORIAN
METHOD:PUBLISH
X-ORIGINAL-URL:https://autismwny.org
X-WR-CALDESC:Events for Autism Society Western New York
REFRESH-INTERVAL;VALUE=DURATION:PT1H
X-Robots-Tag:noindex
X-PUBLISHED-TTL:PT1H
BEGIN:VTIMEZONE
TZID:America/New_York
BEGIN:DAYLIGHT
TZOFFSETFROM:-0500
TZOFFSETTO:-0400
TZNAME:EDT
DTSTART:20200308T070000
END:DAYLIGHT
BEGIN:STANDARD
TZOFFSETFROM:-0400
TZOFFSETTO:-0500
TZNAME:EST
DTSTART:20201101T060000
END:STANDARD
END:VTIMEZONE
BEGIN:VEVENT
DTSTART;TZID=America/New_York:20200516T140000
DTEND;TZID=America/New_York:20200516T150000
DTSTAMP:20260424T054545
CREATED:20200512T193417Z
LAST-MODIFIED:20200512T193417Z
UID:3883-1589637600-1589641200@autismwny.org
SUMMARY:Chautauqua County Family & Caregiver Support Group
DESCRIPTION:PURPOSE:  Provide a welcoming environment for parents\, family members and other caregivers of individuals with developmental disabilities to meet\, share experiences\, ask questions\, and receive support. \nSaturday\, May 16\, 2020\nSaturday\, May 30\, 2020\nTIME:\n2:00 –3:00 PM \nJoin Zoom Meeting:   https://us02web.zoom.us/j/8267966044 0?pwd=VlJsWE9OVjI0ODIwK1E0c2dCN DBMdz09\nMeeting ID: 826 7966 0440\nPassword: 028188\nOne tap mobile\n+19292056099\,\,82679660440#\,\,1#\,0281 88# US (New York)
URL:https://autismwny.org/event/chautauqua-county-family-caregiver-support-group/
CATEGORIES:Support Groups
END:VEVENT
END:VCALENDAR