BEGIN:VCALENDAR
VERSION:2.0
PRODID:-//Autism Society Western New York - ECPv6.0.10//NONSGML v1.0//EN
CALSCALE:GREGORIAN
METHOD:PUBLISH
X-WR-CALNAME:Autism Society Western New York
X-ORIGINAL-URL:https://autismwny.org
X-WR-CALDESC:Events for Autism Society Western New York
REFRESH-INTERVAL;VALUE=DURATION:PT1H
X-Robots-Tag:noindex
X-PUBLISHED-TTL:PT1H
BEGIN:VTIMEZONE
TZID:America/New_York
BEGIN:DAYLIGHT
TZOFFSETFROM:-0500
TZOFFSETTO:-0400
TZNAME:EDT
DTSTART:20200308T070000
END:DAYLIGHT
BEGIN:STANDARD
TZOFFSETFROM:-0400
TZOFFSETTO:-0500
TZNAME:EST
DTSTART:20201101T060000
END:STANDARD
END:VTIMEZONE
BEGIN:VEVENT
DTSTART;TZID=America/New_York:20200513T183000
DTEND;TZID=America/New_York:20200513T200000
DTSTAMP:20260424T053025
CREATED:20200123T182849Z
LAST-MODIFIED:20200123T193457Z
UID:3260-1589394600-1589400000@autismwny.org
SUMMARY:Parent Group for Parents of Children with Autism Spectrum Disorders
DESCRIPTION:Provides a welcoming environment for parents and other caregivers of children with autism spectrum disorders to meet\, share experiences\, ask questions and receive support. \n\n\n\n\n*Light refreshments will be served. \nMODERATED BY: \nKathy Ralabate Doody\, PhD – Parent of child with autism\, Instructor\, Exceptional Education at Buffalo State \nJana Mertz\, MBA – Program Coordinator\, The Children’s Guild Foundation Autism Center Oishei Children’s Hospital of Buffalo \nRSVP TO ATTEND.  Please call (716) 323-6435 or e-mail: jmertz@kaleidahealth.org.  Please sign up online so we will have enough materials available:https://tinyurl.com/2020ausomeparents \nFREE TO ATTEND – ALL ARE WELCOME BUT\, RESERVATIONS ARE APPRECIATED \nIf you are interested in attending but have transportation or other barriers that would limit your participation\, please let us know.
URL:https://autismwny.org/event/parent-group-for-parents-of-children-with-autism-spectrum-disorders-5/
LOCATION:Aspire Building\, 7 Community Drive\, Cheektowaga\, NY\, 14225\, United States
CATEGORIES:Support Groups
GEO:42.931214;-78.7736665
X-APPLE-STRUCTURED-LOCATION;VALUE=URI;X-ADDRESS=Aspire Building 7 Community Drive Cheektowaga NY 14225 United States;X-APPLE-RADIUS=500;X-TITLE=7 Community Drive:geo:-78.7736665,42.931214
END:VEVENT
END:VCALENDAR