BEGIN:VCALENDAR
VERSION:2.0
PRODID:-//Autism Society Western New York - ECPv6.0.10//NONSGML v1.0//EN
CALSCALE:GREGORIAN
METHOD:PUBLISH
X-WR-CALNAME:Autism Society Western New York
X-ORIGINAL-URL:https://autismwny.org
X-WR-CALDESC:Events for Autism Society Western New York
REFRESH-INTERVAL;VALUE=DURATION:PT1H
X-Robots-Tag:noindex
X-PUBLISHED-TTL:PT1H
BEGIN:VTIMEZONE
TZID:America/New_York
BEGIN:DAYLIGHT
TZOFFSETFROM:-0500
TZOFFSETTO:-0400
TZNAME:EDT
DTSTART:20200308T070000
END:DAYLIGHT
BEGIN:STANDARD
TZOFFSETFROM:-0400
TZOFFSETTO:-0500
TZNAME:EST
DTSTART:20201101T060000
END:STANDARD
END:VTIMEZONE
BEGIN:VEVENT
DTSTART;TZID=America/New_York:20200502T140000
DTEND;TZID=America/New_York:20200502T150000
DTSTAMP:20260424T054029
CREATED:20200423T143005Z
LAST-MODIFIED:20200423T143005Z
UID:3787-1588428000-1588431600@autismwny.org
SUMMARY:Jamestown Family & Caregiver Developmental Disabilities Group
DESCRIPTION:To join the session:  https://zoom.us/j/91616789464?pwd=MGduMXAya1Fsam1tY1RRcWcwV2ZWdz09 \nMeeting ID: 916 1678 9464 \nPassword: 787158
URL:https://autismwny.org/event/jamestown-family-caregiver-developmental-disabilities-group/
CATEGORIES:Support Groups
END:VEVENT
END:VCALENDAR