BEGIN:VCALENDAR
VERSION:2.0
PRODID:-//Autism Society Western New York - ECPv6.0.10//NONSGML v1.0//EN
CALSCALE:GREGORIAN
METHOD:PUBLISH
X-ORIGINAL-URL:https://autismwny.org
X-WR-CALDESC:Events for Autism Society Western New York
REFRESH-INTERVAL;VALUE=DURATION:PT1H
X-Robots-Tag:noindex
X-PUBLISHED-TTL:PT1H
BEGIN:VTIMEZONE
TZID:America/New_York
BEGIN:DAYLIGHT
TZOFFSETFROM:-0500
TZOFFSETTO:-0400
TZNAME:EDT
DTSTART:20200308T070000
END:DAYLIGHT
BEGIN:STANDARD
TZOFFSETFROM:-0400
TZOFFSETTO:-0500
TZNAME:EST
DTSTART:20201101T060000
END:STANDARD
END:VTIMEZONE
BEGIN:VEVENT
DTSTART;TZID=America/New_York:20200317T173000
DTEND;TZID=America/New_York:20200317T184500
DTSTAMP:20260424T084222
CREATED:20200107T180514Z
LAST-MODIFIED:20200127T153501Z
UID:3165-1584466200-1584470700@autismwny.org
SUMMARY:Family & Caregiver Group - DDAWNY for Parents of Children with Developmental Disabilities
DESCRIPTION:PURPOSE\nProvides a welcoming environment for parents\, family members and other caregivers of individuals with developmental disabilities to meet\, share experiences\, ask questions and receive support. \nCOST\nFREE to attend\, all are welcome\n*Light dinner will be served \nRSVP TO ATTEND\n716-332-4170 or info@parentnetworkwny.org \nChild Care is Available. In order to provide for your child’s individual needs reservations for childcare are required by the Friday prior to the meeting. Registration forms are required for all new children and are available at www.parentnetworkwny.org or call (716) 332-4170.
URL:https://autismwny.org/event/family-caregiver-group-ddawny-for-parents-of-children-with-developmental-disabilities-5/
LOCATION:Aspire Building\, 7 Community Drive\, Cheektowaga\, NY\, 14225\, United States
CATEGORIES:Support Groups
ORGANIZER;CN="Aspire%20of%20WNY":MAILTO:intake@aspirewny.org
GEO:42.931214;-78.7736665
X-APPLE-STRUCTURED-LOCATION;VALUE=URI;X-ADDRESS=Aspire Building 7 Community Drive Cheektowaga NY 14225 United States;X-APPLE-RADIUS=500;X-TITLE=7 Community Drive:geo:-78.7736665,42.931214
END:VEVENT
END:VCALENDAR