BEGIN:VCALENDAR
VERSION:2.0
PRODID:-//Autism Society Western New York - ECPv6.0.10//NONSGML v1.0//EN
CALSCALE:GREGORIAN
METHOD:PUBLISH
X-WR-CALNAME:Autism Society Western New York
X-ORIGINAL-URL:https://autismwny.org
X-WR-CALDESC:Events for Autism Society Western New York
REFRESH-INTERVAL;VALUE=DURATION:PT1H
X-Robots-Tag:noindex
X-PUBLISHED-TTL:PT1H
BEGIN:VTIMEZONE
TZID:America/New_York
BEGIN:DAYLIGHT
TZOFFSETFROM:-0500
TZOFFSETTO:-0400
TZNAME:EDT
DTSTART:20200308T070000
END:DAYLIGHT
BEGIN:STANDARD
TZOFFSETFROM:-0400
TZOFFSETTO:-0500
TZNAME:EST
DTSTART:20201101T060000
END:STANDARD
END:VTIMEZONE
BEGIN:VEVENT
DTSTART;TZID=America/New_York:20200213T180000
DTEND;TZID=America/New_York:20200213T193000
DTSTAMP:20260425T121418
CREATED:20200106T185438Z
LAST-MODIFIED:20200127T154024Z
UID:3124-1581616800-1581622200@autismwny.org
SUMMARY:Family & Caregiver Group for Parents of Teenagers with Autism Spectrum Disorders
DESCRIPTION:Provide a welcoming environment for parents and other caregivers of teenagers with autism spectrum disorders to meet\, share experiences\, ask questions and receive support. All are welcome to attend but group is geared towards parents of teenagers who may be transitioning to higher education\, employment and/or independent living. \nA light dinner will be served. \nMODERATED BY\nTonia Weichmann – Transition Coordinator\, Parent Network of WNY.\nJana Mertz\, MBA – Program Coordinator\, Autism Center – Oishei Children’s Hospital \nA group for Teens with Asperger’s will be available at the same time with prior registration. \nPlease contact 716-332-4170 or email info@parentnetworkwny.org for more information \nRSVP TO ATTEND \nFREE TO ATTEND – ALL ARE WELCOME\nBUT RESERVATIONS ARE APPRECIATED \nIf you are interested in attending but have transportation or other barriers that would limit your participation\, please let us know.
URL:https://autismwny.org/event/family-caregiver-group-for-parents-of-teenagers-with-autism-spectrum-disorders-3/
LOCATION:Wegman’s Cafe\, Back Conference Room\, 601 Amherst Street\, Buffalo\, New York\, 14207
CATEGORIES:Support Groups
GEO:42.938608;-78.8823167
X-APPLE-STRUCTURED-LOCATION;VALUE=URI;X-ADDRESS=Wegman’s Cafe Back Conference Room 601 Amherst Street Buffalo New York 14207;X-APPLE-RADIUS=500;X-TITLE=601 Amherst Street:geo:-78.8823167,42.938608
END:VEVENT
END:VCALENDAR