BEGIN:VCALENDAR
VERSION:2.0
PRODID:-//Autism Society Western New York - ECPv6.0.10//NONSGML v1.0//EN
CALSCALE:GREGORIAN
METHOD:PUBLISH
X-ORIGINAL-URL:https://autismwny.org
X-WR-CALDESC:Events for Autism Society Western New York
REFRESH-INTERVAL;VALUE=DURATION:PT1H
X-Robots-Tag:noindex
X-PUBLISHED-TTL:PT1H
BEGIN:VTIMEZONE
TZID:America/New_York
BEGIN:DAYLIGHT
TZOFFSETFROM:-0500
TZOFFSETTO:-0400
TZNAME:EDT
DTSTART:20220313T070000
END:DAYLIGHT
BEGIN:STANDARD
TZOFFSETFROM:-0400
TZOFFSETTO:-0500
TZNAME:EST
DTSTART:20221106T060000
END:STANDARD
END:VTIMEZONE
BEGIN:VEVENT
DTSTART;TZID=America/New_York:20220801T183000
DTEND;TZID=America/New_York:20220801T200000
DTSTAMP:20260422T084454
CREATED:20220513T180042Z
LAST-MODIFIED:20220513T180042Z
UID:6540-1659378600-1659384000@autismwny.org
SUMMARY:The Link – WNY’s Family & Caregiver Group via Zoom
DESCRIPTION:Are you a parent of a child with disabilities or do you suspect they have a disability?\nDo you want to…– Feel less overwhelmed?– Feel a sense of belonging? \nGet the support you need from Parent Network of WNY\, Empower and other group members!Discuss topics such as Special Education\, Sensory Processing Disorders\, Autism Spectrum Disorders\, and more! \nREGISTER ONCE FOR MONTHLY EMAIL REMINDERS AND ZOOM MEETING LINKS!\nCall: 716-332-4170 | Email: info@parentnetworkwny.org
URL:https://autismwny.org/event/the-link-wnys-family-caregiver-group-via-zoom/
CATEGORIES:Support Groups
END:VEVENT
BEGIN:VEVENT
DTSTART;TZID=America/New_York:20220811T190000
DTEND;TZID=America/New_York:20220811T200000
DTSTAMP:20260422T084454
CREATED:20220523T170505Z
LAST-MODIFIED:20220523T170505Z
UID:6601-1660244400-1660248000@autismwny.org
SUMMARY:Residential Placement Online Discussion Group- Parents who have a child in a Residential placement
DESCRIPTION:Do you have a family member in a residential program and are struggling to make peace with this decision? Parent to Parent is excited to host a new Parent Discussion Group facilitated by Mariela Adams\, for families with children and adults of all ages that have children in residential school or a group home. \nVirtual Zoom- Registration Required.  REGISTER \nQuestions\, contact Valerie Colavecchio – vcolavecchio@ptopnys.org.
URL:https://autismwny.org/event/residential-placement-online-discussion-group-parents-who-have-a-child-in-a-residential-placement-5/
CATEGORIES:Support Groups
END:VEVENT
BEGIN:VEVENT
DTSTART;TZID=America/New_York:20220816T120000
DTEND;TZID=America/New_York:20220816T130000
DTSTAMP:20260422T084454
CREATED:20220711T213849Z
LAST-MODIFIED:20220711T213849Z
UID:6765-1660651200-1660654800@autismwny.org
SUMMARY:Chautauqua County Family & Caregiver Support Group via Zoom
DESCRIPTION:Receive Support – Connect with Others – Express Yourself\nFree Support for parents\, family members and caregivers of children with special needs \nREGISTER ONCE FOR MONTHLY EMAIL REMINDERS AND ZOOM MEETING LINKS!\nREGISTER:  https://parentnetworkwny.org/events/chautauqua-county-family-caregiver-support-group-8/ \nCall: 716-332-4170 | Email: info@parentnetworkwny.org
URL:https://autismwny.org/event/chautauqua-county-family-caregiver-support-group-via-zoom-11/
CATEGORIES:Support Groups
END:VEVENT
BEGIN:VEVENT
DTSTART;TZID=America/New_York:20220816T183000
DTEND;TZID=America/New_York:20220816T200000
DTSTAMP:20260422T084454
CREATED:20220711T170955Z
LAST-MODIFIED:20220711T170955Z
UID:6755-1660674600-1660680000@autismwny.org
SUMMARY:Statewide- Special Education Parent Chat Group via Zoom
DESCRIPTION:As a parent of a child with a disability\, I know first-hand how hard it is to continue the good fight.  Sometimes we feel hopeless\, helpless\, and at a loss for words.  If you’re a parent\, grandparent\, caregiver of a child with special needs\, you may feel isolated\, alone and struggling with special education school related issues.  Come join us for an opportunity to share how your feelings\, engage in some great conversation and share resources with other parents in the community who are dealing with the same issues.  All from the comfort of your own home. \nIf you have questions\, please contact Tina Beauparlant- tbeauparlant@ptopnys.org Phone: (518) 381-4350. \nOnline Zoom- Registration Required:  https://us02web.zoom.us/meeting/register/tZcvduqtpzspHNELns7of5HyDn6ybP-4umZO
URL:https://autismwny.org/event/statewide-special-education-parent-chat-group-via-zoom-3/
CATEGORIES:Support Groups
END:VEVENT
BEGIN:VEVENT
DTSTART;TZID=America/New_York:20220817T190000
DTEND;TZID=America/New_York:20220817T203000
DTSTAMP:20260422T084454
CREATED:20220523T172305Z
LAST-MODIFIED:20220523T172305Z
UID:6616-1660762800-1660768200@autismwny.org
SUMMARY:Western NY Region: Caregiver Connections — Virtual Parent Groups through ZOOM
DESCRIPTION:At Parent to Parent of NYS we want you to know that during these uncertain and overwhelming times you are not alone. We are still here to offer support and information as we work from home. Our Caregiver Connections. This group is an informal meeting for parents who are navigating their child’s special needs. \nRegister in advance for this meeting. After registering\, you will receive a confirmation email containing information about joining the meeting. \nVirtual Zoom- Registration Required.  REGISTER \nQuestions\, contact Sharon Linne – Slinne@ptopnys.org.
URL:https://autismwny.org/event/western-ny-region-caregiver-connections-virtual-parent-groups-through-zoom-14/
CATEGORIES:Support Groups
END:VEVENT
BEGIN:VEVENT
DTSTART;TZID=America/New_York:20220818T190000
DTEND;TZID=America/New_York:20220818T203000
DTSTAMP:20260422T084454
CREATED:20220523T161202Z
LAST-MODIFIED:20220523T161202Z
UID:6594-1660849200-1660854600@autismwny.org
SUMMARY:Parent to Parent of NYS Father Group On-Line Chat
DESCRIPTION:Virtual Meeting: Bi-weekly on Thursdays\, starting at 7 p.m. \nParent to Parent has established an informal Fathers Group to meet online via Zoom and discuss the role of dads in navigating their childrens’ special needs. \nVirtual Zoom- Registration required.  REGISTER \nQuestions\, contact Chris Brewster – cbrewster@ptopnys.org.
URL:https://autismwny.org/event/parent-to-parent-of-nys-father-group-on-line-chat-6/
CATEGORIES:Support Groups
END:VEVENT
BEGIN:VEVENT
DTSTART;TZID=America/New_York:20220830T190000
DTEND;TZID=America/New_York:20220830T200000
DTSTAMP:20260422T084454
CREATED:20220523T173212Z
LAST-MODIFIED:20220523T173212Z
UID:6621-1661886000-1661889600@autismwny.org
SUMMARY:Parents Considering a Residential Placement Discussion Group
DESCRIPTION:Are you considering residential placement for your family member? Parent to Parent of New York State is excited to host a new Parent Discussion Group facilitated by Sharon Linne for families with children and adults of all ages who are considering placement in a residential school or a group home. \nCome join us for an hour of support and conversation about this important topic. \nVirtual Zoom- Registration Required.  REGISTER \nQuestions\, contact Sharon Linne – Slinne@ptopnys.org.
URL:https://autismwny.org/event/parents-considering-a-residential-placement-discussion-group-3/
CATEGORIES:Support Groups
END:VEVENT
END:VCALENDAR