BEGIN:VCALENDAR
VERSION:2.0
PRODID:-//Autism Society Western New York - ECPv6.0.10//NONSGML v1.0//EN
CALSCALE:GREGORIAN
METHOD:PUBLISH
X-WR-CALNAME:Autism Society Western New York
X-ORIGINAL-URL:https://autismwny.org
X-WR-CALDESC:Events for Autism Society Western New York
REFRESH-INTERVAL;VALUE=DURATION:PT1H
X-Robots-Tag:noindex
X-PUBLISHED-TTL:PT1H
BEGIN:VTIMEZONE
TZID:America/New_York
BEGIN:DAYLIGHT
TZOFFSETFROM:-0500
TZOFFSETTO:-0400
TZNAME:EDT
DTSTART:20220313T070000
END:DAYLIGHT
BEGIN:STANDARD
TZOFFSETFROM:-0400
TZOFFSETTO:-0500
TZNAME:EST
DTSTART:20221106T060000
END:STANDARD
END:VTIMEZONE
BEGIN:VEVENT
DTSTART;TZID=America/New_York:20220714T190000
DTEND;TZID=America/New_York:20220714T203000
DTSTAMP:20260422T102037
CREATED:20220523T161009Z
LAST-MODIFIED:20220523T161009Z
UID:6592-1657825200-1657830600@autismwny.org
SUMMARY:Parent to Parent of NYS Father Group On-Line Chat
DESCRIPTION:Virtual Meeting: Bi-weekly on Thursdays\, starting at 7 p.m. \nParent to Parent has established an informal Fathers Group to meet online via Zoom and discuss the role of dads in navigating their childrens’ special needs. \nVirtual Zoom- Registration required.  REGISTER \nQuestions\, contact Chris Brewster – cbrewster@ptopnys.org.
URL:https://autismwny.org/event/parent-to-parent-of-nys-father-group-on-line-chat-5/
CATEGORIES:Support Groups
END:VEVENT
BEGIN:VEVENT
DTSTART;TZID=America/New_York:20220719T120000
DTEND;TZID=America/New_York:20220719T130000
DTSTAMP:20260422T102037
CREATED:20220711T213350Z
LAST-MODIFIED:20220711T213350Z
UID:6763-1658232000-1658235600@autismwny.org
SUMMARY:Chautauqua County Family & Caregiver Support Group via Zoom
DESCRIPTION:Receive Support – Connect with Others – Express Yourself\nFree Support for parents\, family members and caregivers of children with special needs \nREGISTER ONCE FOR MONTHLY EMAIL REMINDERS AND ZOOM MEETING LINKS!\nREGISTER:  https://parentnetworkwny.org/events/chautauqua-county-family-caregiver-support-group-7/ \nCall: 716-332-4170 | Email: info@parentnetworkwny.org \n  \n 
URL:https://autismwny.org/event/chautauqua-county-family-caregiver-support-group-via-zoom-10/
CATEGORIES:Support Groups
END:VEVENT
BEGIN:VEVENT
DTSTART;TZID=America/New_York:20220720T190000
DTEND;TZID=America/New_York:20220720T203000
DTSTAMP:20260422T102037
CREATED:20220523T172128Z
LAST-MODIFIED:20220523T172128Z
UID:6614-1658343600-1658349000@autismwny.org
SUMMARY:Western NY Region: Caregiver Connections — Virtual Parent Groups through ZOOM
DESCRIPTION:At Parent to Parent of NYS we want you to know that during these uncertain and overwhelming times you are not alone. We are still here to offer support and information as we work from home. Our Caregiver Connections. This group is an informal meeting for parents who are navigating their child’s special needs. \nRegister in advance for this meeting. After registering\, you will receive a confirmation email containing information about joining the meeting. \nVirtual Zoom- Registration Required.  REGISTER \nQuestions\, contact Sharon Linne – Slinne@ptopnys.org.
URL:https://autismwny.org/event/western-ny-region-caregiver-connections-virtual-parent-groups-through-zoom-13/
CATEGORIES:Support Groups
END:VEVENT
BEGIN:VEVENT
DTSTART;TZID=America/New_York:20220721T183000
DTEND;TZID=America/New_York:20220721T200000
DTSTAMP:20260422T102037
CREATED:20220711T170755Z
LAST-MODIFIED:20220711T170755Z
UID:6753-1658428200-1658433600@autismwny.org
SUMMARY:Statewide- Special Education Parent Chat Group via Zoom
DESCRIPTION:As a parent of a child with a disability\, I know first-hand how hard it is to continue the good fight.  Sometimes we feel hopeless\, helpless\, and at a loss for words.  If you’re a parent\, grandparent\, caregiver of a child with special needs\, you may feel isolated\, alone and struggling with special education school related issues.  Come join us for an opportunity to share how your feelings\, engage in some great conversation and share resources with other parents in the community who are dealing with the same issues.  All from the comfort of your own home. \nIf you have questions\, please contact Tina Beauparlant- tbeauparlant@ptopnys.org Phone: (518) 381-4350. \nOnline Zoom- Registration Required:  https://us02web.zoom.us/meeting/register/tZcvduqtpzspHNELns7of5HyDn6ybP-4umZO
URL:https://autismwny.org/event/statewide-special-education-parent-chat-group-via-zoom-2/
CATEGORIES:Support Groups
END:VEVENT
BEGIN:VEVENT
DTSTART;TZID=America/New_York:20220726T190000
DTEND;TZID=America/New_York:20220726T200000
DTSTAMP:20260422T102037
CREATED:20220523T172855Z
LAST-MODIFIED:20220523T172855Z
UID:6618-1658862000-1658865600@autismwny.org
SUMMARY:Parents Considering a Residential Placement Discussion Group
DESCRIPTION:Are you considering residential placement for your family member? Parent to Parent of New York State is excited to host a new Parent Discussion Group facilitated by Sharon Linne for families with children and adults of all ages who are considering placement in a residential school or a group home. \nCome join us for an hour of support and conversation about this important topic. \nVirtual Zoom- Registration Required.  REGISTER \nQuestions\, contact Sharon Linne – Slinne@ptopnys.org.
URL:https://autismwny.org/event/parents-considering-a-residential-placement-discussion-group-2/
CATEGORIES:Support Groups
END:VEVENT
END:VCALENDAR