BEGIN:VCALENDAR
VERSION:2.0
PRODID:-//Autism Society Western New York - ECPv6.0.10//NONSGML v1.0//EN
CALSCALE:GREGORIAN
METHOD:PUBLISH
X-ORIGINAL-URL:https://autismwny.org
X-WR-CALDESC:Events for Autism Society Western New York
REFRESH-INTERVAL;VALUE=DURATION:PT1H
X-Robots-Tag:noindex
X-PUBLISHED-TTL:PT1H
BEGIN:VTIMEZONE
TZID:America/New_York
BEGIN:DAYLIGHT
TZOFFSETFROM:-0500
TZOFFSETTO:-0400
TZNAME:EDT
DTSTART:20220313T070000
END:DAYLIGHT
BEGIN:STANDARD
TZOFFSETFROM:-0400
TZOFFSETTO:-0500
TZNAME:EST
DTSTART:20221106T060000
END:STANDARD
END:VTIMEZONE
BEGIN:VEVENT
DTSTART;TZID=America/New_York:20220502T183000
DTEND;TZID=America/New_York:20220502T193000
DTSTAMP:20260422T135821
CREATED:20220303T165345Z
LAST-MODIFIED:20220303T165345Z
UID:6237-1651516200-1651519800@autismwny.org
SUMMARY:Northtowns Family/Caregiver Support Group via Zoom
DESCRIPTION:Are you a parent of a child with disabilities or do you suspect they have a disability?\nDo you want to…– Feel less overwhelmed?– Feel a sense of belonging? \nGet the support you need from Parent Network of WNY\, Empower and other group members!Discuss topics such as Special Education\, Sensory Processing Disorders\, Autism Spectrum Disorders\,  and more! \nJoin Zoom Meetinghttps://zoom.us/j/99541728957?pwd=a1Q4djhNRnhKaktJblhZbC84RC8rQT09Meeting ID: 995 4172 8957Passcode: 075356
URL:https://autismwny.org/event/northtowns-family-caregiver-support-group-via-zoom-17/
CATEGORIES:Support Groups
ORGANIZER;CN="Empower":MAILTO:info@empower-wny.org
END:VEVENT
BEGIN:VEVENT
DTSTART;TZID=America/New_York:20220503T173000
DTEND;TZID=America/New_York:20220503T190000
DTSTAMP:20260422T135821
CREATED:20220112T203952Z
LAST-MODIFIED:20220112T203952Z
UID:6117-1651599000-1651604400@autismwny.org
SUMMARY:Family/Caregiver Support Group - 2022 via Zoom
DESCRIPTION:Are you a parent of a child with disabilities or suspect they have a disability? \nDo you want to\n~ feel less overwhelmed?\n~ feel a sense of belonging? \nGet the support you need from Parent Network of WNY & other group members!  First Tuesday of the month from 5:30 p.m. – 7:00 p.m. \nVirtual Meeting via Zoom.  Join Zoom Meeting\nhttps://zoom.us/j/96127043675?pwd=QzA5Z0tRVWczQUVlTnNhVXY2OVBnUT09\nMeeting ID: 961 2704 3675\, Passcode: 632607 \nNO JUDGEMENTS – NO FEES – ALL ARE WELCOME\nemail: info@parentnetworkwny.org | call: 716.332.4170\nwww.parentnetworkwny.org/events
URL:https://autismwny.org/event/family-caregiver-support-group-2022-via-zoom-4/
CATEGORIES:Support Groups
END:VEVENT
BEGIN:VEVENT
DTSTART;TZID=America/New_York:20220512T190000
DTEND;TZID=America/New_York:20220512T200000
DTSTAMP:20260422T135821
CREATED:20220112T212705Z
LAST-MODIFIED:20220112T212705Z
UID:6136-1652382000-1652385600@autismwny.org
SUMMARY:(Spanish) Chat with Us! via Zoom
DESCRIPTION:¡Únase a nosotros para obtener respuestas a sus preguntas e inquietudes!\nRESPONDEREMOS SUS PREGUNTAS SOBRE…– Transiciones– Educación Especial y Discapacidades– Manejo de tiempo en el Hogar– Trabajo Escolar– Comportamiento– Tecnología Virtual– Recursos en Buffalo– ¡Y cualquier otro tema que quieras discutir!\nUnirse a la Zoom reuniónhttps://us06web.zoom.us/j/83163589898?pwd=Qmo4TCt2M1MwMjl6QUN1MkUwRjdXUT09Reunión ID: 831 6358 9898 Contraseña: 113048 \nSesiones Semanales de Charla Con Lizarelis Ali!\nemail: info@parentnetworkwny.org | call: 716.332.4170\nwww.parentnetworkwny.org/events
URL:https://autismwny.org/event/spanish-chat-with-us-via-zoom-5/
CATEGORIES:Support Groups
END:VEVENT
BEGIN:VEVENT
DTSTART;TZID=America/New_York:20220512T190000
DTEND;TZID=America/New_York:20220512T200000
DTSTAMP:20260422T135821
CREATED:20220420T213926Z
LAST-MODIFIED:20220420T213926Z
UID:6430-1652382000-1652385600@autismwny.org
SUMMARY:Residential Placement Online Discussion Group- Parents who have a child in a Residential placement
DESCRIPTION:Do you have a family member in a residential program and are struggling to make peace with this decision? Parent to Parent is excited to host a new Parent Discussion Group facilitated by Mariela Adams\, for families with children and adults of all ages that have children in residential school or a group home. \nVirtual Zoom.  Registration Required:  https://us02web.zoom.us/meeting/register/tZItcOCgqjkiE93EvzhK2aXOn96j5KDcPGBy \nContact: Valerie Colavecchio – vcolavecchio@ptopnys.org
URL:https://autismwny.org/event/residential-placement-online-discussion-group-parents-who-have-a-child-in-a-residential-placement-3/
CATEGORIES:Support Groups
END:VEVENT
BEGIN:VEVENT
DTSTART;TZID=America/New_York:20220518T190000
DTEND;TZID=America/New_York:20220518T203000
DTSTAMP:20260422T135821
CREATED:20220420T220724Z
LAST-MODIFIED:20220420T220724Z
UID:6439-1652900400-1652905800@autismwny.org
SUMMARY:Western NY Region: Caregiver Connections — Virtual Parent Groups through ZOOM
DESCRIPTION:At Parent to Parent of NYS we want you to know that during these uncertain and overwhelming times you are not alone. We are still here to offer support and information as we work from home. Our Caregiver Connections. This group is an informal meeting for parents who are navigating their child’s special needs. \nVirtual Zoom.  Registration Required: https://us02web.zoom.us/meeting/register/tZ0qcOmop… \nClick the link above to register in advance for this meeting. After registering\, you will receive a confirmation email containing information about joining the meeting. \nContact: Barb Hoffman – bhoffman@ptopnys.org
URL:https://autismwny.org/event/western-ny-region-caregiver-connections-virtual-parent-groups-through-zoom-10/
CATEGORIES:Support Groups
END:VEVENT
BEGIN:VEVENT
DTSTART;TZID=America/New_York:20220519T183000
DTEND;TZID=America/New_York:20220519T193000
DTSTAMP:20260422T135821
CREATED:20220112T211355Z
LAST-MODIFIED:20220112T211355Z
UID:6128-1652985000-1652988600@autismwny.org
SUMMARY:Chautauqua County Family & Caregiver Support Group via Zoom
DESCRIPTION:Receive Support – Connect with Others – Express Yourself\nFree virtual support for parents\, family members and caregivers of children with special needs is the third Thursday of every month at 6:30pm. \nVirtual meeting.  Join via Zoom.\nMeeting ID: 826 7966 0440 Passcode: 028188
URL:https://autismwny.org/event/chautauqua-county-family-caregiver-support-group-via-zoom-8/
CATEGORIES:Support Groups
END:VEVENT
BEGIN:VEVENT
DTSTART;TZID=America/New_York:20220526T190000
DTEND;TZID=America/New_York:20220526T203000
DTSTAMP:20260422T135821
CREATED:20220420T222241Z
LAST-MODIFIED:20220420T222241Z
UID:6445-1653591600-1653597000@autismwny.org
SUMMARY:Parent to Parent of NYS FATHERS Zoom GROUP
DESCRIPTION:Virtual Meeting: Bi-weekly on Thursdays\, starting at 7 p.m. \nParent to Parent has established an informal Fathers Group to meet online via Zoom and discuss the role of dads in navigating their children’s special needs. \nVirtual Zoom.  Registration Required:  https://us02web.zoom.us/meeting/register/tZEtcOivqD8vGdEpO5DltxXk9Ds9xNFODCuV \nContact: Chris Brewster- cbrewster@ptopnys.org
URL:https://autismwny.org/event/parent-to-parent-of-nys-fathers-zoom-group-2/
CATEGORIES:Support Groups
END:VEVENT
BEGIN:VEVENT
DTSTART;TZID=America/New_York:20220531T190000
DTEND;TZID=America/New_York:20220531T200000
DTSTAMP:20260422T135821
CREATED:20220420T222635Z
LAST-MODIFIED:20220420T222635Z
UID:6447-1654023600-1654027200@autismwny.org
SUMMARY:Parents Considering a Residential Placement Discussion Group - Virtual
DESCRIPTION:Are you considering residential placement for your family member? Parent to Parent of New York State is excited to host a new Parent Discussion Group facilitated by Sharon Linne for families with children and adults of all ages who are considering placement in a residential school or a group home. \nCome join us for an hour of support and conversation about this important topic. \nVirtual Zoom.  Registration Required:   https://us02web.zoom.us/meeting/register/tZcqc–ppzkiGdLNb3pg51CS4TfR1hFcibfp \nContact: Sharon Linne – Slinne@ptopnys.org
URL:https://autismwny.org/event/parents-considering-a-residential-placement-discussion-group-virtual/
CATEGORIES:Support Groups
END:VEVENT
END:VCALENDAR