BEGIN:VCALENDAR
VERSION:2.0
PRODID:-//Autism Society Western New York - ECPv6.0.10//NONSGML v1.0//EN
CALSCALE:GREGORIAN
METHOD:PUBLISH
X-WR-CALNAME:Autism Society Western New York
X-ORIGINAL-URL:https://autismwny.org
X-WR-CALDESC:Events for Autism Society Western New York
REFRESH-INTERVAL;VALUE=DURATION:PT1H
X-Robots-Tag:noindex
X-PUBLISHED-TTL:PT1H
BEGIN:VTIMEZONE
TZID:America/New_York
BEGIN:DAYLIGHT
TZOFFSETFROM:-0500
TZOFFSETTO:-0400
TZNAME:EDT
DTSTART:20220313T070000
END:DAYLIGHT
BEGIN:STANDARD
TZOFFSETFROM:-0400
TZOFFSETTO:-0500
TZNAME:EST
DTSTART:20221106T060000
END:STANDARD
END:VTIMEZONE
BEGIN:VEVENT
DTSTART;TZID=America/New_York:20220301T173000
DTEND;TZID=America/New_York:20220301T190000
DTSTAMP:20260422T182927
CREATED:20220112T203434Z
LAST-MODIFIED:20220112T203434Z
UID:6113-1646155800-1646161200@autismwny.org
SUMMARY:Family/Caregiver Support Group - 2022 via Zoom
DESCRIPTION:Are you a parent of a child with disabilities or suspect they have a disability? \nDo you want to\n~ feel less overwhelmed?\n~ feel a sense of belonging? \nGet the support you need from Parent Network of WNY & other group members!  First Tuesday of the month from 5:30 p.m. – 7:00 p.m. \nVirtual Meeting via Zoom.  Join Zoom Meeting\nhttps://zoom.us/j/96127043675?pwd=QzA5Z0tRVWczQUVlTnNhVXY2OVBnUT09\nMeeting ID: 961 2704 3675\, Passcode: 632607 \nNO JUDGEMENTS – NO FEES – ALL ARE WELCOME\nemail: info@parentnetworkwny.org | call: 716.332.4170\nwww.parentnetworkwny.org/events
URL:https://autismwny.org/event/family-caregiver-support-group-2022-via-zoom-2/
CATEGORIES:Support Groups
END:VEVENT
BEGIN:VEVENT
DTSTART;TZID=America/New_York:20220307T183000
DTEND;TZID=America/New_York:20220307T193000
DTSTAMP:20260422T182927
CREATED:20220303T164732Z
LAST-MODIFIED:20220303T164732Z
UID:6233-1646677800-1646681400@autismwny.org
SUMMARY:Northtowns Family/Caregiver Support Group via Zoom
DESCRIPTION:Are you a parent of a child with disabilities or do you suspect they have a disability?\nDo you want to…– Feel less overwhelmed?– Feel a sense of belonging? \nGet the support you need from Parent Network of WNY\, Empower and other group members!Discuss topics such as Special Education\, Sensory Processing Disorders\, Autism Spectrum Disorders\,  and more! \nJoin Zoom Meetinghttps://zoom.us/j/99541728957?pwd=a1Q4djhNRnhKaktJblhZbC84RC8rQT09Meeting ID: 995 4172 8957Passcode: 075356
URL:https://autismwny.org/event/northtowns-family-caregiver-support-group-via-zoom-15/
CATEGORIES:Support Groups
ORGANIZER;CN="Empower":MAILTO:info@empower-wny.org
END:VEVENT
BEGIN:VEVENT
DTSTART;TZID=America/New_York:20220310T190000
DTEND;TZID=America/New_York:20220310T200000
DTSTAMP:20260422T182927
CREATED:20220112T212211Z
LAST-MODIFIED:20220112T212211Z
UID:6132-1646938800-1646942400@autismwny.org
SUMMARY:(Spanish) Chat with Us! via Zoom
DESCRIPTION:¡Únase a nosotros para obtener respuestas a sus preguntas e inquietudes!\nRESPONDEREMOS SUS PREGUNTAS SOBRE…– Transiciones– Educación Especial y Discapacidades– Manejo de tiempo en el Hogar– Trabajo Escolar– Comportamiento– Tecnología Virtual– Recursos en Buffalo– ¡Y cualquier otro tema que quieras discutir!\nUnirse a la Zoom reuniónhttps://us06web.zoom.us/j/83163589898?pwd=Qmo4TCt2M1MwMjl6QUN1MkUwRjdXUT09Reunión ID: 831 6358 9898 Contraseña: 113048 \nSesiones Semanales de Charla Con Lizarelis Ali!\nemail: info@parentnetworkwny.org | call: 716.332.4170\nwww.parentnetworkwny.org/events
URL:https://autismwny.org/event/spanish-chat-with-us-via-zoom-3/
CATEGORIES:Support Groups
END:VEVENT
BEGIN:VEVENT
DTSTART;TZID=America/New_York:20220310T190000
DTEND;TZID=America/New_York:20220310T200000
DTSTAMP:20260422T182927
CREATED:20220303T194243Z
LAST-MODIFIED:20220303T194243Z
UID:6271-1646938800-1646942400@autismwny.org
SUMMARY:Residential Placement Online Discussion Group- Parents who have a child in a Residential placement
DESCRIPTION:Do you have a family member in a residential program and are struggling to make peace with this decision? Parent to Parent is excited to host a new Parent Discussion Group facilitated by Mariela Adams\, for families with children and adults of all ages that have children in residential school or a group home. \nMarch_10-2022_Residential_Placement_Discussion_Group.docx \nRegistration:  https://us02web.zoom.us/meeting/register/tZItcOCgqjkiE93EvzhK2aXOn96j5KDcPGBy \nIf you have questions\, please contact: Valeria Colavecchio – vcolavecchio@ptopnys.org.
URL:https://autismwny.org/event/residential-placement-online-discussion-group-parents-who-have-a-child-in-a-residential-placement/
CATEGORIES:Support Groups
END:VEVENT
BEGIN:VEVENT
DTSTART;TZID=America/New_York:20220316T190000
DTEND;TZID=America/New_York:20220316T203000
DTSTAMP:20260422T182927
CREATED:20220303T200407Z
LAST-MODIFIED:20220303T200407Z
UID:6279-1647457200-1647462600@autismwny.org
SUMMARY:Western NY Region: Caregiver Connections — Virtual Parent Groups through ZOOM
DESCRIPTION:At Parent to Parent of NYS we want you to know that during these uncertain and overwhelming times you are not alone. We are still here to offer support and information as we work from home. Our Caregiver Connections. This group is an informal meeting for parents who are navigating their child’s special needs. \nClick the link above to register in advance for this meeting. After registering\, you will receive a confirmation email containing information about joining the meeting. \nParent_Group_Flyer_3-16-2022.docx \nRegistration:  https://us02web.zoom.us/meeting/register/tZ0qcOmopjksHd0j3ZyCvaxvwpEshlVhCmb7 \nContact: Phone: Barb Hoffman – bhoffman@ptopnys.org.
URL:https://autismwny.org/event/western-ny-region-caregiver-connections-virtual-parent-groups-through-zoom-9/
CATEGORIES:Support Groups
END:VEVENT
BEGIN:VEVENT
DTSTART;TZID=America/New_York:20220317T183000
DTEND;TZID=America/New_York:20220317T193000
DTSTAMP:20260422T182927
CREATED:20220112T210832Z
LAST-MODIFIED:20220112T210832Z
UID:6124-1647541800-1647545400@autismwny.org
SUMMARY:Chautauqua County Family & Caregiver Support Group via Zoom
DESCRIPTION:Receive Support – Connect with Others – Express Yourself\nFree virtual support for parents\, family members and caregivers of children with special needs is the third Thursday of every month at 6:30pm. \nVirtual meeting.  Join via Zoom.\nMeeting ID: 826 7966 0440 Passcode: 028188
URL:https://autismwny.org/event/chautauqua-county-family-caregiver-support-group-via-zoom-6/
CATEGORIES:Support Groups
END:VEVENT
BEGIN:VEVENT
DTSTART;TZID=America/New_York:20220329T190000
DTEND;TZID=America/New_York:20220329T200000
DTSTAMP:20260422T182927
CREATED:20220304T010553Z
LAST-MODIFIED:20220304T010553Z
UID:6292-1648580400-1648584000@autismwny.org
SUMMARY:Parents Considering a Residential Placement Discussion Group
DESCRIPTION:At Parent to Parent of NYS we want you to know that during these uncertain and overwhelming times you are not alone. We are still here to offer support and information as we work from home. Our Caregiver Connections. This group is an informal meeting for parents who are navigating their child’s special needs. \nAfter registering\, you will receive a confirmation email containing information about joining the meeting. \nRegistration link:   https://us02web.zoom.us/meeting/register/tZcqc–ppzkiGdLNb3pg51CS4TfR1hFcibfp \nMarch_29\,2022_-Residential_Placement_Discussion_Group.docx \nContact: Sharon Linne – slinne@parenttoparentnys.org
URL:https://autismwny.org/event/parents-considering-a-residential-placement-discussion-group/
CATEGORIES:Support Groups
END:VEVENT
END:VCALENDAR