BEGIN:VCALENDAR
VERSION:2.0
PRODID:-//Autism Society Western New York - ECPv6.0.10//NONSGML v1.0//EN
CALSCALE:GREGORIAN
METHOD:PUBLISH
X-ORIGINAL-URL:https://autismwny.org
X-WR-CALDESC:Events for Autism Society Western New York
REFRESH-INTERVAL;VALUE=DURATION:PT1H
X-Robots-Tag:noindex
X-PUBLISHED-TTL:PT1H
BEGIN:VTIMEZONE
TZID:America/New_York
BEGIN:DAYLIGHT
TZOFFSETFROM:-0500
TZOFFSETTO:-0400
TZNAME:EDT
DTSTART:20220313T070000
END:DAYLIGHT
BEGIN:STANDARD
TZOFFSETFROM:-0400
TZOFFSETTO:-0500
TZNAME:EST
DTSTART:20221106T060000
END:STANDARD
END:VTIMEZONE
BEGIN:VEVENT
DTSTART;TZID=America/New_York:20220120T183000
DTEND;TZID=America/New_York:20220120T193000
DTSTAMP:20260422T212656
CREATED:20220112T184308Z
LAST-MODIFIED:20220112T184308Z
UID:6108-1642703400-1642707000@autismwny.org
SUMMARY:Chautauqua County Family & Caregiver Support Group via Zoom
DESCRIPTION:Receive Support – Connect with Others – Express Yourself\nFree virtual support for parents\, family members and caregivers of children with special needs is the third Thursday of every month at 6:30pm. \nVirtual meeting.  Join via Zoom.\nMeeting ID: 826 7966 0440 Passcode: 028188
URL:https://autismwny.org/event/chautauqua-county-family-caregiver-support-group-via-zoom-4/
CATEGORIES:Support Groups
END:VEVENT
BEGIN:VEVENT
DTSTART;TZID=America/New_York:20220125T190000
DTEND;TZID=America/New_York:20220125T200000
DTSTAMP:20260422T212656
CREATED:20211228T203846Z
LAST-MODIFIED:20211228T203846Z
UID:5953-1643137200-1643140800@autismwny.org
SUMMARY:NEW- Parents Considering a Residential Placement Discussion Group via Zoom
DESCRIPTION:Are you considering residential placement for your family member? Parent to Parent of New York State is excited to host a new Parent Discussion Group facilitated by Sharon Linne for families with children and adults of all ages who are considering placement in a residential school or a group home. \nQuestions:Valeria Colavecchio – vcolavecchio@ptopnys.org \nRegister:  https://us02web.zoom.us/meeting/register/tZcqc–ppzkiGdLNb3pg51CS4TfR1hFcibfp
URL:https://autismwny.org/event/new-parents-considering-a-residential-placement-discussion-group-via-zoom/
CATEGORIES:Support Groups
END:VEVENT
END:VCALENDAR