BEGIN:VCALENDAR
VERSION:2.0
PRODID:-//Autism Society Western New York - ECPv6.0.10//NONSGML v1.0//EN
CALSCALE:GREGORIAN
METHOD:PUBLISH
X-WR-CALNAME:Autism Society Western New York
X-ORIGINAL-URL:https://autismwny.org
X-WR-CALDESC:Events for Autism Society Western New York
REFRESH-INTERVAL;VALUE=DURATION:PT1H
X-Robots-Tag:noindex
X-PUBLISHED-TTL:PT1H
BEGIN:VTIMEZONE
TZID:America/New_York
BEGIN:DAYLIGHT
TZOFFSETFROM:-0500
TZOFFSETTO:-0400
TZNAME:EDT
DTSTART:20210314T070000
END:DAYLIGHT
BEGIN:STANDARD
TZOFFSETFROM:-0400
TZOFFSETTO:-0500
TZNAME:EST
DTSTART:20211107T060000
END:STANDARD
END:VTIMEZONE
BEGIN:VEVENT
DTSTART;TZID=America/New_York:20211206T183000
DTEND;TZID=America/New_York:20211206T200000
DTSTAMP:20260422T224734
CREATED:20211003T201633Z
LAST-MODIFIED:20211003T201700Z
UID:5669-1638815400-1638820800@autismwny.org
SUMMARY:Northtowns Family/Caregiver Support Group via Zoom
DESCRIPTION:Are you a parent of a child with disabilities or do you suspect they have a disability? \nDo you want to…\nFeel less overwhelmed?\nFeel a sense of belonging? \nGet the support you need from Parent Network of WNY\, Empower and other group members! \nDiscuss topics such as\nSpecial Education\, Sensory Processing Disorders\, Autism Spectrum Disorders and more! \nJoin Zoom Meeting\nhttps://zoom.us/j/99541728957?pwd=a1Q4djhNRnhKaktJblhZbC84RC8rQT09 \nMeeting ID: 995 4172 8957 Passcode: 075356
URL:https://autismwny.org/event/5669/
CATEGORIES:Support Groups
END:VEVENT
BEGIN:VEVENT
DTSTART;TZID=America/New_York:20211207T173000
DTEND;TZID=America/New_York:20211207T190000
DTSTAMP:20260422T224734
CREATED:20210725T162908Z
LAST-MODIFIED:20210725T162908Z
UID:5448-1638898200-1638903600@autismwny.org
SUMMARY:Family/Caregiver Support Group via Zoom
DESCRIPTION:Are you a parent of a child with disabilities or suspect they have a disability? \nDo you want to\n~ feel less overwhelmed?\n~ feel a sense of belonging?\nGet the support you need from\nParent Network of WNY & other group members! \nFirst Tuesday of the Month\n5:30 pm to 7 pm \nJoin Zoom Meeting\nhttps://zoom.us/j/96127043675?pwd=QzA5Z0tRVWczQUVlTnNhVXY2OVBnUT09\nMeeting ID: 961 2704 3675\, Passcode: 632607
URL:https://autismwny.org/event/family-caregiver-support-group-via-zoom-3/
CATEGORIES:Support Groups
END:VEVENT
BEGIN:VEVENT
DTSTART;TZID=America/New_York:20211209T190000
DTEND;TZID=America/New_York:20211209T200000
DTSTAMP:20260422T224734
CREATED:20211108T194441Z
LAST-MODIFIED:20211108T194441Z
UID:5823-1639076400-1639080000@autismwny.org
SUMMARY:(Spanish) Chat with Us! via Zoom
DESCRIPTION:¡Únase a nosotros para obtener respuestas a sus preguntas e inquietudes! \nRESPONDEREMOS SUS PREGUNTAS SOBRE… \nTransiciones\nEducación Especial y Discapacidades\nManejo de tiempo en el Hogar\nTrabajo Escolar\nComportamiento\nTecnología Virtual\nRecursos en Buffalo\n¡Y cualquier otro tema que quieras discutir! \nUnirse a la Zoom reunión \nhttps://zoom.us/j/95683049386?pwd=OGNhVzF4Z2IzSHc0SF V3R1loRXRDdz09 \nReunión ID: 476 427 5463 Contraseña: 113048
URL:https://autismwny.org/event/spanish-chat-with-us-via-zoom/
CATEGORIES:Support Groups
END:VEVENT
BEGIN:VEVENT
DTSTART;TZID=America/New_York:20211215T183000
DTEND;TZID=America/New_York:20211215T193000
DTSTAMP:20260422T224734
CREATED:20210725T163424Z
LAST-MODIFIED:20210725T163424Z
UID:5451-1639593000-1639596600@autismwny.org
SUMMARY:Buffalo Group for Parents/Caregivers of Children with Autism Spectrum Disorders via Zoom
DESCRIPTION:Practicing social distancing but still need to talk?\nDo you want to\n~ feel less overwhelmed?\n~ feel a sense of belonging? \nGet the support you need from Kathy Doody\, Jana Mertz & other group members!\nJoin Zoom Meeting\nhttps://zoom.us/j/97311273663?pwd=ZDlSaWZZTnROU-UNaUTR6c3ErZ0RuQT09\nMeeting ID: 973 1127 3663\nPasscode: Ausome
URL:https://autismwny.org/event/buffalo-group-for-parents-caregivers-of-children-with-autism-spectrum-disorders-via-zoom-7/
CATEGORIES:Support Groups
END:VEVENT
BEGIN:VEVENT
DTSTART;TZID=America/New_York:20211216T183000
DTEND;TZID=America/New_York:20211216T193000
DTSTAMP:20260422T224734
CREATED:20210725T163901Z
LAST-MODIFIED:20210725T163901Z
UID:5453-1639679400-1639683000@autismwny.org
SUMMARY:Chautauqua County Family & Caregiver Support Group (Attend in-person or virtually via Zoom.)
DESCRIPTION:Free support group for parents\, family members\, and caregivers of children with special needs. \nReceive support\, connect with others\, and express yourself. \nAttend in-person at 880 E. Second Street\, Jamestown\, NY  14701 or virtually via Zoom. \nJoin Zoom Meeting\nhttps://us02web.zoom.us/j/82679660440?pwd=VlJsWE9OVjI0ODIwK1E0c2dCNDBMdz09 \nMeeting ID: 826 7966 0440\nPassword: 028188 \nOne tap mobile\n+19292056099\,\, 82679660440#\,\,1#\,028188# US (New York)
URL:https://autismwny.org/event/chautauqua-county-family-caregiver-support-group-attend-in-person-or-virtually-via-zoom-2/
LOCATION:The Resource Center\, 880 E. Second St.\, Jamestown\, NY\, 14701\, United States
CATEGORIES:Support Groups
GEO:42.1049315;-79.2247596
X-APPLE-STRUCTURED-LOCATION;VALUE=URI;X-ADDRESS=The Resource Center 880 E. Second St. Jamestown NY 14701 United States;X-APPLE-RADIUS=500;X-TITLE=880 E. Second St.:geo:-79.2247596,42.1049315
END:VEVENT
BEGIN:VEVENT
DTSTART;TZID=America/New_York:20211220T183000
DTEND;TZID=America/New_York:20211220T200000
DTSTAMP:20260422T224734
CREATED:20211003T201846Z
LAST-MODIFIED:20211003T201846Z
UID:5673-1640025000-1640030400@autismwny.org
SUMMARY:Northtowns Family/Caregiver Support Group via Zoom
DESCRIPTION:Are you a parent of a child with disabilities or do you suspect they have a disability? \nDo you want to…\nFeel less overwhelmed?\nFeel a sense of belonging? \nGet the support you need from Parent Network of WNY\, Empower and other group members! \nDiscuss topics such as\nSpecial Education\, Sensory Processing Disorders\, Autism Spectrum Disorders and more! \nJoin Zoom Meeting\nhttps://zoom.us/j/99541728957?pwd=a1Q4djhNRnhKaktJblhZbC84RC8rQT09 \nMeeting ID: 995 4172 8957 Passcode: 075356
URL:https://autismwny.org/event/northtowns-family-caregiver-support-group-via-zoom-14/
CATEGORIES:Support Groups
END:VEVENT
END:VCALENDAR