BEGIN:VCALENDAR
VERSION:2.0
PRODID:-//Autism Society Western New York - ECPv6.0.10//NONSGML v1.0//EN
CALSCALE:GREGORIAN
METHOD:PUBLISH
X-ORIGINAL-URL:https://autismwny.org
X-WR-CALDESC:Events for Autism Society Western New York
REFRESH-INTERVAL;VALUE=DURATION:PT1H
X-Robots-Tag:noindex
X-PUBLISHED-TTL:PT1H
BEGIN:VTIMEZONE
TZID:America/New_York
BEGIN:DAYLIGHT
TZOFFSETFROM:-0500
TZOFFSETTO:-0400
TZNAME:EDT
DTSTART:20210314T070000
END:DAYLIGHT
BEGIN:STANDARD
TZOFFSETFROM:-0400
TZOFFSETTO:-0500
TZNAME:EST
DTSTART:20211107T060000
END:STANDARD
END:VTIMEZONE
BEGIN:VEVENT
DTSTART;TZID=America/New_York:20211101T183000
DTEND;TZID=America/New_York:20211101T200000
DTSTAMP:20260423T001612
CREATED:20211003T201224Z
LAST-MODIFIED:20211003T201224Z
UID:5665-1635791400-1635796800@autismwny.org
SUMMARY:Northtowns Family/Caregiver Support Group via Zoom
DESCRIPTION:Are you a parent of a child with disabilities or do you suspect they have a disability? \nDo you want to…\nFeel less overwhelmed?\nFeel a sense of belonging? \nGet the support you need from Parent Network of WNY\, Empower and other group members! \nDiscuss topics such as\nSpecial Education\, Sensory Processing Disorders\, Autism Spectrum Disorders and more! \nJoin Zoom Meeting\nhttps://zoom.us/j/99541728957?pwd=a1Q4djhNRnhKaktJblhZbC84RC8rQT09 \nMeeting ID: 995 4172 8957 Passcode: 075356
URL:https://autismwny.org/event/northtowns-family-caregiver-support-group-via-zoom-12/
CATEGORIES:Support Groups
END:VEVENT
BEGIN:VEVENT
DTSTART;TZID=America/New_York:20211115T183000
DTEND;TZID=America/New_York:20211115T200000
DTSTAMP:20260423T001612
CREATED:20211003T201510Z
LAST-MODIFIED:20211003T201510Z
UID:5667-1637001000-1637006400@autismwny.org
SUMMARY:Northtowns Family/Caregiver Support Group via Zoom
DESCRIPTION:Are you a parent of a child with disabilities or do you suspect they have a disability? \nDo you want to…\nFeel less overwhelmed?\nFeel a sense of belonging? \nGet the support you need from Parent Network of WNY\, Empower and other group members! \nDiscuss topics such as\nSpecial Education\, Sensory Processing Disorders\, Autism Spectrum Disorders and more! \nJoin Zoom Meeting\nhttps://zoom.us/j/99541728957?pwd=a1Q4djhNRnhKaktJblhZbC84RC8rQT09 \nMeeting ID: 995 4172 8957 Passcode: 075356
URL:https://autismwny.org/event/northtowns-family-caregiver-support-group-via-zoom-13/
CATEGORIES:Support Groups
END:VEVENT
BEGIN:VEVENT
DTSTART;TZID=America/New_York:20211117T183000
DTEND;TZID=America/New_York:20211117T193000
DTSTAMP:20260423T001612
CREATED:20210725T162048Z
LAST-MODIFIED:20210725T162048Z
UID:5443-1637173800-1637177400@autismwny.org
SUMMARY:Buffalo Group for Parents/Caregivers of Children with Autism Spectrum Disorders via Zoom
DESCRIPTION:Practicing social distancing but still need to talk?\nDo you want to\n~ feel less overwhelmed?\n~ feel a sense of belonging? \nGet the support you need from Kathy Doody\, Jana Mertz & other group members!\nJoin Zoom Meeting\nhttps://zoom.us/j/97311273663?pwd=ZDlSaWZZTnROU-UNaUTR6c3ErZ0RuQT09\nMeeting ID: 973 1127 3663\nPasscode: Ausome
URL:https://autismwny.org/event/buffalo-group-for-parents-caregivers-of-children-with-autism-spectrum-disorders-via-zoom-6/
CATEGORIES:Support Groups
END:VEVENT
BEGIN:VEVENT
DTSTART;TZID=America/New_York:20211117T190000
DTEND;TZID=America/New_York:20211117T203000
DTSTAMP:20260423T001612
CREATED:20211108T195556Z
LAST-MODIFIED:20211108T195556Z
UID:5829-1637175600-1637181000@autismwny.org
SUMMARY:Western NY Region: Caregiver Connections — Virtual Parent Groups through ZOOM
DESCRIPTION:At Parent to Parent of NYS we want you to know that during these uncertain and overwhelming times you are not alone. We are still here to offer support and information as we work from home. Our Caregiver Connections. This group is an informal meeting for parents who are navigating their child’s special needs. \nClick the link above to register in advance for this meeting. After registering\, you will receive a confirmation email containing information about joining the meeting. Contact Barb Hoffman with any questions. \nContact: Phone: Barb Hoffman – bhoffman@ptopnys.org \n11-_17-2021_Barb_Caregiver_Connection_flyer.docx \nZoom- Online Registration: https://us02web.zoom.us/meeting/register/tZIpdeihrDosG9LYa3MKFbUzR3VMBaqMqaQM
URL:https://autismwny.org/event/western-ny-region-caregiver-connections-virtual-parent-groups-through-zoom-6/
CATEGORIES:Support Groups
END:VEVENT
BEGIN:VEVENT
DTSTART;TZID=America/New_York:20211118T183000
DTEND;TZID=America/New_York:20211118T193000
DTSTAMP:20260423T001612
CREATED:20210725T162624Z
LAST-MODIFIED:20210725T162624Z
UID:5446-1637260200-1637263800@autismwny.org
SUMMARY:Chautauqua County Family & Caregiver Support Group (Attend in-person or virtually via Zoom.)
DESCRIPTION:Free support group for parents\, family members\, and caregivers of children with special needs. \nReceive support\, connect with others\, and express yourself. \nAttend in-person at 880 E. Second Street\, Jamestown\, NY  14701 or virtually via Zoom. \nJoin Zoom Meeting\nhttps://us02web.zoom.us/j/82679660440?pwd=VlJsWE9OVjI0ODIwK1E0c2dCNDBMdz09 \nMeeting ID: 826 7966 0440\nPassword: 028188 \nOne tap mobile\n+19292056099\,\, 82679660440#\,\,1#\,028188# US (New York)
URL:https://autismwny.org/event/chautauqua-county-family-caregiver-support-group-attend-in-person-or-virtually-via-zoom/
LOCATION:The Resource Center\, 880 E. Second St.\, Jamestown\, NY\, 14701\, United States
CATEGORIES:Support Groups
GEO:42.1049315;-79.2247596
X-APPLE-STRUCTURED-LOCATION;VALUE=URI;X-ADDRESS=The Resource Center 880 E. Second St. Jamestown NY 14701 United States;X-APPLE-RADIUS=500;X-TITLE=880 E. Second St.:geo:-79.2247596,42.1049315
END:VEVENT
BEGIN:VEVENT
DTSTART;TZID=America/New_York:20211118T190000
DTEND;TZID=America/New_York:20211118T203000
DTSTAMP:20260423T001612
CREATED:20211108T201856Z
LAST-MODIFIED:20211108T201856Z
UID:5838-1637262000-1637267400@autismwny.org
SUMMARY:Residential Placement Online Discussion Group via Zoom
DESCRIPTION:Do you have a family member in a residential program and are struggling to make peace with this decision? Parent to Parent is excited to host a new Parent Discussion Group facilitated by Mariela Adams\, for families with children and adults of all ages that have children in residential school or a group home. \nCome join us for an hour of support and conversation about this important topic. \nSee flyer for registration link  Nov_18\,2021-_Residential_Placement_Discussion_Group.docx \nContact: Phone: Valerie Colavecchio – vcolavecchio@ptopnys.org \nZoom Online Registration: https://us02web.zoom.us/meeting/register/tZYvfuioqD8vG9H8lDdKsKQ-AIOUl3-st3Xm
URL:https://autismwny.org/event/residential-placement-online-discussion-group-via-zoom-2/
CATEGORIES:Support Groups
END:VEVENT
END:VCALENDAR