BEGIN:VCALENDAR
VERSION:2.0
PRODID:-//Autism Society Western New York - ECPv6.0.10//NONSGML v1.0//EN
CALSCALE:GREGORIAN
METHOD:PUBLISH
X-ORIGINAL-URL:https://autismwny.org
X-WR-CALDESC:Events for Autism Society Western New York
REFRESH-INTERVAL;VALUE=DURATION:PT1H
X-Robots-Tag:noindex
X-PUBLISHED-TTL:PT1H
BEGIN:VTIMEZONE
TZID:America/New_York
BEGIN:DAYLIGHT
TZOFFSETFROM:-0500
TZOFFSETTO:-0400
TZNAME:EDT
DTSTART:20210314T070000
END:DAYLIGHT
BEGIN:STANDARD
TZOFFSETFROM:-0400
TZOFFSETTO:-0500
TZNAME:EST
DTSTART:20211107T060000
END:STANDARD
END:VTIMEZONE
BEGIN:VEVENT
DTSTART;TZID=America/New_York:20210805T110000
DTEND;TZID=America/New_York:20210805T120000
DTSTAMP:20260423T063148
CREATED:20210616T202530Z
LAST-MODIFIED:20210616T202530Z
UID:5374-1628161200-1628164800@autismwny.org
SUMMARY:Western NY Region: Caregiver Connections — Virtual Parent Groups through ZOOM
DESCRIPTION:At Parent to Parent of NYS we want you to know that during these uncertain and overwhelming times you are not alone. We are still here to offer support and information as we work from home. Our Caregiver Connections. This group is an informal meeting for parents who are navigating their child’s special needs. \nRegister in advance for this meeting.  Online Registration: https://us02web.zoom.us/meeting/register/tZUscu-urzksH9bfidAyb3AAyPohv2PBa_gF  After registering\, you will receive a confirmation email containing information about joining the meeting. Contact Barb Hoffman with any questions at bhoffman@ptopnys.org
URL:https://autismwny.org/event/western-ny-region-caregiver-connections-virtual-parent-groups-through-zoom-3/
CATEGORIES:Support Groups
END:VEVENT
BEGIN:VEVENT
DTSTART;TZID=America/New_York:20210818T190000
DTEND;TZID=America/New_York:20210818T203000
DTSTAMP:20260423T063148
CREATED:20210711T223320Z
LAST-MODIFIED:20210711T223320Z
UID:5421-1629313200-1629318600@autismwny.org
SUMMARY:Western NY Region: Caregiver Connections — Virtual Parent Groups through ZOOM
DESCRIPTION:At Parent to Parent of NYS we want you to know that during these uncertain and overwhelming times you are not alone. We are still here to offer support and information as we work from home. Our Caregiver Connections. This group is an informal meeting for parents who are navigating their child’s special needs. \nOnline Registration: https://us02web.zoom.us/meeting/register/tZUtf-2qqDIpHdOcYnki1vRSWVUHKY2Xg6la \nClick the link above to register in advance for this meeting. After registering\, you will receive a confirmation email containing information about joining the meeting. Email Barb Hoffman with any questions at bhoffman@ptopnys.org \n\nWestern NY Caregiver Connections FLYER
URL:https://autismwny.org/event/western-ny-region-caregiver-connections-virtual-parent-groups-through-zoom-4/
CATEGORIES:Support Groups
END:VEVENT
BEGIN:VEVENT
DTSTART;TZID=America/New_York:20210819T183000
DTEND;TZID=America/New_York:20210819T200000
DTSTAMP:20260423T063148
CREATED:20210616T211713Z
LAST-MODIFIED:20210616T211713Z
UID:5390-1629397800-1629403200@autismwny.org
SUMMARY:Chautauqua County Family & Caregiver Support Group
DESCRIPTION:Free support group for parents\, family members\, and caregivers of children with special needs.  Third Thursday of every month at 6:30 p.m. \nReceive support\, connect with others\, and express yourself. \nIn-person and virtual options available. \nIn-person located at 880 E. Second St.\, Jamestown\, NY  14701 \nor \nJoin Zoom Meeting\nhttps://us02web.zoom.us/j/82679660440?pwd=VlJsWE9OVjI0ODIwK1E0c2dCNDBMdz09 \nMeeting ID: 826 7966 0440\nPassword: 028188 \nOne tap mobile\n+19292056099\,\, 82679660440#\,\,1#\,028188# US (New York) \n 
URL:https://autismwny.org/event/chautauqua-county-family-caregiver-support-group-9/
LOCATION:The Resource Center\, 880 E. Second St.\, Jamestown\, NY\, 14701\, United States
CATEGORIES:Support Groups
GEO:42.1049315;-79.2247596
X-APPLE-STRUCTURED-LOCATION;VALUE=URI;X-ADDRESS=The Resource Center 880 E. Second St. Jamestown NY 14701 United States;X-APPLE-RADIUS=500;X-TITLE=880 E. Second St.:geo:-79.2247596,42.1049315
END:VEVENT
END:VCALENDAR