BEGIN:VCALENDAR
VERSION:2.0
PRODID:-//Autism Society Western New York - ECPv6.0.10//NONSGML v1.0//EN
CALSCALE:GREGORIAN
METHOD:PUBLISH
X-ORIGINAL-URL:https://autismwny.org
X-WR-CALDESC:Events for Autism Society Western New York
REFRESH-INTERVAL;VALUE=DURATION:PT1H
X-Robots-Tag:noindex
X-PUBLISHED-TTL:PT1H
BEGIN:VTIMEZONE
TZID:America/New_York
BEGIN:DAYLIGHT
TZOFFSETFROM:-0500
TZOFFSETTO:-0400
TZNAME:EDT
DTSTART:20210314T070000
END:DAYLIGHT
BEGIN:STANDARD
TZOFFSETFROM:-0400
TZOFFSETTO:-0500
TZNAME:EST
DTSTART:20211107T060000
END:STANDARD
END:VTIMEZONE
BEGIN:VEVENT
DTSTART;TZID=America/New_York:20210706T173000
DTEND;TZID=America/New_York:20210706T190000
DTSTAMP:20260423T075439
CREATED:20210503T222136Z
LAST-MODIFIED:20210503T222136Z
UID:5299-1625592600-1625598000@autismwny.org
SUMMARY:Family & Caregiver Group - Virtual meeting via Zoom
DESCRIPTION:Are you a parent of a child with disabilities or suspect they have a disability? \nDo you want to\n~ feel less overwhelmed?\n~ feel a sense of belonging?\nGet the support you need from Parent Network of WNY & other group members! \nFirst Tuesday of the Month\n5:30 pm to 7 pm \nJoin Zoom Meeting\nhttps://zoom.us/j/96127043675?pwd=QzA5Z0tRVWczQUVlTnNhVXY2OVBnUT09\nMeeting ID: 961 2704 3675\, Passcode: 632607
URL:https://autismwny.org/event/family-caregiver-group-virtual-meeting-via-zoom/
CATEGORIES:Support Groups
END:VEVENT
BEGIN:VEVENT
DTSTART;TZID=America/New_York:20210708T110000
DTEND;TZID=America/New_York:20210708T120000
DTSTAMP:20260423T075439
CREATED:20210616T201636Z
LAST-MODIFIED:20210616T201636Z
UID:5370-1625742000-1625745600@autismwny.org
SUMMARY:Western NY Region: Caregiver Connections — Virtual Parent Groups through ZOOM
DESCRIPTION:At Parent to Parent of NYS we want you to know that during these uncertain and overwhelming times you are not alone. We are still here to offer support and information as we work from home. Our Caregiver Connections. This group is an informal meeting for parents who are navigating their child’s special needs. \nRegister in advance for this meeting.  Registration: https://us02web.zoom.us/meeting/register/tZEude6rqz4pHtNwHx4Va6ob38PlvF06ESfG  After registering\, you will receive a confirmation email containing information about joining the meeting. Contact Barb Hoffman with any questions at bhoffman@ptopnys.org
URL:https://autismwny.org/event/western-ny-region-caregiver-connections-virtual-parent-groups-through-zoom/
CATEGORIES:Support Groups
END:VEVENT
BEGIN:VEVENT
DTSTART;TZID=America/New_York:20210714T183000
DTEND;TZID=America/New_York:20210714T193000
DTSTAMP:20260423T075439
CREATED:20210427T152858Z
LAST-MODIFIED:20210427T152916Z
UID:5273-1626287400-1626291000@autismwny.org
SUMMARY:Buffalo Group for Parents/Caregivers of Children with Autism Spectrum Disorders via Zoom
DESCRIPTION:Practicing social distancing but still need to talk?\nDo you want to\n~ feel less overwhelmed?\n~ feel a sense of belonging? \nGet the support you need from Kathy Doody\, Jana Mertz & other group members! \nJoin Zoom Meeting\nhttps://zoom.us/j/97311273663?pwd=ZDlSaWZZTnROU-UNaUTR6c3ErZ0RuQT09\nMeeting ID: 973 1127 3663\nPasscode: Ausome
URL:https://autismwny.org/event/buffalo-group-for-parents-caregivers-of-children-with-autism-spectrum-disorders-via-zoom-4/
CATEGORIES:Support Groups
END:VEVENT
BEGIN:VEVENT
DTSTART;TZID=America/New_York:20210715T183000
DTEND;TZID=America/New_York:20210715T200000
DTSTAMP:20260423T075439
CREATED:20210616T210839Z
LAST-MODIFIED:20210616T210941Z
UID:5384-1626373800-1626379200@autismwny.org
SUMMARY:Chautauqua County Family & Caregiver Support Group
DESCRIPTION:Free support group for parents\, family members\, and caregivers of children with special needs.  Third Thursday of every month at 6:30 p.m. \nReceive support\, connect with others\, and express yourself. \nIn-person and virtual options available. \nIn-person located at 880 E. Second St.\, Jamestown\, NY  14701 \nor \nJoin Zoom Meeting\nhttps://us02web.zoom.us/j/82679660440?pwd=VlJsWE9OVjI0ODIwK1E0c2dCNDBMdz09 \nMeeting ID: 826 7966 0440\nPassword: 028188 \nOne tap mobile\n+19292056099 82679660440# 1#\,028188# US (New York)
URL:https://autismwny.org/event/chautauqua-county-family-caregiver-support-group-8/
LOCATION:The Resource Center\, 880 E. Second St.\, Jamestown\, NY\, 14701\, United States
CATEGORIES:Support Groups
GEO:42.1049315;-79.2247596
X-APPLE-STRUCTURED-LOCATION;VALUE=URI;X-ADDRESS=The Resource Center 880 E. Second St. Jamestown NY 14701 United States;X-APPLE-RADIUS=500;X-TITLE=880 E. Second St.:geo:-79.2247596,42.1049315
END:VEVENT
BEGIN:VEVENT
DTSTART;TZID=America/New_York:20210721T190000
DTEND;TZID=America/New_York:20210721T200000
DTSTAMP:20260423T075439
CREATED:20210616T202030Z
LAST-MODIFIED:20210616T202030Z
UID:5372-1626894000-1626897600@autismwny.org
SUMMARY:Western NY Region: Caregiver Connections — Virtual Parent Groups through ZOOM
DESCRIPTION:At Parent to Parent of NYS we want you to know that during these uncertain and overwhelming times you are not alone. We are still here to offer support and information as we work from home. Our Caregiver Connections. This group is an informal meeting for parents who are navigating their child’s special needs. \nRegister in advance for this meeting.  Online Registration: https://us02web.zoom.us/meeting/register/tZMuf-yvrDojHNNjxQcYRU77sxJKFgIqdBDI  After registering\, you will receive a confirmation email containing information about joining the meeting. Contact Barb Hoffman with any questions at bhoffman@ptopnys.org
URL:https://autismwny.org/event/western-ny-region-caregiver-connections-virtual-parent-groups-through-zoom-2/
CATEGORIES:Support Groups
END:VEVENT
END:VCALENDAR