BEGIN:VCALENDAR
VERSION:2.0
PRODID:-//Autism Society Western New York - ECPv6.0.10//NONSGML v1.0//EN
CALSCALE:GREGORIAN
METHOD:PUBLISH
X-ORIGINAL-URL:https://autismwny.org
X-WR-CALDESC:Events for Autism Society Western New York
REFRESH-INTERVAL;VALUE=DURATION:PT1H
X-Robots-Tag:noindex
X-PUBLISHED-TTL:PT1H
BEGIN:VTIMEZONE
TZID:America/New_York
BEGIN:DAYLIGHT
TZOFFSETFROM:-0500
TZOFFSETTO:-0400
TZNAME:EDT
DTSTART:20210314T070000
END:DAYLIGHT
BEGIN:STANDARD
TZOFFSETFROM:-0400
TZOFFSETTO:-0500
TZNAME:EST
DTSTART:20211107T060000
END:STANDARD
END:VTIMEZONE
BEGIN:VEVENT
DTSTART;TZID=America/New_York:20210601T173000
DTEND;TZID=America/New_York:20210601T193000
DTSTAMP:20260423T092051
CREATED:20210427T150414Z
LAST-MODIFIED:20210427T150414Z
UID:5266-1622568600-1622575800@autismwny.org
SUMMARY:Family & Caregiver Support Group-virtual meeting via Zoom
DESCRIPTION:Are you a parent of a child with disabilities or suspect they have a disability? \nDo you want to\n~ feel less overwhelmed?\n~ feel a sense of belonging?\nGet the support you need from Parent Network of WNY & other group members! \nFirst Tuesday of the Month\n5:30 pm to 7 pm \nJoin Zoom Meeting\nhttps://zoom.us/j/96127043675?pwd=QzA5Z0tRVWczQUVlTnNhVXY2OVBnUT09\nMeeting ID: 961 2704 3675\, Passcode: 632607
URL:https://autismwny.org/event/family-caregiver-support-group-virtual-meeting-via-zoom/
CATEGORIES:Support Groups
END:VEVENT
BEGIN:VEVENT
DTSTART;TZID=America/New_York:20210603T183000
DTEND;TZID=America/New_York:20210603T193000
DTSTAMP:20260423T092051
CREATED:20210213T212023Z
LAST-MODIFIED:20210213T212023Z
UID:5027-1622745000-1622748600@autismwny.org
SUMMARY:Chautauqua County Family & Caregiver Support Group - Via Zoom
DESCRIPTION:Want to feel less overwhelmed?  Want to feel a sense of belonging?  This is the place for you. \nNo Judgements!  No Fee!  Every 1st & 3rd Thursday of the Month from 6:30-7:30PM. \nJoin Zoom meeting:  https://us02web.zoom.us/j/82679660440?pwd=VlJsWE9OVjI0ODIwK1E0c2dCNDBMdz09\nMeeting ID: 826 7966 0440\nPassword: 028188\nOne tap mobile\n+19292056099\,\, 82679660440#\,\,1#\,028188# US (New York) \nIf you have any questions contact us at (716) 332-4170 or info@parentnetworkwny.org or join the group on Facebook for future dates\, helpful hints and links:  CHQ Support Group for Parents/Caregivers of Children with Special Needs
URL:https://autismwny.org/event/chautauqua-county-family-caregiver-support-group-via-zoom-2/
CATEGORIES:Support Groups
END:VEVENT
BEGIN:VEVENT
DTSTART;TZID=America/New_York:20210607T190000
DTEND;TZID=America/New_York:20210607T203000
DTSTAMP:20260423T092051
CREATED:20210304T224101Z
LAST-MODIFIED:20210304T224101Z
UID:5099-1623092400-1623097800@autismwny.org
SUMMARY:Northtowns Family/Caregiver Support Group via Zoom
DESCRIPTION:Are you a parent of a child with disabilities or suspect they have a disability? \nDo you want to\n~ feel less overwhelmed?\n~ feel a sensed of belonging? \nGet the support you need from Parent Network of WNY\, Empower and other group members! \nNO JUDGEMENTS – NO FEES – ALL ARE WELCOME\nemail: info@parentnetworkwny.org | call: 716.332.4170\nwww.parentnetworkwny.org/events \nJoin Zoom Meeting:  https://zoom.us/j/99541728957?pwd=a1Q4djhNRnhKaktJblhZbC84RC8rQT09\nMeeting ID: 995 4172 8957\nPasscode: 075356 \nUpcoming Meeting Dates:  June 21 \nTime:  7:00 pm – 8:30 pm
URL:https://autismwny.org/event/northtowns-family-caregiver-support-group-via-zoom-6/
CATEGORIES:Support Groups
ORGANIZER;CN="Empower":MAILTO:info@empower-wny.org
END:VEVENT
BEGIN:VEVENT
DTSTART;TZID=America/New_York:20210610T190000
DTEND;TZID=America/New_York:20210610T200000
DTSTAMP:20260423T092051
CREATED:20210602T141838Z
LAST-MODIFIED:20210602T141838Z
UID:5338-1623351600-1623355200@autismwny.org
SUMMARY:Video Chat Support Groups for Caregivers of Children\, Teen and Young Adults ages 18-26
DESCRIPTION:Family support groups are offered through Mental Health Advocates of WNY MHA’s Child and Family Support Program and are open to parents\, foster parents\, grandparents or any caregiver/guardian to provide support and alleviate isolation. \nVideo Chat Support Groups for Caregivers of Children\, Teen and Young Adults ages 18-26 \nSecond & fourth Thursdays of the month\n7:00pm-8:00pm\n \nTo sign-up:\nRSVP to laney@mhawny.org\, or 716-886-1242 x 313\nYou will receive a confirmation email with log-in information.
URL:https://autismwny.org/event/video-chat-support-groups-for-caregivers-of-children-teen-and-young-adults-ages-18-26/
CATEGORIES:Support Groups
END:VEVENT
BEGIN:VEVENT
DTSTART;TZID=America/New_York:20210616T183000
DTEND;TZID=America/New_York:20210616T193000
DTSTAMP:20260423T092051
CREATED:20210427T152250Z
LAST-MODIFIED:20210427T152250Z
UID:5271-1623868200-1623871800@autismwny.org
SUMMARY:Buffalo Group for Parents/Caregivers of Children with Autism Spectrum Disorders - via Zoom
DESCRIPTION:Practicing social distancing but still need to talk?\nDo you want to\n~ feel less overwhelmed?\n~ feel a sense of belonging? \nGet the support you need from Kathy Doody\, Jana Mertz & other group members! \nJoin Zoom Meeting\nhttps://zoom.us/j/97311273663?pwd=ZDlSaWZZTnROU-UNaUTR6c3ErZ0RuQT09\nMeeting ID: 973 1127 3663\nPasscode: Ausome
URL:https://autismwny.org/event/buffalo-group-for-parents-caregivers-of-children-with-autism-spectrum-disorders-via-zoom-3/
CATEGORIES:Support Groups
END:VEVENT
BEGIN:VEVENT
DTSTART;TZID=America/New_York:20210617T183000
DTEND;TZID=America/New_York:20210617T193000
DTSTAMP:20260423T092051
CREATED:20210213T212257Z
LAST-MODIFIED:20210213T212257Z
UID:5029-1623954600-1623958200@autismwny.org
SUMMARY:Chautauqua County Family & Caregiver Support Group - Via Zoom
DESCRIPTION:Want to feel less overwhelmed?  Want to feel a sense of belonging?  This is the place for you. \nNo Judgements!  No Fee!  Every 1st & 3rd Thursday of the Month from 6:30-7:30PM. \nJoin Zoom meeting:  https://us02web.zoom.us/j/82679660440?pwd=VlJsWE9OVjI0ODIwK1E0c2dCNDBMdz09\nMeeting ID: 826 7966 0440\nPassword: 028188\nOne tap mobile\n+19292056099\,\, 82679660440#\,\,1#\,028188# US (New York) \nIf you have any questions contact us at (716) 332-4170 or info@parentnetworkwny.org or join the group on Facebook for future dates\, helpful hints and links:  CHQ Support Group for Parents/Caregivers of Children with Special Needs
URL:https://autismwny.org/event/chautauqua-county-family-caregiver-support-group-via-zoom-3/
CATEGORIES:Support Groups
END:VEVENT
BEGIN:VEVENT
DTSTART;TZID=America/New_York:20210621T190000
DTEND;TZID=America/New_York:20210621T203000
DTSTAMP:20260423T092051
CREATED:20210304T224348Z
LAST-MODIFIED:20210304T224348Z
UID:5101-1624302000-1624307400@autismwny.org
SUMMARY:Northtowns Family/Caregiver Support Group via Zoom
DESCRIPTION:Are you a parent of a child with disabilities or suspect they have a disability? \nDo you want to\n~ feel less overwhelmed?\n~ feel a sensed of belonging? \nGet the support you need from Parent Network of WNY\, Empower and other group members! \nNO JUDGEMENTS – NO FEES – ALL ARE WELCOME\nemail: info@parentnetworkwny.org | call: 716.332.4170\nwww.parentnetworkwny.org/events \nJoin Zoom Meeting:  https://zoom.us/j/99541728957?pwd=a1Q4djhNRnhKaktJblhZbC84RC8rQT09\nMeeting ID: 995 4172 8957\nPasscode: 075356
URL:https://autismwny.org/event/northtowns-family-caregiver-support-group-via-zoom-7/
CATEGORIES:Support Groups
ORGANIZER;CN="Empower":MAILTO:info@empower-wny.org
END:VEVENT
BEGIN:VEVENT
DTSTART;TZID=America/New_York:20210624T190000
DTEND;TZID=America/New_York:20210624T200000
DTSTAMP:20260423T092051
CREATED:20210602T142146Z
LAST-MODIFIED:20210602T142146Z
UID:5340-1624561200-1624564800@autismwny.org
SUMMARY:Video Chat Support Groups for Caregivers of Children\, Teen and Young Adults ages 18-26
DESCRIPTION:Family support groups are offered through Mental Health Advocates of WNY MHA’s Child and Family Support Program and are open to parents\, foster parents\, grandparents or any caregiver/guardian to provide support and alleviate isolation. \nVideo Chat Support Groups for Caregivers of Children\, Teen and Young Adults ages 18-26 \nSecond & fourth Thursdays of the month\n7:00pm-8:00pm\n \nTo sign-up:\nRSVP to laney@mhawny.org\, or 716-886-1242 x 313\nYou will receive a confirmation email with log-in information.
URL:https://autismwny.org/event/video-chat-support-groups-for-caregivers-of-children-teen-and-young-adults-ages-18-26-2/
CATEGORIES:Support Groups
END:VEVENT
END:VCALENDAR