BEGIN:VCALENDAR
VERSION:2.0
PRODID:-//Autism Society Western New York - ECPv6.0.10//NONSGML v1.0//EN
CALSCALE:GREGORIAN
METHOD:PUBLISH
X-WR-CALNAME:Autism Society Western New York
X-ORIGINAL-URL:https://autismwny.org
X-WR-CALDESC:Events for Autism Society Western New York
REFRESH-INTERVAL;VALUE=DURATION:PT1H
X-Robots-Tag:noindex
X-PUBLISHED-TTL:PT1H
BEGIN:VTIMEZONE
TZID:America/New_York
BEGIN:DAYLIGHT
TZOFFSETFROM:-0500
TZOFFSETTO:-0400
TZNAME:EDT
DTSTART:20210314T070000
END:DAYLIGHT
BEGIN:STANDARD
TZOFFSETFROM:-0400
TZOFFSETTO:-0500
TZNAME:EST
DTSTART:20211107T060000
END:STANDARD
END:VTIMEZONE
BEGIN:VEVENT
DTSTART;TZID=America/New_York:20210401T183000
DTEND;TZID=America/New_York:20210401T193000
DTSTAMP:20260423T121002
CREATED:20201215T045518Z
LAST-MODIFIED:20201215T045518Z
UID:4716-1617301800-1617305400@autismwny.org
SUMMARY:CHQ Family/Caregiver Support Group of Children with Special Needs
DESCRIPTION:Want to feel less overwhelmed?  Want to feel a sense of belonging?  This is the Place for You! \nNo Judgements!  No Fee! \nEvery 1st & 3rd Thursday of the Month\n6:30-7:30PM\nJoin Zoom Meeting.\nMeeting ID: 826 7966 0440\nPassword: 028188\nOne tap mobile\n+19292056099\,\, 82679660440#\,\,1#\,028188# US (New York) \nIf you have any questions contact us at (716) 332-4170 or info@parentnetworkwny.org or join the group on Facebook for future dates\, helpful hints and links:\nCHQ Support Group for Parents/Caregivers of Children with Special Needs
URL:https://autismwny.org/event/chq-family-caregiver-support-group-of-children-with-special-needs-7/
CATEGORIES:Support Groups
END:VEVENT
BEGIN:VEVENT
DTSTART;TZID=America/New_York:20210406T173000
DTEND;TZID=America/New_York:20210406T193000
DTSTAMP:20260423T121002
CREATED:20210321T140157Z
LAST-MODIFIED:20210321T140157Z
UID:5133-1617730200-1617737400@autismwny.org
SUMMARY:Family/Caregiver Support Group - 2021 Zoom meeting
DESCRIPTION:Are you a parent of a child with disabilities or suspect they have a disability? \nDo you want to\n~ feel less overwhelmed?\n~ feel a sense of belonging?\nGet the support you need from Parent Network of WNY & other group members! \nFirst Tuesday of the Month\n5:30 pm to 7 pm \nJoin Zoom Meeting\nhttps://zoom.us/j/96127043675?pwd=QzA5Z0tRVWczQUVlTnNhVXY2OVBnUT09\nMeeting ID: 961 2704 3675\, Passcode: 632607
URL:https://autismwny.org/event/family-caregiver-support-group-2021-zoom-meeting/
CATEGORIES:Support Groups
END:VEVENT
BEGIN:VEVENT
DTSTART;TZID=America/New_York:20210414T183000
DTEND;TZID=America/New_York:20210414T193000
DTSTAMP:20260423T121002
CREATED:20210321T140748Z
LAST-MODIFIED:20210321T140748Z
UID:5135-1618425000-1618428600@autismwny.org
SUMMARY:Buffalo Group for Parents/Caregivers of  Children with Autism Spectrum Disorders via Zoom
DESCRIPTION:Practicing social distancing but still need to talk?\nDo you want to\n~ feel less overwhelmed?\n~ feel a sense of belonging? \nGet the support you need from Kathy Doody\, Jana Mertz & other group members! \nJoin Zoom Meeting\nhttps://zoom.us/j/97311273663?pwd=ZDlSaWZZTnROU-UNaUTR6c3ErZ0RuQT09\nMeeting ID: 973 1127 3663\nPasscode: Ausome \nUpcoming meetings on Wednesdays from 6:30 p.m. – 7:30 p.m.\nMay 18\nJune 16\nJuly 14\nAugust 18\nSeptember 15\nOctober 13\nNovember 17\nDecember 15
URL:https://autismwny.org/event/buffalo-group-for-parents-caregivers-of-children-with-autism-spectrum-disorders-via-zoom/
CATEGORIES:Support Groups
END:VEVENT
BEGIN:VEVENT
DTSTART;TZID=America/New_York:20210415T183000
DTEND;TZID=America/New_York:20210415T193000
DTSTAMP:20260423T121002
CREATED:20201215T050038Z
LAST-MODIFIED:20201215T050038Z
UID:4718-1618511400-1618515000@autismwny.org
SUMMARY:CHQ Family/Caregiver Support Group of Children with Special Needs
DESCRIPTION:Want to feel less overwhelmed?  Want to feel a sense of belonging?  This is the Place for You! \nNo Judgements!  No Fee! \nEvery 1st & 3rd Thursday of the Month\n6:30-7:30PM\nJoin Zoom Meeting.\nMeeting ID: 826 7966 0440\nPassword: 028188\nOne tap mobile\n+19292056099\,\, 82679660440#\,\,1#\,028188# US (New York) \nIf you have any questions contact us at (716) 332-4170 or info@parentnetworkwny.org or join the group on Facebook for future dates\, helpful hints and links:\nCHQ Support Group for Parents/Caregivers of Children with Special Needs
URL:https://autismwny.org/event/chq-family-caregiver-support-group-of-children-with-special-needs-8/
CATEGORIES:Support Groups
END:VEVENT
BEGIN:VEVENT
DTSTART;TZID=America/New_York:20210419T190000
DTEND;TZID=America/New_York:20210419T203000
DTSTAMP:20260423T121002
CREATED:20210304T223111Z
LAST-MODIFIED:20210304T223111Z
UID:5091-1618858800-1618864200@autismwny.org
SUMMARY:Northtowns Family/Caregiver Support Group via Zoom
DESCRIPTION:Are you a parent of a child with disabilities or suspect they have a disability? \nDo you want to\n~ feel less overwhelmed?\n~ feel a sensed of belonging? \nGet the support you need from Parent Network of WNY\, Empower and other group members! \nNO JUDGEMENTS – NO FEES – ALL ARE WELCOME\nemail: info@parentnetworkwny.org | call: 716.332.4170\nwww.parentnetworkwny.org/events \nJoin Zoom Meeting:  https://zoom.us/j/99541728957?pwd=a1Q4djhNRnhKaktJblhZbC84RC8rQT09\nMeeting ID: 995 4172 8957\nPasscode: 075356 \nUpcoming Meeting Dates:  May 3\, May 17\, June 7\, and June 21 \nTime:  7:00 pm – 8:30 pm
URL:https://autismwny.org/event/northtowns-family-caregiver-support-group-via-zoom-4/
CATEGORIES:Support Groups
END:VEVENT
END:VCALENDAR