BEGIN:VCALENDAR
VERSION:2.0
PRODID:-//Autism Society Western New York - ECPv6.0.10//NONSGML v1.0//EN
CALSCALE:GREGORIAN
METHOD:PUBLISH
X-ORIGINAL-URL:https://autismwny.org
X-WR-CALDESC:Events for Autism Society Western New York
REFRESH-INTERVAL;VALUE=DURATION:PT1H
X-Robots-Tag:noindex
X-PUBLISHED-TTL:PT1H
BEGIN:VTIMEZONE
TZID:America/New_York
BEGIN:DAYLIGHT
TZOFFSETFROM:-0500
TZOFFSETTO:-0400
TZNAME:EDT
DTSTART:20210314T070000
END:DAYLIGHT
BEGIN:STANDARD
TZOFFSETFROM:-0400
TZOFFSETTO:-0500
TZNAME:EST
DTSTART:20211107T060000
END:STANDARD
END:VTIMEZONE
BEGIN:VEVENT
DTSTART;TZID=America/New_York:20210201T190000
DTEND;TZID=America/New_York:20210201T203000
DTSTAMP:20260423T151133
CREATED:20210118T194845Z
LAST-MODIFIED:20210118T195622Z
UID:4893-1612206000-1612211400@autismwny.org
SUMMARY:Northtowns Family/Caregiver Support Group via Zoom
DESCRIPTION:Are you a parent of a child with disabilities or suspect they have a disability?  Do you want to\n~feel less overwhelmed?\n~feel a sense of belonging?\nGet the support you need from Parent Network of WNY\, Empower and other group members!\nJoin Zoom Meeting:  https://zoom.us/j/99541728957?pwd=a1Q4djhNRnhKaktJblhZbC84RC8rQT09\nMeeting ID: 995 4172 8957 Passcode: 075356 \nNO JUDGEMENTS – NO FEES – ALL ARE WELCOME\nemail: info@parentnetworkwny.org | call: 716-332-4170\nonline: www.parentnetworkwny.org/events
URL:https://autismwny.org/event/northtowns-family-caregiver-support-group-via-zoom/
CATEGORIES:Support Groups
ORGANIZER;CN="Empower":MAILTO:info@empower-wny.org
END:VEVENT
BEGIN:VEVENT
DTSTART;TZID=America/New_York:20210204T183000
DTEND;TZID=America/New_York:20210204T193000
DTSTAMP:20260423T151133
CREATED:20201215T044255Z
LAST-MODIFIED:20201215T044255Z
UID:4708-1612463400-1612467000@autismwny.org
SUMMARY:CHQ Family/Caregiver Support Group of Children with Special Needs
DESCRIPTION:Want to feel less overwhelmed?  Want to feel a sense of belonging?  This is the Place for You! \nNo Judgements!  No Fee! \nEvery 1st & 3rd Thursday of the Month\n6:30-7:30PM\nJoin Zoom Meeting.\nMeeting ID: 826 7966 0440\nPassword: 028188\nOne tap mobile\n+19292056099\,\, 82679660440#\,\,1#\,028188# US (New York) \nIf you have any questions contact us at (716) 332-4170 or info@parentnetworkwny.org or join the group on Facebook for future dates\, helpful hints and links:\nCHQ Support Group for Parents/Caregivers of Children with Special Needs
URL:https://autismwny.org/event/chq-family-caregiver-support-group-of-children-with-special-needs-3/
CATEGORIES:Support Groups
END:VEVENT
BEGIN:VEVENT
DTSTART;TZID=America/New_York:20210210T190000
DTEND;TZID=America/New_York:20210210T200000
DTSTAMP:20260423T151133
CREATED:20201215T054936Z
LAST-MODIFIED:20201215T054936Z
UID:4736-1612983600-1612987200@autismwny.org
SUMMARY:Charla con Nosotros!
DESCRIPTION:Charla con Nosotros!\n¡Únase a nosotros para obtener respuestas a sus preguntas e inquietudes! \nResponderemos sus preguntas sobre…\n• Transiciones\n• Educación Especial y Discapacidades\n• Manejo de tiempo en el Hogar\n• Trabajo Escolar\n• Comportamiento\n• Tecnología\n• Recursos en Buffalo\n• ¡Y cualquier otro tema que quieras discutir! \nCada Miércoles 7:00 PM\nSesiones Semanales de Charla Con Lizarelis Ali! \nACERCA DE LA ANFITRIONA \nLizarelis Ali es especialista en apoyo familiar en Parent Network of WNY. Ella ha estado trabajando con las familias en la ciudad de Buffalo por más de 20 años.  Su esperiencia es en apoyar y guiar a las familias en las comunidades que tienen hijos con autismo\, ADHD y problemas de aprendizaje. \nUnirse a la Zoom reunión:  https://zoom.us/j/95683049386?pwd=OGNhVzF4Z2IzSHc0SFV3R1loRXRDdz09\nReunión ID: 956 8304 9386\nContraseña: 811333\nMarque por su ubicación\n+1 646 558 8656 US\n(New York)
URL:https://autismwny.org/event/charla-con-nosotros-13/
CATEGORIES:Support Groups
END:VEVENT
BEGIN:VEVENT
DTSTART;TZID=America/New_York:20210211T190000
DTEND;TZID=America/New_York:20210211T200000
DTSTAMP:20260423T151133
CREATED:20201215T061319Z
LAST-MODIFIED:20201215T061319Z
UID:4746-1613070000-1613073600@autismwny.org
SUMMARY:BUFFALO PARENT & CAREGIVER CHAT SESSIONS
DESCRIPTION:BUFFALO PARENT & CAREGIVER CHAT SESSIONS\nJoin us at our weekly chat sessions to discuss your questions & concerns. \nBuffalo Families!  We are here to answer your questions and concerns on a wide range of topics including … \n• Transitions\n• Meltdowns\n• Time Management\n• Technology Needs\n• Guidance to Resources in Buffalo\n• And Any Other Topics\, General Questions or Concerns! \nThursdays\, 7:00 PM\nWeekly Live Chats with Kim Hernandez & Lizarelis Ali! \nABOUT THE HOSTS \nKim Hernandez is a Family Support Specialist at Parent Network of WNY.  She has been working with the families in the city of Buffalo for over 17 years.  Her expertise is supporting families from disadvantaged communities who have children with a variety of disabilities. \nLizarelis Ali is a Family Support Specialist at Parent Network of WNY.  She has been working with the families in the city of Buffalo for over 20 years. Her expertise is\nsupporting families from disadvantaged communities who have children with autism\, ADHD and learning disabilities. \nJoin Zoom Meeting:  https://zoom.us/j/91379417144?pwd=a1BTU3FLMUUyNUFzWHV3WW5KUElZQT09\nMeeting ID: 913 7941 7144\nPasscode: 894050\n+1 646 558 8656 US\n(New York) \ninfo@parentnetworkwny.org or 716.332.4170 or www.parentnetwork.org
URL:https://autismwny.org/event/buffalo-parent-caregiver-chat-sessions-18/
CATEGORIES:Support Groups
END:VEVENT
BEGIN:VEVENT
DTSTART;TZID=America/New_York:20210216T173000
DTEND;TZID=America/New_York:20210216T190000
DTSTAMP:20260423T151133
CREATED:20201215T063802Z
LAST-MODIFIED:20201215T063802Z
UID:4758-1613496600-1613502000@autismwny.org
SUMMARY:FAMILY & CAREGIVER GROUP for Parents of Children with Developmental Disabilities
DESCRIPTION:PURPOSE:  Provide a welcoming environment for parents\, family members and other caregivers of individuals with developmental disabilities to meet\, share experiences\, ask questions and receive support. \nDATE\nTuesday\, February 16\, 2021\nTuesday\, March 16\, 2021\nTIME:  5:30 –7:00 PM \n“NEW ZOOM LINK”\nWe are moving to ZOOM every month on the Third Tuesday.\nJoin Zoom Meeting:  https://zoom.us/j/95461308157?pwd=bXNHRG9vS1ZRUG1BL3QzM05XdWJKdz09\nMeeting ID: 954 6130 8157\nPasscode: 905542\nDial by your location\n+1 646 558 8656 US (New York) \nIf you have any questions contact us at (716) 332-4170 or info@parentnetworkwny.org.
URL:https://autismwny.org/event/family-caregiver-group-for-parents-of-children-with-developmental-disabilities-24/
CATEGORIES:Support Groups
END:VEVENT
BEGIN:VEVENT
DTSTART;TZID=America/New_York:20210217T183000
DTEND;TZID=America/New_York:20210217T193000
DTSTAMP:20260423T151133
CREATED:20201215T052814Z
LAST-MODIFIED:20201215T052814Z
UID:4728-1613586600-1613590200@autismwny.org
SUMMARY:FAMILY & CAREGIVER - ERIE PARENTS OF CHILDREN WITH AUTISM GROUP
DESCRIPTION:PURPOSE:  Provide a welcoming environment for parents and other caregivers of children with autism spectrum disorders to meet\, share experiences\, ask questions and receive support.  Practicing social distancing but still need to talk?\nKathy Doody and Jana Mertz are inviting you to a scheduled Zoom meeting. February 17\, 2021 & March 17\, 2021 from 6:30 – 7:30 pm\nJoin Zoom Meeting:  https://zoom.us/j/97311273663?pwd=ZDlSaWZZTnROUUNaUTR6c3ErZ0RuQT09\nMeeting ID: 973 1127 3663\nPasscode: Ausome \nFREE TO ATTEND – ALL ARE WELCOME\nwww.parentnetworkwny.org or (716) 332-4170 or info@parentnetworkwny.org
URL:https://autismwny.org/event/family-caregiver-erie-parents-of-children-with-autism-group-6/
CATEGORIES:Support Groups
END:VEVENT
BEGIN:VEVENT
DTSTART;TZID=America/New_York:20210218T183000
DTEND;TZID=America/New_York:20210218T193000
DTSTAMP:20260423T151133
CREATED:20201215T044526Z
LAST-MODIFIED:20201215T044526Z
UID:4710-1613673000-1613676600@autismwny.org
SUMMARY:CHQ Family/Caregiver Support Group of Children with Special Needs
DESCRIPTION:Want to feel less overwhelmed?  Want to feel a sense of belonging?  This is the Place for You! \nNo Judgements!  No Fee! \nEvery 1st & 3rd Thursday of the Month\n6:30-7:30PM\nJoin Zoom Meeting.\nMeeting ID: 826 7966 0440\nPassword: 028188\nOne tap mobile\n+19292056099\,\, 82679660440#\,\,1#\,028188# US (New York) \nIf you have any questions contact us at (716) 332-4170 or info@parentnetworkwny.org or join the group on Facebook for future dates\, helpful hints and links:\nCHQ Support Group for Parents/Caregivers of Children with Special Needs
URL:https://autismwny.org/event/chq-family-caregiver-support-group-of-children-with-special-needs-4/
CATEGORIES:Support Groups
END:VEVENT
BEGIN:VEVENT
DTSTART;TZID=America/New_York:20210224T190000
DTEND;TZID=America/New_York:20210224T200000
DTSTAMP:20260423T151133
CREATED:20201215T055850Z
LAST-MODIFIED:20201215T055850Z
UID:4742-1614193200-1614196800@autismwny.org
SUMMARY:Charla con Nosotros!
DESCRIPTION:Charla con Nosotros!\n¡Únase a nosotros para obtener respuestas a sus preguntas e inquietudes! \nResponderemos sus preguntas sobre…\n• Transiciones\n• Educación Especial y Discapacidades\n• Manejo de tiempo en el Hogar\n• Trabajo Escolar\n• Comportamiento\n• Tecnología\n• Recursos en Buffalo\n• ¡Y cualquier otro tema que quieras discutir! \nCada Miércoles 7:00 PM\nSesiones Semanales de Charla Con Lizarelis Ali! \nACERCA DE LA ANFITRIONA \nLizarelis Ali es especialista en apoyo familiar en Parent Network of WNY. Ella ha estado trabajando con las familias en la ciudad de Buffalo por más de 20 años.  Su esperiencia es en apoyar y guiar a las familias en las comunidades que tienen hijos con autismo\, ADHD y problemas de aprendizaje. \nUnirse a la Zoom reunión:  https://zoom.us/j/95683049386?pwd=OGNhVzF4Z2IzSHc0SFV3R1loRXRDdz09\nReunión ID: 956 8304 9386\nContraseña: 811333\nMarque por su ubicación\n+1 646 558 8656 US\n(New York)
URL:https://autismwny.org/event/charla-con-nosotros-16/
CATEGORIES:Support Groups
END:VEVENT
BEGIN:VEVENT
DTSTART;TZID=America/New_York:20210225T190000
DTEND;TZID=America/New_York:20210225T200000
DTSTAMP:20260423T151133
CREATED:20201215T061940Z
LAST-MODIFIED:20201215T061940Z
UID:4748-1614279600-1614283200@autismwny.org
SUMMARY:BUFFALO PARENT & CAREGIVER CHAT SESSIONS
DESCRIPTION:BUFFALO PARENT & CAREGIVER CHAT SESSIONS\nJoin us at our weekly chat sessions to discuss your questions & concerns. \nBuffalo Families!  We are here to answer your questions and concerns on a wide range of topics including … \n• Transitions\n• Meltdowns\n• Time Management\n• Technology Needs\n• Guidance to Resources in Buffalo\n• And Any Other Topics\, General Questions or Concerns! \nThursdays\, 7:00 PM\nWeekly Live Chats with Kim Hernandez & Lizarelis Ali! \nABOUT THE HOSTS \nKim Hernandez is a Family Support Specialist at Parent Network of WNY.  She has been working with the families in the city of Buffalo for over 17 years.  Her expertise is supporting families from disadvantaged communities who have children with a variety of disabilities. \nLizarelis Ali is a Family Support Specialist at Parent Network of WNY.  She has been working with the families in the city of Buffalo for over 20 years. Her expertise is\nsupporting families from disadvantaged communities who have children with autism\, ADHD and learning disabilities. \nJoin Zoom Meeting:  https://zoom.us/j/91379417144?pwd=a1BTU3FLMUUyNUFzWHV3WW5KUElZQT09\nMeeting ID: 913 7941 7144\nPasscode: 894050\n+1 646 558 8656 US\n(New York) \ninfo@parentnetworkwny.org or 716.332.4170 or www.parentnetwork.org
URL:https://autismwny.org/event/buffalo-parent-caregiver-chat-sessions-19/
CATEGORIES:Support Groups
END:VEVENT
END:VCALENDAR