BEGIN:VCALENDAR
VERSION:2.0
PRODID:-//Autism Society Western New York - ECPv6.0.10//NONSGML v1.0//EN
CALSCALE:GREGORIAN
METHOD:PUBLISH
X-WR-CALNAME:Autism Society Western New York
X-ORIGINAL-URL:https://autismwny.org
X-WR-CALDESC:Events for Autism Society Western New York
REFRESH-INTERVAL;VALUE=DURATION:PT1H
X-Robots-Tag:noindex
X-PUBLISHED-TTL:PT1H
BEGIN:VTIMEZONE
TZID:America/New_York
BEGIN:DAYLIGHT
TZOFFSETFROM:-0500
TZOFFSETTO:-0400
TZNAME:EDT
DTSTART:20200308T070000
END:DAYLIGHT
BEGIN:STANDARD
TZOFFSETFROM:-0400
TZOFFSETTO:-0500
TZNAME:EST
DTSTART:20201101T060000
END:STANDARD
END:VTIMEZONE
BEGIN:VEVENT
DTSTART;TZID=America/New_York:20201102T190000
DTEND;TZID=America/New_York:20201102T203000
DTSTAMP:20260423T191055
CREATED:20201028T214323Z
LAST-MODIFIED:20201028T214323Z
UID:4625-1604343600-1604349000@autismwny.org
SUMMARY:Family & Caregiver - Niagara Autism Group
DESCRIPTION:Purpose:  Provide a welcoming environment for parents and other caregivers of children with autism spectrum disorders to meet\, share experiences\, ask questions and receive support.\nPracticing Social Distancing but still need to talk?\nWe will be meeting via Zoom meeting.\nJoin Zoom Meeting:  https://zoom.us/j/99541728957?pwd= a1Q4djhNRnhKaktJblhZbC84RC8rQT09\nMeeting ID: 995 4172 8957\nPasscode: 075356\nDial by your location:\n+1 646 558 8656 US (New York)
URL:https://autismwny.org/event/family-caregiver-niagara-autism-group-17/
CATEGORIES:Support Groups
ORGANIZER;CN="Empower":MAILTO:info@empower-wny.org
END:VEVENT
BEGIN:VEVENT
DTSTART;TZID=America/New_York:20201105T183000
DTEND;TZID=America/New_York:20201105T193000
DTSTAMP:20260423T191055
CREATED:20201028T205518Z
LAST-MODIFIED:20201028T205518Z
UID:4618-1604601000-1604604600@autismwny.org
SUMMARY:Chautauqua Family Caregiver Support Group of Children with Special Needs
DESCRIPTION:Want to feel less overwhelmed? \nWant to feel a sense on belonging? \nTHIS IS THE PLACE FOR YOU. \nDiscussion Group \nJoin Zoom Meeting: https://www.zoom.us/j/82679660440#success\nMeeting ID: 826 7966 0440\nPassword: 028188\nOne tap mobile\n+19292056099\,\, 82679660440#\,\,1#\,028188# US (New York)
URL:https://autismwny.org/event/chautauqua-family-caregiver-support-group-of-children-with-special-needs/
CATEGORIES:Support Groups
END:VEVENT
BEGIN:VEVENT
DTSTART;TZID=America/New_York:20201105T190000
DTEND;TZID=America/New_York:20201105T200000
DTSTAMP:20260423T191055
CREATED:20201016T225516Z
LAST-MODIFIED:20201016T225516Z
UID:4572-1604602800-1604606400@autismwny.org
SUMMARY:BUFFALO PARENT & CAREGIVER CHAT SESSIONS
DESCRIPTION:Join us at our weekly chat sessions to discuss your questions & concerns.  Buffalo Families! We are here to answer your questions and concerns on a wide range of topics including\n• Transitions \n• Meltdowns \n• Time Management \n• Technology Needs \n• Guidance to Resources in Buffalo \n• And Any Other Topics\, General Questions or Concerns! \nABOUT THE HOSTS \nKim Hernandez is a Family Support Specialist at Parent Network of WNY.  She has been working with the families in the city of Buffalo for over 17 years.  Her expertise is supporting families from disadvantaged communities who have children with a variety of disabilities. \nLizarelis Ali is a Family Support Specialist at Parent Network of WNY.  She has been working with the families in the city of Buffalo for over 20 years.  Her expertise is supporting families from disadvantaged communities who have children with autism\, ADHD and learning disabilities. \nJoin Zoom meeting:  https://zoom.us/j/91379417144?pwd=a1BTU3FLMUUyNUFzWHV3WW5KUElZQT09\nMeeting ID: 913 7941 7144\nPasscode: 894050\n+1 646 558 8656 US (New York)
URL:https://autismwny.org/event/buffalo-parent-caregiver-chat-sessions-12/
CATEGORIES:Support Groups
END:VEVENT
BEGIN:VEVENT
DTSTART;TZID=America/New_York:20201107T100000
DTEND;TZID=America/New_York:20201107T120000
DTSTAMP:20260423T191055
CREATED:20200127T155016Z
LAST-MODIFIED:20200127T155016Z
UID:3318-1604743200-1604750400@autismwny.org
SUMMARY:Family & Caregiver Group for Parents of Children with Developmental Disabilities
DESCRIPTION:Provides a welcoming environment for parents\, family members and other caregivers of individuals with developmental disabilities to meet\, share experiences\, ask questions and receive support. \n\n\n\n\n\nRSVP TO ATTEND \nwww.parentnetworkwny.org or (716) 332-4170 or info@parentnetworkwny.org \n\n\nIf you are interested in attending but have transportation or other barriers that would limit your participation\, please let us know. \n\n\n\n\n\n\nChild Care is available. In order to provide for your child’s individual needs reservations for childcare are required by the Monday prior to the meeting. Registration forms are required for all new children and are available at www.parentnetworkwny.org or call (716) 332-4175.
URL:https://autismwny.org/event/family-caregiver-group-for-parents-of-children-with-developmental-disabilities-9/
LOCATION:Prevention Works Office\, 501 W. 3rd Street (Suites 3&4)\, Jamestown\, NY\, 14701\, United States
CATEGORIES:Support Groups
GEO:42.0951;-79.2474497
X-APPLE-STRUCTURED-LOCATION;VALUE=URI;X-ADDRESS=Prevention Works Office 501 W. 3rd Street (Suites 3&4) Jamestown NY 14701 United States;X-APPLE-RADIUS=500;X-TITLE=501 W. 3rd Street (Suites 3&4):geo:-79.2474497,42.0951
END:VEVENT
BEGIN:VEVENT
DTSTART;TZID=America/New_York:20201112T190000
DTEND;TZID=America/New_York:20201112T200000
DTSTAMP:20260423T191055
CREATED:20201016T225708Z
LAST-MODIFIED:20201016T225708Z
UID:4574-1605207600-1605211200@autismwny.org
SUMMARY:BUFFALO PARENT & CAREGIVER CHAT SESSIONS
DESCRIPTION:Join us at our weekly chat sessions to discuss your questions & concerns.  Buffalo Families! We are here to answer your questions and concerns on a wide range of topics including\n• Transitions \n• Meltdowns \n• Time Management \n• Technology Needs \n• Guidance to Resources in Buffalo \n• And Any Other Topics\, General Questions or Concerns! \nABOUT THE HOSTS \nKim Hernandez is a Family Support Specialist at Parent Network of WNY.  She has been working with the families in the city of Buffalo for over 17 years.  Her expertise is supporting families from disadvantaged communities who have children with a variety of disabilities. \nLizarelis Ali is a Family Support Specialist at Parent Network of WNY.  She has been working with the families in the city of Buffalo for over 20 years.  Her expertise is supporting families from disadvantaged communities who have children with autism\, ADHD and learning disabilities. \nJoin Zoom meeting:  https://zoom.us/j/91379417144?pwd=a1BTU3FLMUUyNUFzWHV3WW5KUElZQT09\nMeeting ID: 913 7941 7144\nPasscode: 894050\n+1 646 558 8656 US (New York)
URL:https://autismwny.org/event/buffalo-parent-caregiver-chat-sessions-13/
CATEGORIES:Support Groups
END:VEVENT
BEGIN:VEVENT
DTSTART;TZID=America/New_York:20201116T190000
DTEND;TZID=America/New_York:20201116T203000
DTSTAMP:20260423T191055
CREATED:20201028T215529Z
LAST-MODIFIED:20201028T215529Z
UID:4627-1605553200-1605558600@autismwny.org
SUMMARY:Family & Caregiver Group - Niagara Autism Group
DESCRIPTION:Purpose:  Provide a welcoming environment for parents and other caregivers of children with autism spectrum disorders to meet\, share experiences\, ask questions and receive support.\nPracticing Social Distancing but still need to talk?\nWe will be meeting via Zoom meeting.\nJoin Zoom Meeting:  https://zoom.us/j/99541728957?pwd= a1Q4djhNRnhKaktJblhZbC84RC8rQT09\nMeeting ID: 995 4172 8957\nPasscode: 075356\nDial by your location:\n+1 646 558 8656 US (New York)
URL:https://autismwny.org/event/family-caregiver-group-niagara-autism-group/
CATEGORIES:Support Groups
END:VEVENT
BEGIN:VEVENT
DTSTART;TZID=America/New_York:20201117T173000
DTEND;TZID=America/New_York:20201117T190000
DTSTAMP:20260423T191055
CREATED:20201029T142911Z
LAST-MODIFIED:20201029T142911Z
UID:4638-1605634200-1605639600@autismwny.org
SUMMARY:FAMILY & CAREGIVER GROUP for Parents of Children with Developmental Disabilities
DESCRIPTION:PURPOSE:  Provide a welcoming environment for parents\, family members and other caregivers of individuals with developmental disabilities to meet\, share experiences\, ask questions and receive support. \nWILL BE USING GO-TO MEETING:\nPlease join my meeting from your computer\, tablet or smartphone.:  https://global.gotomeeting.com/join/805112789\nYou can also dial in using your phone.\nUnited States: +1 (312) 757-3121\nAccess Code: 805-112-789\nNew to GoToMeeting? Get the app now and be ready when your first meeting starts:  https://global.gotomeeting.com/install/805112789 \nIf you have any questions contact us at :  (716) 332-4170 or info@parentnetworkwny.org.
URL:https://autismwny.org/event/family-caregiver-group-for-parents-of-children-with-developmental-disabilities-7/
CATEGORIES:Support Groups
END:VEVENT
BEGIN:VEVENT
DTSTART;TZID=America/New_York:20201118T183000
DTEND;TZID=America/New_York:20201118T200000
DTSTAMP:20260423T191055
CREATED:20200922T212646Z
LAST-MODIFIED:20200922T212706Z
UID:4487-1605724200-1605729600@autismwny.org
SUMMARY:FAMILY & CAREGIVER ERIE PARENTS OF CHILDREN WITH AUTISM GROUP
DESCRIPTION:PURPOSE:  Provide a welcoming environment for parents and other caregivers of children with autism spectrum disorders to meet\, share experiences\, ask questions and receive support.\nPracticing social distancing but still need to talk?  Kathy Doody and Jana Mertz are inviting you to a scheduled Zoom meeting. \nJoin Zoom Meeting https://www.zoom.us/j/97311273663#success  Au-Some Parents October and November 2020\nMeeting ID: 973 1127 3663\nPassword: OctNov \nFree to attend.  All are welcome.
URL:https://autismwny.org/event/family-caregiver-erie-parents-of-children-with-autism-group-3/
CATEGORIES:Support Groups
END:VEVENT
BEGIN:VEVENT
DTSTART;TZID=America/New_York:20201118T190000
DTEND;TZID=America/New_York:20201118T200000
DTSTAMP:20260423T191055
CREATED:20201017T000422Z
LAST-MODIFIED:20201017T000422Z
UID:4600-1605726000-1605729600@autismwny.org
SUMMARY:Charla con Nosotros!
DESCRIPTION:¡Únase a nosotros para obtener respuestas a sus preguntas e inquietudes! \nResponderemos sus preguntas sobre… \nCharla con Nosotros! ¡Únase a nosotros para obtener respuestas a sus preguntas e inquietudes!\n• Transiciones \n• Educación Especial y Discapacidades \n• Manejo de tiempo en el Hogar \n• Trabajo Escolar \n• Comportamiento \n• Tecnología \n• Recursos en Buffalo \n• ¡Y cualquier otro tema que quieras discutir! \nSesiones Semanales de Charla Con Lizarelis Ali! \nACERCA DE LA ANFITRIONA: Lizarelis Ali es especialista en apoyo familiar en Parent Network of WNY.  Ella ha estado trabajando con las familias en la ciudad de Buffalo por más de 20 años.  Su esperiencia es en apoyar y guiar a las familias en las comunidades que tienen hijos con autismo\, ADHD y problemas de aprendizaje. \nUnirse a la Zoom reunión https://zoom.us/j/95683049386?pwd=OGNhVzF4Z2IzSHc0SFV3R1loRXRDdz09\nReunión ID:  956 8304 9386\nContraseña:  811333\nMarque por su ubicación\n+1 646 558 8656 US (New York)
URL:https://autismwny.org/event/charla-con-nosotros-9/
CATEGORIES:Support Groups
END:VEVENT
BEGIN:VEVENT
DTSTART;TZID=America/New_York:20201119T183000
DTEND;TZID=America/New_York:20201119T193000
DTSTAMP:20260423T191055
CREATED:20201028T205824Z
LAST-MODIFIED:20201028T205824Z
UID:4620-1605810600-1605814200@autismwny.org
SUMMARY:Chautauqua Family Caregiver Support Group of Children with Special Needs
DESCRIPTION:Want to feel less overwhelmed? \nWant to feel a sense on belonging? \nTHIS IS THE PLACE FOR YOU. \nUnderstanding OPWDD \nJoin Zoom Meeting: https://www.zoom.us/j/82679660440#success\nMeeting ID: 826 7966 0440\nPassword: 028188\nOne tap mobile\n+19292056099\,\, 82679660440#\,\,1#\,028188# US (New York)
URL:https://autismwny.org/event/chautauqua-family-caregiver-support-group-of-children-with-special-needs-2/
CATEGORIES:Support Groups
END:VEVENT
BEGIN:VEVENT
DTSTART;TZID=America/New_York:20201119T190000
DTEND;TZID=America/New_York:20201119T200000
DTSTAMP:20260423T191055
CREATED:20201016T225901Z
LAST-MODIFIED:20201016T225901Z
UID:4576-1605812400-1605816000@autismwny.org
SUMMARY:BUFFALO PARENT & CAREGIVER CHAT SESSIONS
DESCRIPTION:Join us at our weekly chat sessions to discuss your questions & concerns.  Buffalo Families! We are here to answer your questions and concerns on a wide range of topics including\n• Transitions \n• Meltdowns \n• Time Management \n• Technology Needs \n• Guidance to Resources in Buffalo \n• And Any Other Topics\, General Questions or Concerns! \nABOUT THE HOSTS \nKim Hernandez is a Family Support Specialist at Parent Network of WNY.  She has been working with the families in the city of Buffalo for over 17 years.  Her expertise is supporting families from disadvantaged communities who have children with a variety of disabilities. \nLizarelis Ali is a Family Support Specialist at Parent Network of WNY.  She has been working with the families in the city of Buffalo for over 20 years.  Her expertise is supporting families from disadvantaged communities who have children with autism\, ADHD and learning disabilities. \nJoin Zoom meeting:  https://zoom.us/j/91379417144?pwd=a1BTU3FLMUUyNUFzWHV3WW5KUElZQT09\nMeeting ID: 913 7941 7144\nPasscode: 894050\n+1 646 558 8656 US (New York)
URL:https://autismwny.org/event/buffalo-parent-caregiver-chat-sessions-14/
CATEGORIES:Support Groups
END:VEVENT
BEGIN:VEVENT
DTSTART;TZID=America/New_York:20201123T190000
DTEND;TZID=America/New_York:20201123T200000
DTSTAMP:20260423T191055
CREATED:20201016T230229Z
LAST-MODIFIED:20201016T230229Z
UID:4578-1606158000-1606161600@autismwny.org
SUMMARY:BUFFALO PARENT & CAREGIVER CHAT SESSIONS
DESCRIPTION:Join us at our weekly chat sessions to discuss your questions & concerns.  Buffalo Families! We are here to answer your questions and concerns on a wide range of topics including\n• Transitions \n• Meltdowns \n• Time Management \n• Technology Needs \n• Guidance to Resources in Buffalo \n• And Any Other Topics\, General Questions or Concerns! \nABOUT THE HOSTS \nKim Hernandez is a Family Support Specialist at Parent Network of WNY.  She has been working with the families in the city of Buffalo for over 17 years.  Her expertise is supporting families from disadvantaged communities who have children with a variety of disabilities. \nLizarelis Ali is a Family Support Specialist at Parent Network of WNY.  She has been working with the families in the city of Buffalo for over 20 years.  Her expertise is supporting families from disadvantaged communities who have children with autism\, ADHD and learning disabilities. \nJoin Zoom meeting:  https://zoom.us/j/91379417144?pwd=a1BTU3FLMUUyNUFzWHV3WW5KUElZQT09\nMeeting ID: 913 7941 7144\nPasscode: 894050\n+1 646 558 8656 US (New York)
URL:https://autismwny.org/event/buffalo-parent-caregiver-chat-sessions-15/
CATEGORIES:Support Groups
END:VEVENT
END:VCALENDAR