BEGIN:VCALENDAR
VERSION:2.0
PRODID:-//Autism Society Western New York - ECPv6.0.10//NONSGML v1.0//EN
CALSCALE:GREGORIAN
METHOD:PUBLISH
X-WR-CALNAME:Autism Society Western New York
X-ORIGINAL-URL:https://autismwny.org
X-WR-CALDESC:Events for Autism Society Western New York
REFRESH-INTERVAL;VALUE=DURATION:PT1H
X-Robots-Tag:noindex
X-PUBLISHED-TTL:PT1H
BEGIN:VTIMEZONE
TZID:America/New_York
BEGIN:DAYLIGHT
TZOFFSETFROM:-0500
TZOFFSETTO:-0400
TZNAME:EDT
DTSTART:20200308T070000
END:DAYLIGHT
BEGIN:STANDARD
TZOFFSETFROM:-0400
TZOFFSETTO:-0500
TZNAME:EST
DTSTART:20201101T060000
END:STANDARD
END:VTIMEZONE
BEGIN:VEVENT
DTSTART;TZID=America/New_York:20200903T190000
DTEND;TZID=America/New_York:20200903T200000
DTSTAMP:20260423T221245
CREATED:20200727T171219Z
LAST-MODIFIED:20200820T204609Z
UID:4186-1599159600-1599163200@autismwny.org
SUMMARY:Buffalo Parent & Caregiver Chat Sessions
DESCRIPTION:Join us at our weekly chat sessions to discuss your questions & concerns.  Buffalo Families! We are here to answer your questions and concerns on a wide range of topics including\n• Transitions \n• Meltdowns \n• Time Management \n• Technology Needs \n• Guidance to Resources in Buffalo \n• And Any Other Topics\, General Questions or Concerns! \nABOUT THE HOSTS \nKim Hernandez is a Family Support Specialist at Parent Network of WNY.  She has been working with the families in the city of Buffalo for over 17 years.  Her expertise is supporting families from disadvantaged communities who have children with a variety of disabilities. \nLizarelis Ali is a Family Support Specialist at Parent Network of WNY.  She has been working with the families in the city of Buffalo for over 20 years.  Her expertise is supporting families from disadvantaged communities who have children with autism\, ADHD and learning disabilities. \nJoin from your computer\, tablet or smartphone:  https://global.gotomeeting.com/ join/174359397\nYou can also dial in using your phone. United States: +1 (872) 240-3212 Access Code: 174-359-39\nNew to GoToMeeting? Get the app now and be ready when your first meeting starts:  https://global.gotomeeting.com/ install/174359397
URL:https://autismwny.org/event/buffalo-parent-caregiver-chat-sessions-8/
CATEGORIES:Support Groups
END:VEVENT
BEGIN:VEVENT
DTSTART;TZID=America/New_York:20200910T180000
DTEND;TZID=America/New_York:20200910T193000
DTSTAMP:20260423T221245
CREATED:20200902T221421Z
LAST-MODIFIED:20200902T221421Z
UID:4328-1599760800-1599766200@autismwny.org
SUMMARY:Chautauqua County Family & Caregiver Support Group
DESCRIPTION:PURPOSE:  Provide a welcoming environment for parents\, family members and other caregivers of individuals with developmental disabilities to meet\, share experiences\, ask questions and receive support. \nIn Person Meeting:  Thursday\, September 10\, 2020 from 6:00 pm to 7:30 pm\n“Social Distancing Get Together”\nMeeting at Allen Park this one time\nAllen Park\, 31 Hughes Street\, Jamestown NY \nIf you have any questions contact us at (716) 332-4170 or info@parentnetworkwny.org or join the group on Facebook for future dates\, helpful hints and links CHQ Support Group for Parents/Caregivers of Children with Special Needs.
URL:https://autismwny.org/event/chautauqua-county-family-caregiver-support-group-6/
LOCATION:Allen Park\, 31 Hughes St.\, Jamestown\, NY\, 14701\, United States
CATEGORIES:Support Groups
GEO:42.0821389;-79.2215001
X-APPLE-STRUCTURED-LOCATION;VALUE=URI;X-ADDRESS=Allen Park 31 Hughes St. Jamestown NY 14701 United States;X-APPLE-RADIUS=500;X-TITLE=31 Hughes St.:geo:-79.2215001,42.0821389
END:VEVENT
BEGIN:VEVENT
DTSTART;TZID=America/New_York:20200910T190000
DTEND;TZID=America/New_York:20200910T200000
DTSTAMP:20260423T221245
CREATED:20200727T170937Z
LAST-MODIFIED:20200820T204719Z
UID:4184-1599764400-1599768000@autismwny.org
SUMMARY:Buffalo Parent & Caregiver Chat Sessions
DESCRIPTION:Join us at our weekly chat sessions to discuss your questions & concerns.  Buffalo Families! We are here to answer your questions and concerns on a wide range of topics including\n• Transitions \n• Meltdowns \n• Time Management \n• Technology Needs \n• Guidance to Resources in Buffalo \n• And Any Other Topics\, General Questions or Concerns! \nABOUT THE HOSTS \nKim Hernandez is a Family Support Specialist at Parent Network of WNY.  She has been working with the families in the city of Buffalo for over 17 years.  Her expertise is supporting families from disadvantaged communities who have children with a variety of disabilities. \nLizarelis Ali is a Family Support Specialist at Parent Network of WNY.  She has been working with the families in the city of Buffalo for over 20 years.  Her expertise is supporting families from disadvantaged communities who have children with autism\, ADHD and learning disabilities. \nJoin from your computer\, tablet or smartphone:  https://global.gotomeeting.com/ join/174359397\nYou can also dial in using your phone. United States: +1 (872) 240-3212 Access Code: 174-359-39\nNew to GoToMeeting? Get the app now and be ready when your first meeting starts:  https://global.gotomeeting.com/ install/174359397
URL:https://autismwny.org/event/buffalo-parent-caregiver-chat-sessions-7/
CATEGORIES:Support Groups
END:VEVENT
BEGIN:VEVENT
DTSTART;TZID=America/New_York:20200916T183000
DTEND;TZID=America/New_York:20200916T203000
DTSTAMP:20260423T221245
CREATED:20200123T190811Z
LAST-MODIFIED:20200908T203208Z
UID:3267-1600281000-1600288200@autismwny.org
SUMMARY:Erie Parents of Children with Autism Spectrum Disorders
DESCRIPTION:Provides a welcoming environment for parents and other caregivers of children with autism spectrum disorders to meet\, share experiences\, ask questions and receive support. \n\n\n\n\nPracticing social distancing but still need to talk?\nKathy Doody and Jana Mertz are inviting you to a scheduled Zoom meeting. \nKathy Ralabate Doody\, PhD – Parent of child with autism\, Instructor\, Exceptional Education at Buffalo State \nJana Mertz\, MBA – Program Coordinator\, The Children’s Guild Foundation Autism Center Oishei Children’s Hospital of Buffalo \n\nJoin Zoom Meeting:  https://zoom.us/j/98610619069?pwd=ZVNiTkcxY09weFB4WDNGWWJoNnpJUT09\nMeeting ID: 986 1061 9069\nPasscode: AuSome9 \nwww.parentnetworkwny.org or 716-332-4170 or info@parentnetworkwny.org
URL:https://autismwny.org/event/parent-group-for-parents-of-children-with-autism-spectrum-disorders-8/
LOCATION:NY\, United States
CATEGORIES:Support Groups
END:VEVENT
BEGIN:VEVENT
DTSTART;TZID=America/New_York:20200916T190000
DTEND;TZID=America/New_York:20200916T200000
DTSTAMP:20260423T221245
CREATED:20200427T034854Z
LAST-MODIFIED:20200820T203600Z
UID:3838-1600282800-1600286400@autismwny.org
SUMMARY:Charla con Nosotros!
DESCRIPTION:¡Únase a nosotros para obtener respuestas a sus preguntas e inquietudes! \nResponderemos sus preguntas sobre… \nCharla con Nosotros! ¡Únase a nosotros para obtener respuestas a sus preguntas e inquietudes!\n• Transiciones \n• Educación Especial y Discapacidades \n• Manejo de tiempo en el Hogar \n• Trabajo Escolar \n• Comportamiento \n• Tecnología \n• Recursos en Buffalo \n• ¡Y cualquier otro tema que quieras discutir! \nSesiones Semanales de Charla Con Lizarelis Ali! \nACERCA DE LA ANFITRIONA: Lizarelis Ali es especialista en apoyo familiar en Parent Network of WNY.  Ella ha estado trabajando con las familias en la ciudad de Buffalo por más de 20 años.  Su esperiencia es en apoyar y guiar a las familias en las comunidades que tienen hijos con autismo\, ADHD y problemas de aprendizaje. \nUnirse a la Zoom reunión https://zoom.us/j/95683049386?pwd=OGNhVzF4Z2IzSHc0SFV3R1loRXRDdz09\nReunión ID:  956 8304 9386\nContraseña:  811333\nMarque por su ubicación\n+1 646 558 8656 US (New York)
URL:https://autismwny.org/event/charla-con-nosotros-2/
CATEGORIES:Support Groups
END:VEVENT
BEGIN:VEVENT
DTSTART;TZID=America/New_York:20200918T130000
DTEND;TZID=America/New_York:20200918T143000
DTSTAMP:20260423T221245
CREATED:20200902T222650Z
LAST-MODIFIED:20200902T222650Z
UID:4334-1600434000-1600439400@autismwny.org
SUMMARY:FAMILY & CAREGIVER GROUP for Parents of Children with Developmental Disabilities
DESCRIPTION:PURPOSE:  Provide a welcoming environment for parents\, family members and other caregivers of individuals with developmental disabilities to meet\, share experiences\, ask questions and receive support. \nWILL BE USING GO-TO MEETING:  Please join my meeting from your computer\, tablet or smartphone.  https://global.gotomeeting.com/ join/805112789\nYou can also dial in using your phone.\nUnited States: +1 (312) 757-3121\nAccess Code: 805-112-789\nNew to GoToMeeting?  Get the app now and be ready when your first meeting starts:  https://global.gotomeeting.com/install/805112789 \nIf you have any questions contact us at (716) 332-4170 or info@parentnetworkwny.org.
URL:https://autismwny.org/event/family-caregiver-group-for-parents-of-children-with-developmental-disabilities-5/
CATEGORIES:Support Groups
END:VEVENT
BEGIN:VEVENT
DTSTART;TZID=America/New_York:20200921T190000
DTEND;TZID=America/New_York:20200921T203000
DTSTAMP:20260423T221245
CREATED:20200902T232234Z
LAST-MODIFIED:20200902T232234Z
UID:4342-1600714800-1600720200@autismwny.org
SUMMARY:FAMILY & CAREGIVER NIAGARA AUTISM GROUP
DESCRIPTION:PURPOSE:  Provide a welcoming environment for parents and other caregivers of children with autism spectrum disorders to meet\, share experiences\, ask questions and receive support. \nPracticing Social Distancing but still need to talk?\nWe will be meeting via Zoom meeting on September 21 from 7:00 – 8:30 pm\nJoin Zoom Meeting:  https://us02web.zoom.us/j/84073405565?pwd= M09hOS94K2JUWXgxaE41VGR1azA5UT09\nMeeting ID: 840 7340 5565\nPasscode: 730826\n+1 646 558 8656 US (New York) \nFREE TO ATTEND – ALL ARE WELCOME\nwww.parentnetworkwny.org or (716) 332-4170 or info@parentnetworkwny.org
URL:https://autismwny.org/event/family-caregiver-niagara-autism-group-16/
CATEGORIES:Support Groups
ORGANIZER;CN="Empower":MAILTO:info@empower-wny.org
END:VEVENT
BEGIN:VEVENT
DTSTART;TZID=America/New_York:20200923T190000
DTEND;TZID=America/New_York:20200923T200000
DTSTAMP:20260423T221245
CREATED:20200423T152346Z
LAST-MODIFIED:20200820T204208Z
UID:3803-1600887600-1600891200@autismwny.org
SUMMARY:Charla con Nosotros!
DESCRIPTION:¡Únase a nosotros para obtener respuestas a sus preguntas e inquietudes! \nResponderemos sus preguntas sobre… \nCharla con Nosotros! ¡Únase a nosotros para obtener respuestas a sus preguntas e inquietudes!\n• Transiciones \n• Educación Especial y Discapacidades \n• Manejo de tiempo en el Hogar \n• Trabajo Escolar \n• Comportamiento \n• Tecnología \n• Recursos en Buffalo \n• ¡Y cualquier otro tema que quieras discutir! \nSesiones Semanales de Charla Con Lizarelis Ali! \nACERCA DE LA ANFITRIONA: Lizarelis Ali es especialista en apoyo familiar en Parent Network of WNY.  Ella ha estado trabajando con las familias en la ciudad de Buffalo por más de 20 años.  Su esperiencia es en apoyar y guiar a las familias en las comunidades que tienen hijos con autismo\, ADHD y problemas de aprendizaje. \nUnirse a la Zoom reunión https://zoom.us/j/95683049386?pwd=OGNhVzF4Z2IzSHc0SFV3R1loRXRDdz09\nReunión ID:  956 8304 9386\nContraseña:  811333\nMarque por su ubicación\n+1 646 558 8656 US (New York)
URL:https://autismwny.org/event/charla-con-nosotros/
CATEGORIES:Support Groups
END:VEVENT
BEGIN:VEVENT
DTSTART;TZID=America/New_York:20200924T180000
DTEND;TZID=America/New_York:20200924T193000
DTSTAMP:20260423T221245
CREATED:20200902T222040Z
LAST-MODIFIED:20200902T222040Z
UID:4332-1600970400-1600975800@autismwny.org
SUMMARY:Chautauqua County Family & Caregiver Support Group
DESCRIPTION:PURPOSE:  Provide a welcoming environment for parents\, family members and other caregivers of individuals with developmental disabilities to meet\, share experiences\, ask questions and receive support. \nOnline Meeting:  Thursday\, September 24\, 2020 from 6:00 pm to 7:30 pm\nJoin Zoom Meeting:  https://us02web.zoom.us/j/82679660440? pwd=VlJsWE9OVjI0ODIwK1E0c2dCNDBM dz09\nMeeting ID: 826 7966 0440\nPassword: 028188\nOne tap mobile:+19292056099\,\,82679660440#\,\,1#\,028188#\nUS (New York) \nIf you have any questions contact us at (716) 332-4170 or info@parentnetworkwny.org or join the group on Facebook for future dates\, helpful hints and links CHQ Support Group for Parents/Caregivers of Children with Special Needs.
URL:https://autismwny.org/event/chautauqua-county-family-caregiver-support-group-7/
CATEGORIES:Support Groups
END:VEVENT
BEGIN:VEVENT
DTSTART;TZID=America/New_York:20200924T190000
DTEND;TZID=America/New_York:20200924T200000
DTSTAMP:20260423T221245
CREATED:20200530T231642Z
LAST-MODIFIED:20200820T204944Z
UID:3968-1600974000-1600977600@autismwny.org
SUMMARY:BUFFALO PARENT & CAREGIVER CHAT SESSIONS
DESCRIPTION:Buffalo Families! We are here to answer your questions and concerns on a wide range of topics including\n• Transitions\n• Meltdowns\n• Time Management\n• Technology Needs\n• Guidance to Resources in Buffalo\n• And Any Other Topics\, General Questions or Concerns! \nWeekly Live Chats with Kim Hernandez & Lizarelis Ali! \nKim Hernandez is a Family Support Specialist at Parent Network of WNY.  She has been working with the families in the city of Buffalo for over 17 years.  Her expertise is supporting families from disadvantaged communities who have children with a variety of disabilities. \nLizarelis Ali is a Family Support Specialist at Parent Network of WNY.  She has been working with the families in the city of Buffalo for over 20 years.  Her expertise is supporting families from disadvantaged communities who have children with autism\, ADHD and learning disabilities. \nJoin from your computer\, tablet or smartphone:  https://global.gotomeeting.com/ join/174359397 \nNew to GoToMeeting? Get the app now and be ready when your first meeting starts:  https://global.gotomeeting.com/ install/174359397 \nYou can also dial in using your phone. United States: +1 (872) 240-3212 Access Code: 174-359-39
URL:https://autismwny.org/event/buffalo-parent-caregiver-chat-sessions-5/
CATEGORIES:Support Groups
END:VEVENT
BEGIN:VEVENT
DTSTART;TZID=America/New_York:20200930T190000
DTEND;TZID=America/New_York:20200930T200000
DTSTAMP:20260423T221245
CREATED:20200618T220802Z
LAST-MODIFIED:20200820T204323Z
UID:4064-1601492400-1601496000@autismwny.org
SUMMARY:Charla con Nosotros!
DESCRIPTION:¡Únase a nosotros para obtener respuestas a sus preguntas e inquietudes! \nResponderemos sus preguntas sobre… \nCharla con Nosotros! ¡Únase a nosotros para obtener respuestas a sus preguntas e inquietudes!\n• Transiciones \n• Educación Especial y Discapacidades \n• Manejo de tiempo en el Hogar \n• Trabajo Escolar \n• Comportamiento \n• Tecnología \n• Recursos en Buffalo \n• ¡Y cualquier otro tema que quieras discutir! \nSesiones Semanales de Charla Con Lizarelis Ali! \nACERCA DE LA ANFITRIONA: Lizarelis Ali es especialista en apoyo familiar en Parent Network of WNY.  Ella ha estado trabajando con las familias en la ciudad de Buffalo por más de 20 años.  Su esperiencia es en apoyar y guiar a las familias en las comunidades que tienen hijos con autismo\, ADHD y problemas de aprendizaje. \nUnirse a la Zoom reunión https://zoom.us/j/95683049386?pwd=OGNhVzF4Z2IzSHc0SFV3R1loRXRDdz09\nReunión ID:  956 8304 9386\nContraseña:  811333\nMarque por su ubicación\n+1 646 558 8656 US (New York)
URL:https://autismwny.org/event/charla-con-nosotros-3/
CATEGORIES:Support Groups
END:VEVENT
END:VCALENDAR