BEGIN:VCALENDAR
VERSION:2.0
PRODID:-//Autism Society Western New York - ECPv6.0.10//NONSGML v1.0//EN
CALSCALE:GREGORIAN
METHOD:PUBLISH
X-ORIGINAL-URL:https://autismwny.org
X-WR-CALDESC:Events for Autism Society Western New York
REFRESH-INTERVAL;VALUE=DURATION:PT1H
X-Robots-Tag:noindex
X-PUBLISHED-TTL:PT1H
BEGIN:VTIMEZONE
TZID:America/New_York
BEGIN:DAYLIGHT
TZOFFSETFROM:-0500
TZOFFSETTO:-0400
TZNAME:EDT
DTSTART:20200308T070000
END:DAYLIGHT
BEGIN:STANDARD
TZOFFSETFROM:-0400
TZOFFSETTO:-0500
TZNAME:EST
DTSTART:20201101T060000
END:STANDARD
END:VTIMEZONE
BEGIN:VEVENT
DTSTART;TZID=America/New_York:20200702T190000
DTEND;TZID=America/New_York:20200702T210000
DTSTAMP:20260424T010242
CREATED:20200423T154747Z
LAST-MODIFIED:20200618T214915Z
UID:3805-1593716400-1593723600@autismwny.org
SUMMARY:BUFFALO PARENT & CAREGIVER CHAT SESSIONS
DESCRIPTION:Join us at our weekly chat sessions to discuss your questions & concerns. \nBuffalo Families! We are here to answer your questions and concerns on a wide range of topics including\n• Transitions\n• Meltdowns\n• Time Management\n• Technology Needs\n• Guidance to Resources in Buffalo\n• And Any Other Topics\, General Questions or Concerns! \nWeekly Live Chats with Kim Hernandez & Lizarelis Ali! \nJoin from your computer\, tablet or smartphone:  https://global.gotomeeting.com/ join/174359397\nYou can also dial in using your phone.  United States: +1 (872) 240-3212  Access Code: 174-359-39\nNew to GoToMeeting?  Get the app now and be ready when your first meeting starts:  https://global.gotomeeting.com/ install/174359397 \n  \nAbout your hosts: \nKim Hernandez is a Family Support Specialist at Parent Network of WNY.  She has been working with the families in the city of Buffalo for over 17 years.  Her expertise is supporting families from disadvantaged communities who have children with a variety of disabilities. \nLizarelis Ali is a Family Support Specialist at Parent Network of WNY.  She has been working with the families in the city of Buffalo for over 20 years.  Her expertise is supporting families from disadvantaged communities who have children with autism\, ADHD and learning disabilities. \ninfo@parentnetworkwny.org  716-332-4170  parentnetworkwny.org
URL:https://autismwny.org/event/buffalo-parent-caregiver-chat-sessions/
CATEGORIES:Support Groups
END:VEVENT
BEGIN:VEVENT
DTSTART;TZID=America/New_York:20200706T190000
DTEND;TZID=America/New_York:20200706T210000
DTSTAMP:20260424T010242
CREATED:20200702T214138Z
LAST-MODIFIED:20200702T214138Z
UID:4078-1594062000-1594069200@autismwny.org
SUMMARY:FAMILY & CAREGIVER NIAGARA AUTISM GROUP
DESCRIPTION:PURPOSE:  Provide a welcoming environment for parents and other caregivers of children with autism spectrum disorders to meet\, share experiences\, ask questions and receive support. \nJULY 2020\nPracticing Social Distancing but still need to talk?  We will be meeting via conference call!\nJuly 6th & July 20th\nTime: 7:00- 9:00 pm\nCall – (716) 332-4112 – pw is 1234# \nFREE TO ATTEND – ALL ARE WELCOME.
URL:https://autismwny.org/event/family-caregiver-niagara-autism-group-11/
CATEGORIES:Support Groups
ORGANIZER;CN="Empower":MAILTO:info@empower-wny.org
END:VEVENT
BEGIN:VEVENT
DTSTART;TZID=America/New_York:20200709T183000
DTEND;TZID=America/New_York:20200709T200000
DTSTAMP:20260424T010242
CREATED:20200512T193843Z
LAST-MODIFIED:20200618T220007Z
UID:3886-1594319400-1594324800@autismwny.org
SUMMARY:Chautauqua County Family & Caregiver Support Group
DESCRIPTION:PURPOSE: Provide a welcoming environment for parents\, family members and other caregivers of individuals with developmental disabilities to meet\, share experiences\, ask questions\, and receive support. \nThursday\, July 9\nTIME:  6:30 –8:00 PM \nJoin Zoom Meeting:   https://us02web.zoom.us/j/8267966044 0?pwd=VlJsWE9OVjI0ODIwK1E0c2dCN DBMdz09\nMeeting ID: 826 7966 0440\nPassword: 028188\nOne tap mobile\n+19292056099\,\,82679660440#\,\,1#\,0281 88# US (New York)
URL:https://autismwny.org/event/chautauqua-county-family-caregiver-support-group-2/
CATEGORIES:Support Groups
END:VEVENT
BEGIN:VEVENT
DTSTART;TZID=America/New_York:20200709T190000
DTEND;TZID=America/New_York:20200709T200000
DTSTAMP:20260424T010242
CREATED:20200530T230443Z
LAST-MODIFIED:20200618T214810Z
UID:3966-1594321200-1594324800@autismwny.org
SUMMARY:BUFFALO PARENT & CAREGIVER CHAT SESSIONS
DESCRIPTION:Buffalo Families! We are here to answer your questions and concerns on a wide range of topics including\n• Transitions\n• Meltdowns\n• Time Management\n• Technology Needs\n• Guidance to Resources in Buffalo\n• And Any Other Topics\, General Questions or Concerns! \nWeekly Live Chats with Kim Hernandez & Lizarelis Ali! \nKim Hernandez is a Family Support Specialist at Parent Network of WNY.  She has been working with the families in the city of Buffalo for over 17 years.  Her expertise is supporting families from disadvantaged communities who have children with a variety of disabilities. \nLizarelis Ali is a Family Support Specialist at Parent Network of WNY.  She has been working with the families in the city of Buffalo for over 20 years.  Her expertise is supporting families from disadvantaged communities who have children with autism\, ADHD and learning disabilities. \nJoin from your computer\, tablet or smartphone:  https://global.gotomeeting.com/ join/174359397 \nNew to GoToMeeting? Get the app now and be ready when your first meeting starts:  https://global.gotomeeting.com/ install/174359397 \nYou can also dial in using your phone. United States: +1 (872) 240-3212 Access Code: 174-359-39
URL:https://autismwny.org/event/buffalo-parent-caregiver-chat-sessions-4/
CATEGORIES:Support Groups
END:VEVENT
BEGIN:VEVENT
DTSTART;TZID=America/New_York:20200710T130000
DTEND;TZID=America/New_York:20200710T143000
DTSTAMP:20260424T010242
CREATED:20200702T221113Z
LAST-MODIFIED:20200702T221139Z
UID:4089-1594386000-1594391400@autismwny.org
SUMMARY:FAMILY & CAREGIVER GROUP for Parents of Children with Developmental Disabilities
DESCRIPTION:PURPOSE\nProvide a welcoming environment for parents\, family members and other caregivers of individuals with developmental disabilities to meet\, share experiences\, ask questions and receive support. \nDATES\nFriday\, July 10\, 2020\nFriday \, July 24\, 2020\nFriday\, August 7\, 2020\nFriday\, August 21\, 2020 \nTIME:  1:00 –2:30 PM \nWILL BE USING GO-TO MEETING:  Please join my meeting from your computer\, tablet or smartphone.\nhttps://global.gotomeeting.com/join/805112789\nYou can also dial in using your phone.\nUnited States: +1 (312) 757-3121\nAccess Code: 805-112-789\nNew to GoToMeeting? Get the app now and be ready when your first meeting starts:\nhttps://global.gotomeeting.com/install/805112789
URL:https://autismwny.org/event/family-caregiver-group-for-parents-of-children-with-developmental-disabilities-18/
CATEGORIES:Support Groups
END:VEVENT
BEGIN:VEVENT
DTSTART;TZID=America/New_York:20200715T183000
DTEND;TZID=America/New_York:20200715T193000
DTSTAMP:20260424T010242
CREATED:20200705T145856Z
LAST-MODIFIED:20200705T145856Z
UID:4118-1594837800-1594841400@autismwny.org
SUMMARY:Family & Caregiver Erie Parents of Children with Autism Group
DESCRIPTION:Purpose:  Provide a welcoming environment for parents and other caregivers of children with autism spectrum disorders to meet\, share experiences\, ask questions\, and receive support. \nPractice social distancing\, but still need to talk?  Kathy Doody is inviting you to a scheduled Zoom meeting. \nJoin Zoom meeting:  https://tinyurl.com/Au-SomeParents \nMeeting ID:  91290881958 \nPassword:  Ausomeness \nFree to attend.  All are welcome.
URL:https://autismwny.org/event/family-caregiver-erie-parents-of-children-with-autism-group/
CATEGORIES:Support Groups
END:VEVENT
BEGIN:VEVENT
DTSTART;TZID=America/New_York:20200716T190000
DTEND;TZID=America/New_York:20200716T203000
DTSTAMP:20260424T010242
CREATED:20200501T010455Z
LAST-MODIFIED:20200618T214428Z
UID:3851-1594926000-1594931400@autismwny.org
SUMMARY:BUFFALO PARENT & CAREGIVER LIVE CHAT SESSION
DESCRIPTION:Join us at our weekly chat sessions to discuss your questions & concerns. \nBuffalo Families!  We are here to answer your questions and concerns on a wide range of topics including\n• Transitions \n• Meltdowns \n• Time Management \n• Technology Needs \n• Guidance to Resources in Buffalo \n• And Any Other Topics\, General Questions or Concerns! \nABOUT THE HOSTS \nKim Hernandez is a Family Support Specialist at Parent Network of WNY.  She has been working with the families in the city of Buffalo for over 17 years.  Her expertise is supporting families from disadvantaged communities who have children with a variety of disabilities. \nLizarelis Ali is a Family Support Specialist at Parent Network of WNY.  She has been working with the families in the city of Buffalo for over 20 years.  Her expertise is supporting families from disadvantaged communities who have children with autism\, ADHD and learning disabilities. \nJoin from your computer\, tablet or smartphone: https://global.gotomeeting.com/ join/174359397 \nNew to GoToMeeting? Get the app now and be ready when your first meeting starts: https://global.gotomeeting.com/ install/174359397 \nYou can also dial in using your phone. United States: +1 (872) 240-3212 \nAccess Code: 174-359-39
URL:https://autismwny.org/event/buffalo-parent-caregiver-live-chat-session/
CATEGORIES:Support Groups
END:VEVENT
BEGIN:VEVENT
DTSTART;TZID=America/New_York:20200720T190000
DTEND;TZID=America/New_York:20200720T210000
DTSTAMP:20260424T010242
CREATED:20200702T214444Z
LAST-MODIFIED:20200702T214444Z
UID:4080-1595271600-1595278800@autismwny.org
SUMMARY:FAMILY & CAREGIVER NIAGARA AUTISM GROUP
DESCRIPTION:PURPOSE:  Provide a welcoming environment for parents and other caregivers of children with autism spectrum disorders to meet\, share experiences\, ask questions and receive support. \nJULY 2020\nPracticing Social Distancing but still need to talk?  We will be meeting via conference call!\nJuly 20th\nTime: 7:00- 9:00 pm\nCall – (716) 332-4112 – pw is 1234# \nFREE TO ATTEND – ALL ARE WELCOME.
URL:https://autismwny.org/event/family-caregiver-niagara-autism-group-14/
CATEGORIES:Support Groups
ORGANIZER;CN="Empower":MAILTO:info@empower-wny.org
END:VEVENT
BEGIN:VEVENT
DTSTART;TZID=America/New_York:20200723T183000
DTEND;TZID=America/New_York:20200723T200000
DTSTAMP:20260424T010242
CREATED:20200531T005451Z
LAST-MODIFIED:20200618T215307Z
UID:3984-1595529000-1595534400@autismwny.org
SUMMARY:Chautauqua County Family & Caregiver Support Group
DESCRIPTION:PURPOSE:  Provide a welcoming environment for parents\, family members and other caregivers of individuals with developmental disabilities to meet\, share experiences\, ask questions and receive support. \nJoin Zoom Meeting:  https://us02web.zoom.us/j/8267966044 0?pwd=VlJsWE9OVjI0ODIwK1E0c2dCN DBMdz09\nMeeting ID: 826 7966 0440\nPassword: 028188\nOne tap mobile\n+19292056099\,\,82679660440#\,\,1#\,0281\n88# US (New York) \n  \n 
URL:https://autismwny.org/event/chautauqua-county-family-caregiver-support-group-3/
CATEGORIES:Support Groups
END:VEVENT
BEGIN:VEVENT
DTSTART;TZID=America/New_York:20200723T190000
DTEND;TZID=America/New_York:20200723T203000
DTSTAMP:20260424T010242
CREATED:20200530T225708Z
LAST-MODIFIED:20200618T214530Z
UID:3964-1595530800-1595536200@autismwny.org
SUMMARY:BUFFALO PARENT & CAREGIVER CHAT SESSIONS
DESCRIPTION:Buffalo Families! We are here to answer your questions and concerns on a wide range of topics including\n• Transitions\n• Meltdowns\n• Time Management\n• Technology Needs\n• Guidance to Resources in Buffalo\n• And Any Other Topics\, General Questions or Concerns! \nWeekly Live Chats with Kim Hernandez & Lizarelis Ali! \nKim Hernandez is a Family Support Specialist at Parent Network of WNY.  She has been working with the families in the city of Buffalo for over 17 years.  Her expertise is supporting families from disadvantaged communities who have children with a variety of disabilities. \nLizarelis Ali is a Family Support Specialist at Parent Network of WNY.  She has been working with the families in the city of Buffalo for over 20 years.  Her expertise is supporting families from disadvantaged communities who have children with autism\, ADHD and learning disabilities. \nJoin from your computer\, tablet or smartphone:  https://global.gotomeeting.com/ join/174359397 \nNew to GoToMeeting?  Get the app now and be ready when your first meeting starts:  https://global.gotomeeting.com/ install/174359397\nYou can also dial in using your phone.\nUnited States: +1 (872) 240-3212\nAccess Code: 174-359-39
URL:https://autismwny.org/event/buffalo-parent-caregiver-chat-sessions-3/
CATEGORIES:Support Groups
END:VEVENT
BEGIN:VEVENT
DTSTART;TZID=America/New_York:20200724T130000
DTEND;TZID=America/New_York:20200724T143000
DTSTAMP:20260424T010242
CREATED:20200702T221355Z
LAST-MODIFIED:20200702T221355Z
UID:4092-1595595600-1595601000@autismwny.org
SUMMARY:FAMILY & CAREGIVER GROUP for Parents of Children with Developmental Disabilities
DESCRIPTION:PURPOSE\nProvide a welcoming environment for parents\, family members and other caregivers of individuals with developmental disabilities to meet\, share experiences\, ask questions and receive support. \nDATES\nFriday \, July 24\, 2020\nFriday\, August 7\, 2020\nFriday\, August 21\, 2020 \nTIME:  1:00 –2:30 PM \nWILL BE USING GO-TO MEETING:  Please join my meeting from your computer\, tablet or smartphone.\nhttps://global.gotomeeting.com/join/805112789\nYou can also dial in using your phone.\nUnited States: +1 (312) 757-3121\nAccess Code: 805-112-789\nNew to GoToMeeting? Get the app now and be ready when your first meeting starts:\nhttps://global.gotomeeting.com/install/805112789
URL:https://autismwny.org/event/family-caregiver-group-for-parents-of-children-with-developmental-disabilities-19/
CATEGORIES:Support Groups
END:VEVENT
BEGIN:VEVENT
DTSTART;TZID=America/New_York:20200730T190000
DTEND;TZID=America/New_York:20200730T203000
DTSTAMP:20260424T010242
CREATED:20200512T211045Z
LAST-MODIFIED:20200618T214621Z
UID:3913-1596135600-1596141000@autismwny.org
SUMMARY:BUFFALO PARENT & CAREGIVER CHAT SESSIONS
DESCRIPTION:Join us at our weekly chat sessions to discuss your questions & concerns.  Buffalo Families! We are here to answer your questions and concerns on a wide range of topics including\n• Transitions \n• Meltdowns \n• Time Management \n• Technology Needs \n• Guidance to Resources in Buffalo \n• And Any Other Topics\, General Questions or Concerns! \nABOUT THE HOSTS \nKim Hernandez is a Family Support Specialist at Parent Network of WNY.  She has been working with the families in the city of Buffalo for over 17 years.  Her expertise is supporting families from disadvantaged communities who have children with a variety of disabilities. \nLizarelis Ali is a Family Support Specialist at Parent Network of WNY.  She has been working with the families in the city of Buffalo for over 20 years.  Her expertise is supporting families from disadvantaged communities who have children with autism\, ADHD and learning disabilities. \nJoin from your computer\, tablet or smartphone:  https://global.gotomeeting.com/ join/174359397\nYou can also dial in using your phone. United States: +1 (872) 240-3212 Access Code: 174-359-39\nNew to GoToMeeting? Get the app now and be ready when your first meeting starts:  https://global.gotomeeting.com/ install/174359397
URL:https://autismwny.org/event/buffalo-parent-caregiver-chat-sessions-2/
CATEGORIES:Support Groups
END:VEVENT
END:VCALENDAR